BEGIN:VCALENDAR
VERSION:2.0
PRODID:-//Suq Genova - ECPv6.15.20//NONSGML v1.0//EN
CALSCALE:GREGORIAN
METHOD:PUBLISH
X-ORIGINAL-URL:https://www.suqgenova.it
X-WR-CALDESC:Eventi per Suq Genova
REFRESH-INTERVAL;VALUE=DURATION:PT1H
X-Robots-Tag:noindex
X-PUBLISHED-TTL:PT1H
BEGIN:VTIMEZONE
TZID:UTC
BEGIN:STANDARD
TZOFFSETFROM:+0000
TZOFFSETTO:+0000
TZNAME:UTC
DTSTART:20160101T000000
END:STANDARD
END:VTIMEZONE
BEGIN:VEVENT
DTSTART;TZID=UTC:20170621T170000
DTEND;TZID=UTC:20170621T200000
DTSTAMP:20260420T204003
CREATED:20170607T122534Z
LAST-MODIFIED:20170607T122534Z
UID:20069-1498064400-1498075200@www.suqgenova.it
SUMMARY:Tenda della Sosta
DESCRIPTION:Dalle 17 alle 20 ogni giorno si può sostare in modo attivo: incontri con associazioni e progetti\, laboratori\, gruppi di lettura\, iniziative “last minute\n> ore 17\nEcoSuq\nCOSTRUIAMO UNA MARACAS\nLaboratorio per bambini Alla scoperta del Marte-BI a cura di Marta Antonucci\n>ore 18\nPresentazione al pubblico delle attività di Cooperativa Boschivivi\, Cooperativa Ziguele e Cooperativa Agricola Sociale Ortocircuito
URL:https://www.suqgenova.it/archivio-evento/tenda-della-sosta-21-3/
CATEGORIES:Suq Festival 2017,Tenda della Sosta
ATTACH;FMTTYPE=image/jpeg:https://www.suqgenova.it/wp-content/uploads/2017/06/tenda-berbera-scaled.jpg
END:VEVENT
BEGIN:VEVENT
DTSTART;TZID=UTC:20170621T170000
DTEND;TZID=UTC:20170621T200000
DTSTAMP:20260420T204003
CREATED:20170607T122534Z
LAST-MODIFIED:20170607T122534Z
UID:19523-1498064400-1498075200@www.suqgenova.it
SUMMARY:Tenda della Sosta
DESCRIPTION:Dalle 17 alle 20 ogni giorno si può sostare in modo attivo: incontri con associazioni e progetti\, laboratori\, gruppi di lettura\, iniziative “last minute\n> ore 17\nEcoSuq\nCOSTRUIAMO UNA MARACAS\nLaboratorio per bambini Alla scoperta del Marte-BI a cura di Marta Antonucci\n>ore 18\nPresentazione al pubblico delle attività di Cooperativa Boschivivi\, Cooperativa Ziguele e Cooperativa Agricola Sociale Ortocircuito
URL:https://www.suqgenova.it/archivio-evento/tenda-della-sosta-21-2/
CATEGORIES:Suq Festival 2017,Tenda della Sosta
ATTACH;FMTTYPE=image/jpeg:https://www.suqgenova.it/wp-content/uploads/2017/06/tenda-berbera-scaled.jpg
END:VEVENT
BEGIN:VEVENT
DTSTART;TZID=UTC:20170621T170000
DTEND;TZID=UTC:20170621T200000
DTSTAMP:20260420T204003
CREATED:20170607T122534Z
LAST-MODIFIED:20170607T122534Z
UID:5388-1498064400-1498075200@www.suqgenova.it
SUMMARY:Tenda della Sosta
DESCRIPTION:Dalle 17 alle 20 ogni giorno si può sostare in modo attivo: incontri con associazioni e progetti\, laboratori\, gruppi di lettura\, iniziative “last minute\n> ore 17\nEcoSuq\nCOSTRUIAMO UNA MARACAS\nLaboratorio per bambini Alla scoperta del Marte-BI a cura di Marta Antonucci\n>ore 18\nPresentazione al pubblico delle attività di Cooperativa Boschivivi\, Cooperativa Ziguele e Cooperativa Agricola Sociale Ortocircuito
URL:https://www.suqgenova.it/archivio-evento/tenda-della-sosta-21/
CATEGORIES:Suq Festival 2017,Tenda della Sosta
ATTACH;FMTTYPE=image/jpeg:https://www.suqgenova.it/wp-content/uploads/2017/06/tenda-berbera-scaled.jpg
END:VEVENT
BEGIN:VEVENT
DTSTART;TZID=UTC:20170620T170000
DTEND;TZID=UTC:20170620T200000
DTSTAMP:20260420T204003
CREATED:20170607T114742Z
LAST-MODIFIED:20170607T114742Z
UID:19516-1497978000-1497988800@www.suqgenova.it
SUMMARY:Tenda della Sosta
DESCRIPTION:Dalle 17 alle 20 ogni giorno si può sostare in modo attivo: incontri con associazioni e progetti\, laboratori\, gruppi di lettura\, iniziative “last minute”\n> ore 19 Incontro con Refugees Welcome Italia Onlus: una nuova cultura dell’accoglienza
URL:https://www.suqgenova.it/archivio-evento/tenda-della-sosta-20-2/
CATEGORIES:Suq Festival 2017,Tenda della Sosta
ATTACH;FMTTYPE=image/jpeg:https://www.suqgenova.it/wp-content/uploads/2017/06/tenda-berbera-scaled.jpg
END:VEVENT
BEGIN:VEVENT
DTSTART;TZID=UTC:20170620T170000
DTEND;TZID=UTC:20170620T200000
DTSTAMP:20260420T204003
CREATED:20170607T114742Z
LAST-MODIFIED:20170607T114742Z
UID:5369-1497978000-1497988800@www.suqgenova.it
SUMMARY:Tenda della Sosta
DESCRIPTION:Dalle 17 alle 20 ogni giorno si può sostare in modo attivo: incontri con associazioni e progetti\, laboratori\, gruppi di lettura\, iniziative “last minute”\n> ore 19 Incontro con Refugees Welcome Italia Onlus: una nuova cultura dell’accoglienza
URL:https://www.suqgenova.it/archivio-evento/tenda-della-sosta-20/
CATEGORIES:Suq Festival 2017,Tenda della Sosta
ATTACH;FMTTYPE=image/jpeg:https://www.suqgenova.it/wp-content/uploads/2017/06/tenda-berbera-scaled.jpg
END:VEVENT
BEGIN:VEVENT
DTSTART;TZID=UTC:20170620T170000
DTEND;TZID=UTC:20170620T200000
DTSTAMP:20260420T204003
CREATED:20170607T114742Z
LAST-MODIFIED:20170607T114742Z
UID:20062-1497978000-1497988800@www.suqgenova.it
SUMMARY:Tenda della Sosta
DESCRIPTION:Dalle 17 alle 20 ogni giorno si può sostare in modo attivo: incontri con associazioni e progetti\, laboratori\, gruppi di lettura\, iniziative “last minute”\n> ore 19 Incontro con Refugees Welcome Italia Onlus: una nuova cultura dell’accoglienza
URL:https://www.suqgenova.it/archivio-evento/tenda-della-sosta-20-3/
CATEGORIES:Suq Festival 2017,Tenda della Sosta
ATTACH;FMTTYPE=image/jpeg:https://www.suqgenova.it/wp-content/uploads/2017/06/tenda-berbera-scaled.jpg
END:VEVENT
BEGIN:VEVENT
DTSTART;TZID=UTC:20170619T170000
DTEND;TZID=UTC:20170619T200000
DTSTAMP:20260420T204003
CREATED:20170607T110748Z
LAST-MODIFIED:20170607T110748Z
UID:5345-1497891600-1497902400@www.suqgenova.it
SUMMARY:Tenda della Sosta
DESCRIPTION:Dalle 17 alle 20 ogni giorno si può sostare in modo attivo: incontri con associazioni e progetti\, laboratori\, gruppi di lettura\, iniziative “last minute”\n> ore 18 Incontro con Green Peace\n> ore 18.30 Incontro con Centro per non subire violenza (da U.D.I.) onlus
URL:https://www.suqgenova.it/archivio-evento/tenda-della-sosta-19/
CATEGORIES:Tenda della Sosta
ATTACH;FMTTYPE=image/jpeg:https://www.suqgenova.it/wp-content/uploads/2017/06/tenda-berbera-scaled.jpg
END:VEVENT
BEGIN:VEVENT
DTSTART;TZID=UTC:20170619T170000
DTEND;TZID=UTC:20170619T200000
DTSTAMP:20260420T204003
CREATED:20170607T110748Z
LAST-MODIFIED:20170607T110748Z
UID:20053-1497891600-1497902400@www.suqgenova.it
SUMMARY:Tenda della Sosta
DESCRIPTION:Dalle 17 alle 20 ogni giorno si può sostare in modo attivo: incontri con associazioni e progetti\, laboratori\, gruppi di lettura\, iniziative “last minute”\n> ore 18 Incontro con Green Peace\n> ore 18.30 Incontro con Centro per non subire violenza (da U.D.I.) onlus
URL:https://www.suqgenova.it/archivio-evento/tenda-della-sosta-19-3/
CATEGORIES:Tenda della Sosta
ATTACH;FMTTYPE=image/jpeg:https://www.suqgenova.it/wp-content/uploads/2017/06/tenda-berbera-scaled.jpg
END:VEVENT
BEGIN:VEVENT
DTSTART;TZID=UTC:20170619T170000
DTEND;TZID=UTC:20170619T200000
DTSTAMP:20260420T204003
CREATED:20170607T110748Z
LAST-MODIFIED:20170607T110748Z
UID:19507-1497891600-1497902400@www.suqgenova.it
SUMMARY:Tenda della Sosta
DESCRIPTION:Dalle 17 alle 20 ogni giorno si può sostare in modo attivo: incontri con associazioni e progetti\, laboratori\, gruppi di lettura\, iniziative “last minute”\n> ore 18 Incontro con Green Peace\n> ore 18.30 Incontro con Centro per non subire violenza (da U.D.I.) onlus
URL:https://www.suqgenova.it/archivio-evento/tenda-della-sosta-19-2/
CATEGORIES:Tenda della Sosta
ATTACH;FMTTYPE=image/jpeg:https://www.suqgenova.it/wp-content/uploads/2017/06/tenda-berbera-scaled.jpg
END:VEVENT
BEGIN:VEVENT
DTSTART;TZID=UTC:20170618T170000
DTEND;TZID=UTC:20170618T200000
DTSTAMP:20260420T204003
CREATED:20170607T091625Z
LAST-MODIFIED:20170607T091625Z
UID:20046-1497805200-1497816000@www.suqgenova.it
SUMMARY:Tenda della Sosta
DESCRIPTION:Dalle 17 alle 20 ogni giorno si può sostare in modo attivo: incontri con associazioni e progetti\, laboratori\, gruppi di lettura\, iniziative “last minute”\n> ore 18 Incontro con Acuma Onlus – Volontariato internazionale
URL:https://www.suqgenova.it/archivio-evento/tenda-della-sosta-18-3/
CATEGORIES:Suq Festival 2017,Tenda della Sosta
ATTACH;FMTTYPE=image/jpeg:https://www.suqgenova.it/wp-content/uploads/2017/06/tenda-berbera-scaled.jpg
END:VEVENT
BEGIN:VEVENT
DTSTART;TZID=UTC:20170618T170000
DTEND;TZID=UTC:20170618T200000
DTSTAMP:20260420T204003
CREATED:20170607T091625Z
LAST-MODIFIED:20170607T091625Z
UID:19500-1497805200-1497816000@www.suqgenova.it
SUMMARY:Tenda della Sosta
DESCRIPTION:Dalle 17 alle 20 ogni giorno si può sostare in modo attivo: incontri con associazioni e progetti\, laboratori\, gruppi di lettura\, iniziative “last minute”\n> ore 18 Incontro con Acuma Onlus – Volontariato internazionale
URL:https://www.suqgenova.it/archivio-evento/tenda-della-sosta-18-2/
CATEGORIES:Suq Festival 2017,Tenda della Sosta
ATTACH;FMTTYPE=image/jpeg:https://www.suqgenova.it/wp-content/uploads/2017/06/tenda-berbera-scaled.jpg
END:VEVENT
BEGIN:VEVENT
DTSTART;TZID=UTC:20170618T170000
DTEND;TZID=UTC:20170618T200000
DTSTAMP:20260420T204003
CREATED:20170607T091625Z
LAST-MODIFIED:20170607T091625Z
UID:5301-1497805200-1497816000@www.suqgenova.it
SUMMARY:Tenda della Sosta
DESCRIPTION:Dalle 17 alle 20 ogni giorno si può sostare in modo attivo: incontri con associazioni e progetti\, laboratori\, gruppi di lettura\, iniziative “last minute”\n> ore 18 Incontro con Acuma Onlus – Volontariato internazionale
URL:https://www.suqgenova.it/archivio-evento/tenda-della-sosta-18/
CATEGORIES:Suq Festival 2017,Tenda della Sosta
ATTACH;FMTTYPE=image/jpeg:https://www.suqgenova.it/wp-content/uploads/2017/06/tenda-berbera-scaled.jpg
END:VEVENT
BEGIN:VEVENT
DTSTART;TZID=UTC:20170617T170000
DTEND;TZID=UTC:20170617T200000
DTSTAMP:20260420T204003
CREATED:20170616T094613Z
LAST-MODIFIED:20170616T094613Z
UID:19557-1497718800-1497729600@www.suqgenova.it
SUMMARY:Tenda della Sosta
DESCRIPTION:Dalle 17 alle 20 ogni giorno si può sostare in modo attivo: incontri con associazioni e progetti\, laboratori\, gruppi di lettura\, iniziative “last minute”\n> ore 18 Incontro con Associazione TRiciclo Bimbi a Basso Impatto\n> ore 19 La natura per la pelle. Presentazione dei cosmetici e tester per il pubblico\, a cura di Cosmetici B&R – Semplicemente Naturali
URL:https://www.suqgenova.it/archivio-evento/tenda-della-sosta-2-2/
CATEGORIES:Suq Festival 2017,Tenda della Sosta
ATTACH;FMTTYPE=image/jpeg:https://www.suqgenova.it/wp-content/uploads/2017/06/tenda-berbera-scaled.jpg
END:VEVENT
BEGIN:VEVENT
DTSTART;TZID=UTC:20170617T170000
DTEND;TZID=UTC:20170617T200000
DTSTAMP:20260420T204003
CREATED:20170616T094613Z
LAST-MODIFIED:20170616T094613Z
UID:5645-1497718800-1497729600@www.suqgenova.it
SUMMARY:Tenda della Sosta
DESCRIPTION:Dalle 17 alle 20 ogni giorno si può sostare in modo attivo: incontri con associazioni e progetti\, laboratori\, gruppi di lettura\, iniziative “last minute”\n> ore 18 Incontro con Associazione TRiciclo Bimbi a Basso Impatto\n> ore 19 La natura per la pelle. Presentazione dei cosmetici e tester per il pubblico\, a cura di Cosmetici B&R – Semplicemente Naturali
URL:https://www.suqgenova.it/archivio-evento/tenda-della-sosta-2/
CATEGORIES:Suq Festival 2017,Tenda della Sosta
ATTACH;FMTTYPE=image/jpeg:https://www.suqgenova.it/wp-content/uploads/2017/06/tenda-berbera-scaled.jpg
END:VEVENT
BEGIN:VEVENT
DTSTART;TZID=UTC:20170617T170000
DTEND;TZID=UTC:20170617T200000
DTSTAMP:20260420T204003
CREATED:20170616T094613Z
LAST-MODIFIED:20170616T094613Z
UID:20103-1497718800-1497729600@www.suqgenova.it
SUMMARY:Tenda della Sosta
DESCRIPTION:Dalle 17 alle 20 ogni giorno si può sostare in modo attivo: incontri con associazioni e progetti\, laboratori\, gruppi di lettura\, iniziative “last minute”\n> ore 18 Incontro con Associazione TRiciclo Bimbi a Basso Impatto\n> ore 19 La natura per la pelle. Presentazione dei cosmetici e tester per il pubblico\, a cura di Cosmetici B&R – Semplicemente Naturali
URL:https://www.suqgenova.it/archivio-evento/tenda-della-sosta-2-3/
CATEGORIES:Suq Festival 2017,Tenda della Sosta
ATTACH;FMTTYPE=image/jpeg:https://www.suqgenova.it/wp-content/uploads/2017/06/tenda-berbera-scaled.jpg
END:VEVENT
BEGIN:VEVENT
DTSTART;TZID=UTC:20170616T170000
DTEND;TZID=UTC:20170616T200000
DTSTAMP:20260420T204003
CREATED:20170616T075532Z
LAST-MODIFIED:20170616T075532Z
UID:19556-1497632400-1497643200@www.suqgenova.it
SUMMARY:Tenda della Sosta
DESCRIPTION:Dalle 17 alle 20 ogni giorno si può sostare in modo attivo: incontri con associazioni e progetti\, laboratori\, gruppi di lettura\, iniziative “last minute”\n> ore 18 Incontro con il Centro Antiviolenza Mascherona/Il Cerchio delle Relazioni\n> ore 19 Incontro con Laboratorio Migrazioni Comune di Genova
URL:https://www.suqgenova.it/archivio-evento/tenda-della-sosta-3/
CATEGORIES:Tenda della Sosta
ATTACH;FMTTYPE=image/jpeg:https://www.suqgenova.it/wp-content/uploads/2017/06/tenda-berbera-scaled.jpg
END:VEVENT
BEGIN:VEVENT
DTSTART;TZID=UTC:20170616T170000
DTEND;TZID=UTC:20170616T200000
DTSTAMP:20260420T204003
CREATED:20170616T075532Z
LAST-MODIFIED:20170616T075532Z
UID:5638-1497632400-1497643200@www.suqgenova.it
SUMMARY:Tenda della Sosta
DESCRIPTION:Dalle 17 alle 20 ogni giorno si può sostare in modo attivo: incontri con associazioni e progetti\, laboratori\, gruppi di lettura\, iniziative “last minute”\n> ore 18 Incontro con il Centro Antiviolenza Mascherona/Il Cerchio delle Relazioni\n> ore 19 Incontro con Laboratorio Migrazioni Comune di Genova
URL:https://www.suqgenova.it/archivio-evento/tenda-della-sosta/
CATEGORIES:Tenda della Sosta
ATTACH;FMTTYPE=image/jpeg:https://www.suqgenova.it/wp-content/uploads/2017/06/tenda-berbera-scaled.jpg
END:VEVENT
BEGIN:VEVENT
DTSTART;TZID=UTC:20170616T170000
DTEND;TZID=UTC:20170616T200000
DTSTAMP:20260420T204003
CREATED:20170616T075532Z
LAST-MODIFIED:20170616T075532Z
UID:20102-1497632400-1497643200@www.suqgenova.it
SUMMARY:Tenda della Sosta
DESCRIPTION:Dalle 17 alle 20 ogni giorno si può sostare in modo attivo: incontri con associazioni e progetti\, laboratori\, gruppi di lettura\, iniziative “last minute”\n> ore 18 Incontro con il Centro Antiviolenza Mascherona/Il Cerchio delle Relazioni\n> ore 19 Incontro con Laboratorio Migrazioni Comune di Genova
URL:https://www.suqgenova.it/archivio-evento/tenda-della-sosta-4/
CATEGORIES:Tenda della Sosta
ATTACH;FMTTYPE=image/jpeg:https://www.suqgenova.it/wp-content/uploads/2017/06/tenda-berbera-scaled.jpg
END:VEVENT
END:VCALENDAR