BEGIN:VCALENDAR
VERSION:2.0
PRODID:-//Suq Genova - ECPv6.15.20//NONSGML v1.0//EN
CALSCALE:GREGORIAN
METHOD:PUBLISH
X-ORIGINAL-URL:https://www.suqgenova.it
X-WR-CALDESC:Eventi per Suq Genova
REFRESH-INTERVAL;VALUE=DURATION:PT1H
X-Robots-Tag:noindex
X-PUBLISHED-TTL:PT1H
BEGIN:VTIMEZONE
TZID:UTC
BEGIN:STANDARD
TZOFFSETFROM:+0000
TZOFFSETTO:+0000
TZNAME:UTC
DTSTART:20160101T000000
END:STANDARD
END:VTIMEZONE
BEGIN:VEVENT
DTSTART;TZID=UTC:20170617T213000
DTEND;TZID=UTC:20170617T213000
DTSTAMP:20260420T223350
CREATED:20170606T125742Z
LAST-MODIFIED:20170606T125742Z
UID:5264-1497735000-1497735000@www.suqgenova.it
SUMMARY:Di suoni e d'asfalto
DESCRIPTION:Teatro del dialogo\nCon Eugenio Allegri e Les Nuages Ensemble\nAnnarita Crescente violino\, Elisabetta Bosio contrabbasso\,\nLucia Marino clarinetto\, Alessandra Osella fisarmonica\nRegia Eugenio Allegri \nProduzione Cooperativa CMC\nApre la rassegna teatrale del festival uno spettacolo che è un viaggio musicale e teatrale attraverso la letteratura dei grandi scrittori: Miller\, Kerouac\, Soldati\, Chatwin\, Calvino… e la suggestione dei suoni berberi\, klezmer\, mediorientali e del tango. L’arte affabulatoria di Allegri e un quartetto di musiciste per un territorio di scoperta particolarmente emozionale. \nUlteriori informazioni nella pagina dedicata al Teatro del DIalogo
URL:https://www.suqgenova.it/archivio-evento/di-suoni-e-dasfalto/
CATEGORIES:Suq Festival 2017,Teatro del Dialogo
ATTACH;FMTTYPE=image/bmp:https://www.suqgenova.it/wp-content/uploads/2017/05/di-suoni-e-dasfalto-foto-4.bmp
END:VEVENT
BEGIN:VEVENT
DTSTART;TZID=UTC:20170617T213000
DTEND;TZID=UTC:20170617T213000
DTSTAMP:20260420T223350
CREATED:20170606T125742Z
LAST-MODIFIED:20170606T125742Z
UID:20035-1497735000-1497735000@www.suqgenova.it
SUMMARY:Di suoni e d'asfalto
DESCRIPTION:Teatro del dialogo\nCon Eugenio Allegri e Les Nuages Ensemble\nAnnarita Crescente violino\, Elisabetta Bosio contrabbasso\,\nLucia Marino clarinetto\, Alessandra Osella fisarmonica\nRegia Eugenio Allegri \nProduzione Cooperativa CMC\nApre la rassegna teatrale del festival uno spettacolo che è un viaggio musicale e teatrale attraverso la letteratura dei grandi scrittori: Miller\, Kerouac\, Soldati\, Chatwin\, Calvino… e la suggestione dei suoni berberi\, klezmer\, mediorientali e del tango. L’arte affabulatoria di Allegri e un quartetto di musiciste per un territorio di scoperta particolarmente emozionale. \nUlteriori informazioni nella pagina dedicata al Teatro del DIalogo
URL:https://www.suqgenova.it/archivio-evento/di-suoni-e-dasfalto-3/
CATEGORIES:Suq Festival 2017,Teatro del Dialogo
ATTACH;FMTTYPE=image/bmp:https://www.suqgenova.it/wp-content/uploads/2017/05/di-suoni-e-dasfalto-foto-4.bmp
END:VEVENT
BEGIN:VEVENT
DTSTART;TZID=UTC:20170617T213000
DTEND;TZID=UTC:20170617T213000
DTSTAMP:20260420T223350
CREATED:20170606T125742Z
LAST-MODIFIED:20170606T125742Z
UID:19489-1497735000-1497735000@www.suqgenova.it
SUMMARY:Di suoni e d'asfalto
DESCRIPTION:Teatro del dialogo\nCon Eugenio Allegri e Les Nuages Ensemble\nAnnarita Crescente violino\, Elisabetta Bosio contrabbasso\,\nLucia Marino clarinetto\, Alessandra Osella fisarmonica\nRegia Eugenio Allegri \nProduzione Cooperativa CMC\nApre la rassegna teatrale del festival uno spettacolo che è un viaggio musicale e teatrale attraverso la letteratura dei grandi scrittori: Miller\, Kerouac\, Soldati\, Chatwin\, Calvino… e la suggestione dei suoni berberi\, klezmer\, mediorientali e del tango. L’arte affabulatoria di Allegri e un quartetto di musiciste per un territorio di scoperta particolarmente emozionale. \nUlteriori informazioni nella pagina dedicata al Teatro del DIalogo
URL:https://www.suqgenova.it/archivio-evento/di-suoni-e-dasfalto-2/
CATEGORIES:Suq Festival 2017,Teatro del Dialogo
ATTACH;FMTTYPE=image/bmp:https://www.suqgenova.it/wp-content/uploads/2017/05/di-suoni-e-dasfalto-foto-4.bmp
END:VEVENT
END:VCALENDAR