BEGIN:VCALENDAR
VERSION:2.0
PRODID:-//Suq Genova - ECPv6.15.20//NONSGML v1.0//EN
CALSCALE:GREGORIAN
METHOD:PUBLISH
X-ORIGINAL-URL:https://www.suqgenova.it
X-WR-CALDESC:Eventi per Suq Genova
REFRESH-INTERVAL;VALUE=DURATION:PT1H
X-Robots-Tag:noindex
X-PUBLISHED-TTL:PT1H
BEGIN:VTIMEZONE
TZID:UTC
BEGIN:STANDARD
TZOFFSETFROM:+0000
TZOFFSETTO:+0000
TZNAME:UTC
DTSTART:20160101T000000
END:STANDARD
END:VTIMEZONE
BEGIN:VEVENT
DTSTART;TZID=UTC:20170622T210000
DTEND;TZID=UTC:20170622T210000
DTSTAMP:20260420T214011
CREATED:20170607T130505Z
LAST-MODIFIED:20170607T130505Z
UID:5405-1498165200-1498165200@www.suqgenova.it
SUMMARY:Il giro del mondo in 257 giorni
DESCRIPTION:Mimma Gallina con Pietro Tarallo per raccontare al pubblico viaggi insoliti e low cost\, intorno al libro L’Expò di Mimma (Ed. Il mio libro)
URL:https://www.suqgenova.it/archivio-evento/giro-del-mondo-257-giorni/
CATEGORIES:Incontri,Suq Festival 2017
END:VEVENT
BEGIN:VEVENT
DTSTART;TZID=UTC:20170622T210000
DTEND;TZID=UTC:20170622T210000
DTSTAMP:20260420T214011
CREATED:20170607T130505Z
LAST-MODIFIED:20170607T130505Z
UID:19530-1498165200-1498165200@www.suqgenova.it
SUMMARY:Il giro del mondo in 257 giorni
DESCRIPTION:Mimma Gallina con Pietro Tarallo per raccontare al pubblico viaggi insoliti e low cost\, intorno al libro L’Expò di Mimma (Ed. Il mio libro)
URL:https://www.suqgenova.it/archivio-evento/giro-del-mondo-257-giorni-2/
CATEGORIES:Incontri,Suq Festival 2017
END:VEVENT
BEGIN:VEVENT
DTSTART;TZID=UTC:20170622T210000
DTEND;TZID=UTC:20170622T210000
DTSTAMP:20260420T214011
CREATED:20170607T130505Z
LAST-MODIFIED:20170607T130505Z
UID:20076-1498165200-1498165200@www.suqgenova.it
SUMMARY:Il giro del mondo in 257 giorni
DESCRIPTION:Mimma Gallina con Pietro Tarallo per raccontare al pubblico viaggi insoliti e low cost\, intorno al libro L’Expò di Mimma (Ed. Il mio libro)
URL:https://www.suqgenova.it/archivio-evento/giro-del-mondo-257-giorni-3/
CATEGORIES:Incontri,Suq Festival 2017
END:VEVENT
BEGIN:VEVENT
DTSTART;TZID=UTC:20170622T203000
DTEND;TZID=UTC:20170622T203000
DTSTAMP:20260420T214011
CREATED:20170607T130220Z
LAST-MODIFIED:20170607T130220Z
UID:5403-1498163400-1498163400@www.suqgenova.it
SUMMARY:Medea Opera Rap
DESCRIPTION:Spettacolo con gli allievi artisti del laboratorio teatrale universitario del Suq e di Alfa Liguria\nRegia di Enrico Campanati
URL:https://www.suqgenova.it/archivio-evento/medea-opera-rap/
CATEGORIES:Suq Festival 2017
ATTACH;FMTTYPE=image/jpeg:https://www.suqgenova.it/wp-content/uploads/2017/05/SuqMedea-14-scaled.jpg
END:VEVENT
BEGIN:VEVENT
DTSTART;TZID=UTC:20170622T203000
DTEND;TZID=UTC:20170622T203000
DTSTAMP:20260420T214011
CREATED:20170607T130220Z
LAST-MODIFIED:20170607T130220Z
UID:19529-1498163400-1498163400@www.suqgenova.it
SUMMARY:Medea Opera Rap
DESCRIPTION:Spettacolo con gli allievi artisti del laboratorio teatrale universitario del Suq e di Alfa Liguria\nRegia di Enrico Campanati
URL:https://www.suqgenova.it/archivio-evento/medea-opera-rap-2/
CATEGORIES:Suq Festival 2017
ATTACH;FMTTYPE=image/jpeg:https://www.suqgenova.it/wp-content/uploads/2017/05/SuqMedea-14-scaled.jpg
END:VEVENT
BEGIN:VEVENT
DTSTART;TZID=UTC:20170622T203000
DTEND;TZID=UTC:20170622T203000
DTSTAMP:20260420T214011
CREATED:20170607T130220Z
LAST-MODIFIED:20170607T130220Z
UID:20075-1498163400-1498163400@www.suqgenova.it
SUMMARY:Medea Opera Rap
DESCRIPTION:Spettacolo con gli allievi artisti del laboratorio teatrale universitario del Suq e di Alfa Liguria\nRegia di Enrico Campanati
URL:https://www.suqgenova.it/archivio-evento/medea-opera-rap-3/
CATEGORIES:Suq Festival 2017
ATTACH;FMTTYPE=image/jpeg:https://www.suqgenova.it/wp-content/uploads/2017/05/SuqMedea-14-scaled.jpg
END:VEVENT
BEGIN:VEVENT
DTSTART;TZID=UTC:20170622T190000
DTEND;TZID=UTC:20170622T190000
DTSTAMP:20260420T214011
CREATED:20170607T125206Z
LAST-MODIFIED:20170607T125206Z
UID:5397-1498158000-1498158000@www.suqgenova.it
SUMMARY:Presentazione dei libri
DESCRIPTION:Presentazione dei libri Che c’è da guardare? La critica di fronte al teatro sociale d’arte di Andrea Porcheddu (CUEPRESS) e Dioniso e la nuvola. L’informazione e la critica teatrale in rete (Franco Angeli) di Giulia Alonzo e Oliviero Ponte di Pino. Conduce Roberto Cuppone
URL:https://www.suqgenova.it/archivio-evento/presentazione-dei-libri/
CATEGORIES:Incontri,Suq Festival 2017
END:VEVENT
BEGIN:VEVENT
DTSTART;TZID=UTC:20170622T190000
DTEND;TZID=UTC:20170622T190000
DTSTAMP:20260420T214011
CREATED:20170607T125206Z
LAST-MODIFIED:20170607T125206Z
UID:19527-1498158000-1498158000@www.suqgenova.it
SUMMARY:Presentazione dei libri
DESCRIPTION:Presentazione dei libri Che c’è da guardare? La critica di fronte al teatro sociale d’arte di Andrea Porcheddu (CUEPRESS) e Dioniso e la nuvola. L’informazione e la critica teatrale in rete (Franco Angeli) di Giulia Alonzo e Oliviero Ponte di Pino. Conduce Roberto Cuppone
URL:https://www.suqgenova.it/archivio-evento/presentazione-dei-libri-2/
CATEGORIES:Incontri,Suq Festival 2017
END:VEVENT
BEGIN:VEVENT
DTSTART;TZID=UTC:20170622T190000
DTEND;TZID=UTC:20170622T190000
DTSTAMP:20260420T214011
CREATED:20170607T125206Z
LAST-MODIFIED:20170607T125206Z
UID:20073-1498158000-1498158000@www.suqgenova.it
SUMMARY:Presentazione dei libri
DESCRIPTION:Presentazione dei libri Che c’è da guardare? La critica di fronte al teatro sociale d’arte di Andrea Porcheddu (CUEPRESS) e Dioniso e la nuvola. L’informazione e la critica teatrale in rete (Franco Angeli) di Giulia Alonzo e Oliviero Ponte di Pino. Conduce Roberto Cuppone
URL:https://www.suqgenova.it/archivio-evento/presentazione-dei-libri-3/
CATEGORIES:Incontri,Suq Festival 2017
END:VEVENT
BEGIN:VEVENT
DTSTART;TZID=UTC:20170622T170000
DTEND;TZID=UTC:20170622T200000
DTSTAMP:20260420T214011
CREATED:20170607T131934Z
LAST-MODIFIED:20170607T131934Z
UID:5413-1498150800-1498161600@www.suqgenova.it
SUMMARY:Tenda della Sosta
DESCRIPTION:Dalle 17 alle 20 ogni giorno si può sostare in modo attivo: incontri con associazioni e progetti\, laboratori\, gruppi di lettura\, iniziative “last minute”\n>Ore 17\nSEI ECO-LOGICO\, GIOCHI E SOLUZIONI PER LA SOSTENIBILITÀ EcoSuq\nGioca con noi e risolvi gli eco-Rebus. Laboratorio per bambini per diventare ecofan e vincere un gadget. A cura di Iren.\n>Ore 18 Incontro con Associazione MAIS Movimento per l’autosviluppo internazionale nella solidarietà\n>Ore 19\nI SOMMELIER DELL’ACQUA EcoSuq\nProva ad apprezzare i diversi gusti dell’acqua insieme a Iren
URL:https://www.suqgenova.it/archivio-evento/tenda-della-sosta-22/
CATEGORIES:Suq Festival 2017,Tenda della Sosta
ATTACH;FMTTYPE=image/jpeg:https://www.suqgenova.it/wp-content/uploads/2017/06/tenda-berbera-scaled.jpg
END:VEVENT
BEGIN:VEVENT
DTSTART;TZID=UTC:20170622T170000
DTEND;TZID=UTC:20170622T200000
DTSTAMP:20260420T214011
CREATED:20170607T131934Z
LAST-MODIFIED:20170607T131934Z
UID:19533-1498150800-1498161600@www.suqgenova.it
SUMMARY:Tenda della Sosta
DESCRIPTION:Dalle 17 alle 20 ogni giorno si può sostare in modo attivo: incontri con associazioni e progetti\, laboratori\, gruppi di lettura\, iniziative “last minute”\n>Ore 17\nSEI ECO-LOGICO\, GIOCHI E SOLUZIONI PER LA SOSTENIBILITÀ EcoSuq\nGioca con noi e risolvi gli eco-Rebus. Laboratorio per bambini per diventare ecofan e vincere un gadget. A cura di Iren.\n>Ore 18 Incontro con Associazione MAIS Movimento per l’autosviluppo internazionale nella solidarietà\n>Ore 19\nI SOMMELIER DELL’ACQUA EcoSuq\nProva ad apprezzare i diversi gusti dell’acqua insieme a Iren
URL:https://www.suqgenova.it/archivio-evento/tenda-della-sosta-22-2/
CATEGORIES:Suq Festival 2017,Tenda della Sosta
ATTACH;FMTTYPE=image/jpeg:https://www.suqgenova.it/wp-content/uploads/2017/06/tenda-berbera-scaled.jpg
END:VEVENT
BEGIN:VEVENT
DTSTART;TZID=UTC:20170622T170000
DTEND;TZID=UTC:20170622T200000
DTSTAMP:20260420T214011
CREATED:20170607T131934Z
LAST-MODIFIED:20170607T131934Z
UID:20079-1498150800-1498161600@www.suqgenova.it
SUMMARY:Tenda della Sosta
DESCRIPTION:Dalle 17 alle 20 ogni giorno si può sostare in modo attivo: incontri con associazioni e progetti\, laboratori\, gruppi di lettura\, iniziative “last minute”\n>Ore 17\nSEI ECO-LOGICO\, GIOCHI E SOLUZIONI PER LA SOSTENIBILITÀ EcoSuq\nGioca con noi e risolvi gli eco-Rebus. Laboratorio per bambini per diventare ecofan e vincere un gadget. A cura di Iren.\n>Ore 18 Incontro con Associazione MAIS Movimento per l’autosviluppo internazionale nella solidarietà\n>Ore 19\nI SOMMELIER DELL’ACQUA EcoSuq\nProva ad apprezzare i diversi gusti dell’acqua insieme a Iren
URL:https://www.suqgenova.it/archivio-evento/tenda-della-sosta-22-3/
CATEGORIES:Suq Festival 2017,Tenda della Sosta
ATTACH;FMTTYPE=image/jpeg:https://www.suqgenova.it/wp-content/uploads/2017/06/tenda-berbera-scaled.jpg
END:VEVENT
BEGIN:VEVENT
DTSTART;TZID=UTC:20170622T170000
DTEND;TZID=UTC:20170622T170000
DTSTAMP:20260420T214011
CREATED:20170607T124108Z
LAST-MODIFIED:20170607T124108Z
UID:5395-1498150800-1498150800@www.suqgenova.it
SUMMARY:Il teatro è solo bianco? E il pubblico?
DESCRIPTION:Incontro\, libri\, video\, laboratorio.\nIn collaborazione con Goethe-Institut Genua e Ateatro.it\nConfronto pubblico su teatro\, intercultura\, rinnovamento del pubblico in Italia e in Europa\nIntervengono Lucio Argano\, Roberta Canu\, Micaela Casalboni\, Mimma Gallina\, Olivier Elouti\, Alessandra Rossi Ghiglione\, Laura Sicignano. Conduce Laura Santini\, mentelocale.it
URL:https://www.suqgenova.it/archivio-evento/teatro-solo-bianco-pubblico/
CATEGORIES:Incontri,Suq Festival 2017
ATTACH;FMTTYPE=image/jpeg:https://www.suqgenova.it/wp-content/uploads/2015/09/madri-fotosito3.jpg
END:VEVENT
BEGIN:VEVENT
DTSTART;TZID=UTC:20170622T170000
DTEND;TZID=UTC:20170622T170000
DTSTAMP:20260420T214011
CREATED:20170607T124108Z
LAST-MODIFIED:20170607T124108Z
UID:19526-1498150800-1498150800@www.suqgenova.it
SUMMARY:Il teatro è solo bianco? E il pubblico?
DESCRIPTION:Incontro\, libri\, video\, laboratorio.\nIn collaborazione con Goethe-Institut Genua e Ateatro.it\nConfronto pubblico su teatro\, intercultura\, rinnovamento del pubblico in Italia e in Europa\nIntervengono Lucio Argano\, Roberta Canu\, Micaela Casalboni\, Mimma Gallina\, Olivier Elouti\, Alessandra Rossi Ghiglione\, Laura Sicignano. Conduce Laura Santini\, mentelocale.it
URL:https://www.suqgenova.it/archivio-evento/teatro-solo-bianco-pubblico-2/
CATEGORIES:Incontri,Suq Festival 2017
ATTACH;FMTTYPE=image/jpeg:https://www.suqgenova.it/wp-content/uploads/2015/09/madri-fotosito3.jpg
END:VEVENT
BEGIN:VEVENT
DTSTART;TZID=UTC:20170622T170000
DTEND;TZID=UTC:20170622T170000
DTSTAMP:20260420T214011
CREATED:20170607T124108Z
LAST-MODIFIED:20170607T124108Z
UID:20072-1498150800-1498150800@www.suqgenova.it
SUMMARY:Il teatro è solo bianco? E il pubblico?
DESCRIPTION:Incontro\, libri\, video\, laboratorio.\nIn collaborazione con Goethe-Institut Genua e Ateatro.it\nConfronto pubblico su teatro\, intercultura\, rinnovamento del pubblico in Italia e in Europa\nIntervengono Lucio Argano\, Roberta Canu\, Micaela Casalboni\, Mimma Gallina\, Olivier Elouti\, Alessandra Rossi Ghiglione\, Laura Sicignano. Conduce Laura Santini\, mentelocale.it
URL:https://www.suqgenova.it/archivio-evento/teatro-solo-bianco-pubblico-3/
CATEGORIES:Incontri,Suq Festival 2017
ATTACH;FMTTYPE=image/jpeg:https://www.suqgenova.it/wp-content/uploads/2015/09/madri-fotosito3.jpg
END:VEVENT
BEGIN:VEVENT
DTSTART;TZID=UTC:20170622T160000
DTEND;TZID=UTC:20170622T160000
DTSTAMP:20260420T214011
CREATED:20170607T123653Z
LAST-MODIFIED:20170607T123653Z
UID:5393-1498147200-1498147200@www.suqgenova.it
SUMMARY:Le api e il futuro\, prima che sia tardi | EcoSuq
DESCRIPTION:Con Marina Consiglieri Alpa Miele e Laura Capini Associazione AMI.\nA seguire analisi sensoriale del miele insieme al pubblico
URL:https://www.suqgenova.it/archivio-evento/le-api-futuro-sia-tardi-ecosuq/
CATEGORIES:Eco Suq,Suq Festival 2017
END:VEVENT
BEGIN:VEVENT
DTSTART;TZID=UTC:20170622T160000
DTEND;TZID=UTC:20170622T160000
DTSTAMP:20260420T214011
CREATED:20170607T123653Z
LAST-MODIFIED:20170607T123653Z
UID:19525-1498147200-1498147200@www.suqgenova.it
SUMMARY:Le api e il futuro\, prima che sia tardi | EcoSuq
DESCRIPTION:Con Marina Consiglieri Alpa Miele e Laura Capini Associazione AMI.\nA seguire analisi sensoriale del miele insieme al pubblico
URL:https://www.suqgenova.it/archivio-evento/le-api-futuro-sia-tardi-ecosuq-2/
CATEGORIES:Eco Suq,Suq Festival 2017
END:VEVENT
BEGIN:VEVENT
DTSTART;TZID=UTC:20170622T160000
DTEND;TZID=UTC:20170622T160000
DTSTAMP:20260420T214011
CREATED:20170607T123653Z
LAST-MODIFIED:20170607T123653Z
UID:20071-1498147200-1498147200@www.suqgenova.it
SUMMARY:Le api e il futuro\, prima che sia tardi | EcoSuq
DESCRIPTION:Con Marina Consiglieri Alpa Miele e Laura Capini Associazione AMI.\nA seguire analisi sensoriale del miele insieme al pubblico
URL:https://www.suqgenova.it/archivio-evento/le-api-futuro-sia-tardi-ecosuq-3/
CATEGORIES:Eco Suq,Suq Festival 2017
END:VEVENT
BEGIN:VEVENT
DTSTART;TZID=UTC:20170622T160000
DTEND;TZID=UTC:20170622T160000
DTSTAMP:20260420T214011
CREATED:20170607T123030Z
LAST-MODIFIED:20170607T123030Z
UID:5390-1498147200-1498147200@www.suqgenova.it
SUMMARY:L'acchiappatappo | EcoSuq
DESCRIPTION:TENDA DELLA SOSTA\nLaboratorio di costruzione con materiali di riciclo a cura di Associazione Matermagna.\nIn collaborazione con AMIU
URL:https://www.suqgenova.it/archivio-evento/acchiappatappo/
CATEGORIES:Eco Suq,Suq Festival 2017
END:VEVENT
BEGIN:VEVENT
DTSTART;TZID=UTC:20170622T160000
DTEND;TZID=UTC:20170622T160000
DTSTAMP:20260420T214011
CREATED:20170607T123030Z
LAST-MODIFIED:20170607T123030Z
UID:19524-1498147200-1498147200@www.suqgenova.it
SUMMARY:L'acchiappatappo | EcoSuq
DESCRIPTION:TENDA DELLA SOSTA\nLaboratorio di costruzione con materiali di riciclo a cura di Associazione Matermagna.\nIn collaborazione con AMIU
URL:https://www.suqgenova.it/archivio-evento/acchiappatappo-2/
CATEGORIES:Eco Suq,Suq Festival 2017
END:VEVENT
BEGIN:VEVENT
DTSTART;TZID=UTC:20170622T160000
DTEND;TZID=UTC:20170622T160000
DTSTAMP:20260420T214011
CREATED:20170607T123030Z
LAST-MODIFIED:20170607T123030Z
UID:20070-1498147200-1498147200@www.suqgenova.it
SUMMARY:L'acchiappatappo | EcoSuq
DESCRIPTION:TENDA DELLA SOSTA\nLaboratorio di costruzione con materiali di riciclo a cura di Associazione Matermagna.\nIn collaborazione con AMIU
URL:https://www.suqgenova.it/archivio-evento/acchiappatappo-3/
CATEGORIES:Eco Suq,Suq Festival 2017
END:VEVENT
BEGIN:VEVENT
DTSTART;TZID=UTC:20170621T220000
DTEND;TZID=UTC:20170621T220000
DTSTAMP:20260420T214011
CREATED:20170607T122031Z
LAST-MODIFIED:20170607T122031Z
UID:5385-1498082400-1498082400@www.suqgenova.it
SUMMARY:Al Razaeef in concerto
DESCRIPTION:Con Alaa Alshaer chitarra\, Ayham Jalal clarinetto\, Midhat Husseini tuba\, Tamer Nassar sax\, Yassar S’adat trombone\, Lorenzo Bergamino percussioni\, Mario Martini tromba\nArriva al Suq l’ eclettica street band nata a Ramallah in Palestina nel 2011. Un repertorio di musica araba\, turca\, balcanica\, rivisitata in chiave più moderna e fruibile per tutti.
URL:https://www.suqgenova.it/archivio-evento/al-razaeef/
CATEGORIES:Musica,Suq Festival 2017
ATTACH;FMTTYPE=image/jpeg:https://www.suqgenova.it/wp-content/uploads/2017/06/Al-razeef-scaled.jpg
END:VEVENT
BEGIN:VEVENT
DTSTART;TZID=UTC:20170621T220000
DTEND;TZID=UTC:20170621T220000
DTSTAMP:20260420T214011
CREATED:20170607T122031Z
LAST-MODIFIED:20170607T122031Z
UID:19522-1498082400-1498082400@www.suqgenova.it
SUMMARY:Al Razaeef in concerto
DESCRIPTION:Con Alaa Alshaer chitarra\, Ayham Jalal clarinetto\, Midhat Husseini tuba\, Tamer Nassar sax\, Yassar S’adat trombone\, Lorenzo Bergamino percussioni\, Mario Martini tromba\nArriva al Suq l’ eclettica street band nata a Ramallah in Palestina nel 2011. Un repertorio di musica araba\, turca\, balcanica\, rivisitata in chiave più moderna e fruibile per tutti.
URL:https://www.suqgenova.it/archivio-evento/al-razaeef-2/
CATEGORIES:Musica,Suq Festival 2017
ATTACH;FMTTYPE=image/jpeg:https://www.suqgenova.it/wp-content/uploads/2017/06/Al-razeef-scaled.jpg
END:VEVENT
BEGIN:VEVENT
DTSTART;TZID=UTC:20170621T220000
DTEND;TZID=UTC:20170621T220000
DTSTAMP:20260420T214011
CREATED:20170607T122031Z
LAST-MODIFIED:20170607T122031Z
UID:20068-1498082400-1498082400@www.suqgenova.it
SUMMARY:Al Razaeef in concerto
DESCRIPTION:Con Alaa Alshaer chitarra\, Ayham Jalal clarinetto\, Midhat Husseini tuba\, Tamer Nassar sax\, Yassar S’adat trombone\, Lorenzo Bergamino percussioni\, Mario Martini tromba\nArriva al Suq l’ eclettica street band nata a Ramallah in Palestina nel 2011. Un repertorio di musica araba\, turca\, balcanica\, rivisitata in chiave più moderna e fruibile per tutti.
URL:https://www.suqgenova.it/archivio-evento/al-razaeef-3/
CATEGORIES:Musica,Suq Festival 2017
ATTACH;FMTTYPE=image/jpeg:https://www.suqgenova.it/wp-content/uploads/2017/06/Al-razeef-scaled.jpg
END:VEVENT
BEGIN:VEVENT
DTSTART;TZID=UTC:20170621T213000
DTEND;TZID=UTC:20170621T213000
DTSTAMP:20260420T214011
CREATED:20170607T121214Z
LAST-MODIFIED:20170607T121214Z
UID:5382-1498080600-1498080600@www.suqgenova.it
SUMMARY:Lireta. A chi viene dal mare
DESCRIPTION:Teatro del dialogo MUSEO LUZZATI\nDrammaturgia e regia Mario Perrotta\nCon Paola Roscioli e con Laura Francaviglia chitarra e Samuele Riva violoncello\nUna donna che guarda oltremare\, cercando una luce nell’oscurità… Lireta\, è una donna albanese che guarda oltremare cercando un brandello d’Italia\, anche solo una luce. Uno spettacolo denso di parole\, emozioni\, suoni che ha raccolto grandi consensi di pubblico e critica e che arriva a Genova per la prima volta \nUlteriori informazioni nella pagina dedicata al Teatro del DIalogo
URL:https://www.suqgenova.it/archivio-evento/lireta-viene-dal-mare/
CATEGORIES:Suq Festival 2017,Teatro del Dialogo
ATTACH;FMTTYPE=image/png:https://www.suqgenova.it/wp-content/uploads/2017/06/Lireta-680x260-1.png
END:VEVENT
BEGIN:VEVENT
DTSTART;TZID=UTC:20170621T213000
DTEND;TZID=UTC:20170621T213000
DTSTAMP:20260420T214011
CREATED:20170607T121214Z
LAST-MODIFIED:20170607T121214Z
UID:19521-1498080600-1498080600@www.suqgenova.it
SUMMARY:Lireta. A chi viene dal mare
DESCRIPTION:Teatro del dialogo MUSEO LUZZATI\nDrammaturgia e regia Mario Perrotta\nCon Paola Roscioli e con Laura Francaviglia chitarra e Samuele Riva violoncello\nUna donna che guarda oltremare\, cercando una luce nell’oscurità… Lireta\, è una donna albanese che guarda oltremare cercando un brandello d’Italia\, anche solo una luce. Uno spettacolo denso di parole\, emozioni\, suoni che ha raccolto grandi consensi di pubblico e critica e che arriva a Genova per la prima volta \nUlteriori informazioni nella pagina dedicata al Teatro del DIalogo
URL:https://www.suqgenova.it/archivio-evento/lireta-viene-dal-mare-2/
CATEGORIES:Suq Festival 2017,Teatro del Dialogo
ATTACH;FMTTYPE=image/png:https://www.suqgenova.it/wp-content/uploads/2017/06/Lireta-680x260-1.png
END:VEVENT
BEGIN:VEVENT
DTSTART;TZID=UTC:20170621T213000
DTEND;TZID=UTC:20170621T213000
DTSTAMP:20260420T214011
CREATED:20170607T121214Z
LAST-MODIFIED:20170607T121214Z
UID:20067-1498080600-1498080600@www.suqgenova.it
SUMMARY:Lireta. A chi viene dal mare
DESCRIPTION:Teatro del dialogo MUSEO LUZZATI\nDrammaturgia e regia Mario Perrotta\nCon Paola Roscioli e con Laura Francaviglia chitarra e Samuele Riva violoncello\nUna donna che guarda oltremare\, cercando una luce nell’oscurità… Lireta\, è una donna albanese che guarda oltremare cercando un brandello d’Italia\, anche solo una luce. Uno spettacolo denso di parole\, emozioni\, suoni che ha raccolto grandi consensi di pubblico e critica e che arriva a Genova per la prima volta \nUlteriori informazioni nella pagina dedicata al Teatro del DIalogo
URL:https://www.suqgenova.it/archivio-evento/lireta-viene-dal-mare-3/
CATEGORIES:Suq Festival 2017,Teatro del Dialogo
ATTACH;FMTTYPE=image/png:https://www.suqgenova.it/wp-content/uploads/2017/06/Lireta-680x260-1.png
END:VEVENT
BEGIN:VEVENT
DTSTART;TZID=UTC:20170621T200000
DTEND;TZID=UTC:20170621T200000
DTSTAMP:20260420T214011
CREATED:20170607T120616Z
LAST-MODIFIED:20170607T120616Z
UID:5380-1498075200-1498075200@www.suqgenova.it
SUMMARY:Yoga\, era e ora
DESCRIPTION:Incontro con il maestro Swami Joythimayananda in occasione della Giornata mondiale dello Yoga per un viaggio nella scienza Ayuervedica. In collaborazione con il Coordinamento YogaDay Genova
URL:https://www.suqgenova.it/archivio-evento/yoga-era-e-ora/
CATEGORIES:Laboratori,Suq Festival 2017
END:VEVENT
BEGIN:VEVENT
DTSTART;TZID=UTC:20170621T200000
DTEND;TZID=UTC:20170621T200000
DTSTAMP:20260420T214011
CREATED:20170607T120616Z
LAST-MODIFIED:20170607T120616Z
UID:19520-1498075200-1498075200@www.suqgenova.it
SUMMARY:Yoga\, era e ora
DESCRIPTION:Incontro con il maestro Swami Joythimayananda in occasione della Giornata mondiale dello Yoga per un viaggio nella scienza Ayuervedica. In collaborazione con il Coordinamento YogaDay Genova
URL:https://www.suqgenova.it/archivio-evento/yoga-era-e-ora-2/
CATEGORIES:Laboratori,Suq Festival 2017
END:VEVENT
BEGIN:VEVENT
DTSTART;TZID=UTC:20170621T200000
DTEND;TZID=UTC:20170621T200000
DTSTAMP:20260420T214011
CREATED:20170607T120616Z
LAST-MODIFIED:20170607T120616Z
UID:20066-1498075200-1498075200@www.suqgenova.it
SUMMARY:Yoga\, era e ora
DESCRIPTION:Incontro con il maestro Swami Joythimayananda in occasione della Giornata mondiale dello Yoga per un viaggio nella scienza Ayuervedica. In collaborazione con il Coordinamento YogaDay Genova
URL:https://www.suqgenova.it/archivio-evento/yoga-era-e-ora-3/
CATEGORIES:Laboratori,Suq Festival 2017
END:VEVENT
END:VCALENDAR