BEGIN:VCALENDAR
VERSION:2.0
PRODID:-//Suq Genova - ECPv6.15.20//NONSGML v1.0//EN
CALSCALE:GREGORIAN
METHOD:PUBLISH
X-ORIGINAL-URL:https://www.suqgenova.it
X-WR-CALDESC:Eventi per Suq Genova
REFRESH-INTERVAL;VALUE=DURATION:PT1H
X-Robots-Tag:noindex
X-PUBLISHED-TTL:PT1H
BEGIN:VTIMEZONE
TZID:UTC
BEGIN:STANDARD
TZOFFSETFROM:+0000
TZOFFSETTO:+0000
TZNAME:UTC
DTSTART:20160101T000000
END:STANDARD
END:VTIMEZONE
BEGIN:VEVENT
DTSTART;TZID=UTC:20170624T190000
DTEND;TZID=UTC:20170624T190000
DTSTAMP:20260420T165821
CREATED:20170608T115410Z
LAST-MODIFIED:20170608T115410Z
UID:5496-1498330800-1498330800@www.suqgenova.it
SUMMARY:La Giovine Italia
DESCRIPTION:Teatro del Dialogo PALCO SUQ\nDi Adriana Calero\, Enza Levatè\, Suad Omar\, Elena Ruzza\, Vesna Scepanovic\, Maria Abebù Viarengo\, Flor de Maria Vidaurre.\nCon le madri Adriana Calero\, Enza Levatè\, Suad Omar\, Elena Ruzza\, Vesna Scepanovic\, Maria Abebù Viarengo\, Flor de Maria Vidaurre\nle giovani Ilaria Capraro\, Yendry Fiorentino\, Xi Hu\, Deka Mohamed\, Ikram Mohamed\, Songul Murat\, Sara Outabarrhist\, Annasofia Solano\, Luisa Zhou\nCanti originali Yendry Fiorentino\, Enza Levatè\, Maria Abebù Viarengo\nRegia Gabriella Bordin\nProduzione Almateatro \nLa nuova Italia nello sguardo e nelle vicende di madri e figlie immigrate\, un avvincente racconto al femminile. Un atlante di voci\, volti\, generazioni; attraverso il legame tra le figlie e le madri arrivate qui negli anni ’80 e ’90 o protagoniste delle migrazioni interne. \nUlteriori informazioni nella pagina dedicata al Teatro del DIalogo
URL:https://www.suqgenova.it/archivio-evento/la-giovine-italia/
CATEGORIES:Suq Festival 2017,Teatro del Dialogo
ATTACH;FMTTYPE=image/jpeg:https://www.suqgenova.it/wp-content/uploads/2015/08/La-Giovine-Italia-Compagnia-Almateatro-scaled.jpg
END:VEVENT
BEGIN:VEVENT
DTSTART;TZID=UTC:20170624T190000
DTEND;TZID=UTC:20170624T190000
DTSTAMP:20260420T165821
CREATED:20170608T115410Z
LAST-MODIFIED:20170608T115410Z
UID:19542-1498330800-1498330800@www.suqgenova.it
SUMMARY:La Giovine Italia
DESCRIPTION:Teatro del Dialogo PALCO SUQ\nDi Adriana Calero\, Enza Levatè\, Suad Omar\, Elena Ruzza\, Vesna Scepanovic\, Maria Abebù Viarengo\, Flor de Maria Vidaurre.\nCon le madri Adriana Calero\, Enza Levatè\, Suad Omar\, Elena Ruzza\, Vesna Scepanovic\, Maria Abebù Viarengo\, Flor de Maria Vidaurre\nle giovani Ilaria Capraro\, Yendry Fiorentino\, Xi Hu\, Deka Mohamed\, Ikram Mohamed\, Songul Murat\, Sara Outabarrhist\, Annasofia Solano\, Luisa Zhou\nCanti originali Yendry Fiorentino\, Enza Levatè\, Maria Abebù Viarengo\nRegia Gabriella Bordin\nProduzione Almateatro \nLa nuova Italia nello sguardo e nelle vicende di madri e figlie immigrate\, un avvincente racconto al femminile. Un atlante di voci\, volti\, generazioni; attraverso il legame tra le figlie e le madri arrivate qui negli anni ’80 e ’90 o protagoniste delle migrazioni interne. \nUlteriori informazioni nella pagina dedicata al Teatro del DIalogo
URL:https://www.suqgenova.it/archivio-evento/la-giovine-italia-2/
CATEGORIES:Suq Festival 2017,Teatro del Dialogo
ATTACH;FMTTYPE=image/jpeg:https://www.suqgenova.it/wp-content/uploads/2015/08/La-Giovine-Italia-Compagnia-Almateatro-scaled.jpg
END:VEVENT
BEGIN:VEVENT
DTSTART;TZID=UTC:20170624T190000
DTEND;TZID=UTC:20170624T190000
DTSTAMP:20260420T165821
CREATED:20170608T115410Z
LAST-MODIFIED:20170608T115410Z
UID:20088-1498330800-1498330800@www.suqgenova.it
SUMMARY:La Giovine Italia
DESCRIPTION:Teatro del Dialogo PALCO SUQ\nDi Adriana Calero\, Enza Levatè\, Suad Omar\, Elena Ruzza\, Vesna Scepanovic\, Maria Abebù Viarengo\, Flor de Maria Vidaurre.\nCon le madri Adriana Calero\, Enza Levatè\, Suad Omar\, Elena Ruzza\, Vesna Scepanovic\, Maria Abebù Viarengo\, Flor de Maria Vidaurre\nle giovani Ilaria Capraro\, Yendry Fiorentino\, Xi Hu\, Deka Mohamed\, Ikram Mohamed\, Songul Murat\, Sara Outabarrhist\, Annasofia Solano\, Luisa Zhou\nCanti originali Yendry Fiorentino\, Enza Levatè\, Maria Abebù Viarengo\nRegia Gabriella Bordin\nProduzione Almateatro \nLa nuova Italia nello sguardo e nelle vicende di madri e figlie immigrate\, un avvincente racconto al femminile. Un atlante di voci\, volti\, generazioni; attraverso il legame tra le figlie e le madri arrivate qui negli anni ’80 e ’90 o protagoniste delle migrazioni interne. \nUlteriori informazioni nella pagina dedicata al Teatro del DIalogo
URL:https://www.suqgenova.it/archivio-evento/la-giovine-italia-3/
CATEGORIES:Suq Festival 2017,Teatro del Dialogo
ATTACH;FMTTYPE=image/jpeg:https://www.suqgenova.it/wp-content/uploads/2015/08/La-Giovine-Italia-Compagnia-Almateatro-scaled.jpg
END:VEVENT
BEGIN:VEVENT
DTSTART;TZID=UTC:20170624T170000
DTEND;TZID=UTC:20170624T200000
DTSTAMP:20260420T165821
CREATED:20170608T124948Z
LAST-MODIFIED:20170608T124948Z
UID:5513-1498323600-1498334400@www.suqgenova.it
SUMMARY:Tenda della Sosta
DESCRIPTION:Dalle 17 alle 20 ogni giorno si può sostare in modo attivo: incontri con associazioni e progetti\, laboratori\, gruppi di lettura\, iniziative “last minute”\n> ore 17 incontro con Arcigay Genova\n> ore 18 Rete Tematica Migranti al Suq: laboratori e letture ad alta voce Gli altri si raccontano. Gli altri siamo noi (a cura dell’Associazione Semi Foresti)”.
URL:https://www.suqgenova.it/archivio-evento/tenda-della-sosta-24/
CATEGORIES:Suq Festival 2017,Tenda della Sosta
ATTACH;FMTTYPE=image/jpeg:https://www.suqgenova.it/wp-content/uploads/2017/06/tenda-berbera-scaled.jpg
END:VEVENT
BEGIN:VEVENT
DTSTART;TZID=UTC:20170624T170000
DTEND;TZID=UTC:20170624T200000
DTSTAMP:20260420T165821
CREATED:20170608T124948Z
LAST-MODIFIED:20170608T124948Z
UID:19548-1498323600-1498334400@www.suqgenova.it
SUMMARY:Tenda della Sosta
DESCRIPTION:Dalle 17 alle 20 ogni giorno si può sostare in modo attivo: incontri con associazioni e progetti\, laboratori\, gruppi di lettura\, iniziative “last minute”\n> ore 17 incontro con Arcigay Genova\n> ore 18 Rete Tematica Migranti al Suq: laboratori e letture ad alta voce Gli altri si raccontano. Gli altri siamo noi (a cura dell’Associazione Semi Foresti)”.
URL:https://www.suqgenova.it/archivio-evento/tenda-della-sosta-24-2/
CATEGORIES:Suq Festival 2017,Tenda della Sosta
ATTACH;FMTTYPE=image/jpeg:https://www.suqgenova.it/wp-content/uploads/2017/06/tenda-berbera-scaled.jpg
END:VEVENT
BEGIN:VEVENT
DTSTART;TZID=UTC:20170624T170000
DTEND;TZID=UTC:20170624T200000
DTSTAMP:20260420T165821
CREATED:20170608T124948Z
LAST-MODIFIED:20170608T124948Z
UID:20094-1498323600-1498334400@www.suqgenova.it
SUMMARY:Tenda della Sosta
DESCRIPTION:Dalle 17 alle 20 ogni giorno si può sostare in modo attivo: incontri con associazioni e progetti\, laboratori\, gruppi di lettura\, iniziative “last minute”\n> ore 17 incontro con Arcigay Genova\n> ore 18 Rete Tematica Migranti al Suq: laboratori e letture ad alta voce Gli altri si raccontano. Gli altri siamo noi (a cura dell’Associazione Semi Foresti)”.
URL:https://www.suqgenova.it/archivio-evento/tenda-della-sosta-24-3/
CATEGORIES:Suq Festival 2017,Tenda della Sosta
ATTACH;FMTTYPE=image/jpeg:https://www.suqgenova.it/wp-content/uploads/2017/06/tenda-berbera-scaled.jpg
END:VEVENT
BEGIN:VEVENT
DTSTART;TZID=UTC:20170624T160000
DTEND;TZID=UTC:20170624T160000
DTSTAMP:20260420T165821
CREATED:20170608T114756Z
LAST-MODIFIED:20170608T114756Z
UID:5492-1498320000-1498320000@www.suqgenova.it
SUMMARY:Ecologia Magica
DESCRIPTION:Laboratorio per bambini con il Mago Davide\, in collaborazione con Eco Nano Green Project
URL:https://www.suqgenova.it/archivio-evento/ecologia-magica/
CATEGORIES:Laboratori,Suq Festival 2017
END:VEVENT
BEGIN:VEVENT
DTSTART;TZID=UTC:20170624T160000
DTEND;TZID=UTC:20170624T160000
DTSTAMP:20260420T165821
CREATED:20170608T114756Z
LAST-MODIFIED:20170608T114756Z
UID:19541-1498320000-1498320000@www.suqgenova.it
SUMMARY:Ecologia Magica
DESCRIPTION:Laboratorio per bambini con il Mago Davide\, in collaborazione con Eco Nano Green Project
URL:https://www.suqgenova.it/archivio-evento/ecologia-magica-2/
CATEGORIES:Laboratori,Suq Festival 2017
END:VEVENT
BEGIN:VEVENT
DTSTART;TZID=UTC:20170624T160000
DTEND;TZID=UTC:20170624T160000
DTSTAMP:20260420T165821
CREATED:20170608T114756Z
LAST-MODIFIED:20170608T114756Z
UID:20087-1498320000-1498320000@www.suqgenova.it
SUMMARY:Ecologia Magica
DESCRIPTION:Laboratorio per bambini con il Mago Davide\, in collaborazione con Eco Nano Green Project
URL:https://www.suqgenova.it/archivio-evento/ecologia-magica-3/
CATEGORIES:Laboratori,Suq Festival 2017
END:VEVENT
BEGIN:VEVENT
DTSTART;TZID=UTC:20170623T213000
DTEND;TZID=UTC:20170623T213000
DTSTAMP:20260420T165821
CREATED:20170607T141257Z
LAST-MODIFIED:20170607T141257Z
UID:5429-1498253400-1498253400@www.suqgenova.it
SUMMARY:Nonostante voi
DESCRIPTION:Reportage teatrale di e con Livia Grossi musiche di Andrea Labanca\nregia Gigi Gherzi\nIn scena riflessioni e testimonianze di donne italiane e straniere\, e un ironico monologo sui requisiti necessari per ottenere la Carta d’identità di Donna. Storie di resistenza al femminile raccolte sul campo. Un ironico monologo con riflessioni e testimonianze di donne italiane e straniere.
URL:https://www.suqgenova.it/archivio-evento/nonostante-voi/
CATEGORIES:Incontri,Suq Festival 2017
END:VEVENT
BEGIN:VEVENT
DTSTART;TZID=UTC:20170623T213000
DTEND;TZID=UTC:20170623T213000
DTSTAMP:20260420T165821
CREATED:20170607T141257Z
LAST-MODIFIED:20170607T141257Z
UID:19538-1498253400-1498253400@www.suqgenova.it
SUMMARY:Nonostante voi
DESCRIPTION:Reportage teatrale di e con Livia Grossi musiche di Andrea Labanca\nregia Gigi Gherzi\nIn scena riflessioni e testimonianze di donne italiane e straniere\, e un ironico monologo sui requisiti necessari per ottenere la Carta d’identità di Donna. Storie di resistenza al femminile raccolte sul campo. Un ironico monologo con riflessioni e testimonianze di donne italiane e straniere.
URL:https://www.suqgenova.it/archivio-evento/nonostante-voi-2/
CATEGORIES:Incontri,Suq Festival 2017
END:VEVENT
BEGIN:VEVENT
DTSTART;TZID=UTC:20170623T213000
DTEND;TZID=UTC:20170623T213000
DTSTAMP:20260420T165821
CREATED:20170607T141257Z
LAST-MODIFIED:20170607T141257Z
UID:20084-1498253400-1498253400@www.suqgenova.it
SUMMARY:Nonostante voi
DESCRIPTION:Reportage teatrale di e con Livia Grossi musiche di Andrea Labanca\nregia Gigi Gherzi\nIn scena riflessioni e testimonianze di donne italiane e straniere\, e un ironico monologo sui requisiti necessari per ottenere la Carta d’identità di Donna. Storie di resistenza al femminile raccolte sul campo. Un ironico monologo con riflessioni e testimonianze di donne italiane e straniere.
URL:https://www.suqgenova.it/archivio-evento/nonostante-voi-3/
CATEGORIES:Incontri,Suq Festival 2017
END:VEVENT
BEGIN:VEVENT
DTSTART;TZID=UTC:20170623T200000
DTEND;TZID=UTC:20170623T200000
DTSTAMP:20260420T165821
CREATED:20170607T134216Z
LAST-MODIFIED:20170607T134216Z
UID:5422-1498248000-1498248000@www.suqgenova.it
SUMMARY:Il lungo viaggio delle patate
DESCRIPTION:Showcooking con il cucinosofo Sergio Rossi sulle diverse varietà e i diversi usi in cucina
URL:https://www.suqgenova.it/archivio-evento/lungo-viaggio-delle-patate/
CATEGORIES:Cucina,Suq Festival 2017
END:VEVENT
BEGIN:VEVENT
DTSTART;TZID=UTC:20170623T200000
DTEND;TZID=UTC:20170623T200000
DTSTAMP:20260420T165821
CREATED:20170607T134216Z
LAST-MODIFIED:20170607T134216Z
UID:19536-1498248000-1498248000@www.suqgenova.it
SUMMARY:Il lungo viaggio delle patate
DESCRIPTION:Showcooking con il cucinosofo Sergio Rossi sulle diverse varietà e i diversi usi in cucina
URL:https://www.suqgenova.it/archivio-evento/lungo-viaggio-delle-patate-2/
CATEGORIES:Cucina,Suq Festival 2017
END:VEVENT
BEGIN:VEVENT
DTSTART;TZID=UTC:20170623T200000
DTEND;TZID=UTC:20170623T200000
DTSTAMP:20260420T165821
CREATED:20170607T134216Z
LAST-MODIFIED:20170607T134216Z
UID:20082-1498248000-1498248000@www.suqgenova.it
SUMMARY:Il lungo viaggio delle patate
DESCRIPTION:Showcooking con il cucinosofo Sergio Rossi sulle diverse varietà e i diversi usi in cucina
URL:https://www.suqgenova.it/archivio-evento/lungo-viaggio-delle-patate-3/
CATEGORIES:Cucina,Suq Festival 2017
END:VEVENT
BEGIN:VEVENT
DTSTART;TZID=UTC:20170623T190000
DTEND;TZID=UTC:20170623T190000
DTSTAMP:20260420T165821
CREATED:20170607T134857Z
LAST-MODIFIED:20170607T134857Z
UID:5425-1498244400-1498244400@www.suqgenova.it
SUMMARY:La leggenda del pianista sull'oceano
DESCRIPTION:Ore 19 e ore 21.30\nTeatro del dialogo ISOLA DELLE CHIATTE \nDal testo di Alessandro Baricco\ncon Igor Chierici e con Pietro Martinelli contrabbasso\, Lauretta Galeno voce\, Luciano Barbarotta tromba e il piccolo Marco Vecchio.\nRegia Luca Cicolella\nProduzione Igor Chierici con Fondazione Garaventa\nIl viaggio\, il mare\, l’amicizia… su uno dei più grandi transatlantici del Novecento.\n“…avevo diciassette anni quando ci salì\, là sopra: sul Virginian” Così\, Max\, il narratore di tutta la storia\, fa iniziare il sogno. Un sogno che porterà tutto il pubblico a bordo del piroscafo che ha ospitato il più grande pianista di tutti i tempi: Denny Boodman T.D. Lemon Novecento. \nUlteriori informazioni nella pagina dedicata al Teatro del DIalogo
URL:https://www.suqgenova.it/archivio-evento/la-leggenda-del-pianista-sulloceano/
CATEGORIES:Suq Festival 2017,Teatro del Dialogo
ATTACH;FMTTYPE=image/jpeg:https://www.suqgenova.it/wp-content/uploads/2017/06/La-leggenda-del-pianista-sulloceano-scaled.jpg
END:VEVENT
BEGIN:VEVENT
DTSTART;TZID=UTC:20170623T190000
DTEND;TZID=UTC:20170623T190000
DTSTAMP:20260420T165821
CREATED:20170607T134857Z
LAST-MODIFIED:20170607T134857Z
UID:19537-1498244400-1498244400@www.suqgenova.it
SUMMARY:La leggenda del pianista sull'oceano
DESCRIPTION:Ore 19 e ore 21.30\nTeatro del dialogo ISOLA DELLE CHIATTE \nDal testo di Alessandro Baricco\ncon Igor Chierici e con Pietro Martinelli contrabbasso\, Lauretta Galeno voce\, Luciano Barbarotta tromba e il piccolo Marco Vecchio.\nRegia Luca Cicolella\nProduzione Igor Chierici con Fondazione Garaventa\nIl viaggio\, il mare\, l’amicizia… su uno dei più grandi transatlantici del Novecento.\n“…avevo diciassette anni quando ci salì\, là sopra: sul Virginian” Così\, Max\, il narratore di tutta la storia\, fa iniziare il sogno. Un sogno che porterà tutto il pubblico a bordo del piroscafo che ha ospitato il più grande pianista di tutti i tempi: Denny Boodman T.D. Lemon Novecento. \nUlteriori informazioni nella pagina dedicata al Teatro del DIalogo
URL:https://www.suqgenova.it/archivio-evento/la-leggenda-del-pianista-sulloceano-2/
CATEGORIES:Suq Festival 2017,Teatro del Dialogo
ATTACH;FMTTYPE=image/jpeg:https://www.suqgenova.it/wp-content/uploads/2017/06/La-leggenda-del-pianista-sulloceano-scaled.jpg
END:VEVENT
BEGIN:VEVENT
DTSTART;TZID=UTC:20170623T190000
DTEND;TZID=UTC:20170623T190000
DTSTAMP:20260420T165821
CREATED:20170607T134857Z
LAST-MODIFIED:20170607T134857Z
UID:20083-1498244400-1498244400@www.suqgenova.it
SUMMARY:La leggenda del pianista sull'oceano
DESCRIPTION:Ore 19 e ore 21.30\nTeatro del dialogo ISOLA DELLE CHIATTE \nDal testo di Alessandro Baricco\ncon Igor Chierici e con Pietro Martinelli contrabbasso\, Lauretta Galeno voce\, Luciano Barbarotta tromba e il piccolo Marco Vecchio.\nRegia Luca Cicolella\nProduzione Igor Chierici con Fondazione Garaventa\nIl viaggio\, il mare\, l’amicizia… su uno dei più grandi transatlantici del Novecento.\n“…avevo diciassette anni quando ci salì\, là sopra: sul Virginian” Così\, Max\, il narratore di tutta la storia\, fa iniziare il sogno. Un sogno che porterà tutto il pubblico a bordo del piroscafo che ha ospitato il più grande pianista di tutti i tempi: Denny Boodman T.D. Lemon Novecento. \nUlteriori informazioni nella pagina dedicata al Teatro del DIalogo
URL:https://www.suqgenova.it/archivio-evento/la-leggenda-del-pianista-sulloceano-3/
CATEGORIES:Suq Festival 2017,Teatro del Dialogo
ATTACH;FMTTYPE=image/jpeg:https://www.suqgenova.it/wp-content/uploads/2017/06/La-leggenda-del-pianista-sulloceano-scaled.jpg
END:VEVENT
BEGIN:VEVENT
DTSTART;TZID=UTC:20170623T190000
DTEND;TZID=UTC:20170623T190000
DTSTAMP:20260420T165821
CREATED:20170607T133354Z
LAST-MODIFIED:20170607T133354Z
UID:5419-1498244400-1498244400@www.suqgenova.it
SUMMARY:La nocciola ligure. Una biodiversità da tutelare | EcoSuq
DESCRIPTION:Presentazione del libro Nocciola ligure con l’autore Sergio Rossi e Andrea Parodi Parodi Nutra Srl\nA seguire degustazione della crema spalmabile alle nocciole di Parodi Nutra.
URL:https://www.suqgenova.it/archivio-evento/nocciola-ligure/
CATEGORIES:Cucina,Eco Suq,Suq Festival 2017
END:VEVENT
BEGIN:VEVENT
DTSTART;TZID=UTC:20170623T190000
DTEND;TZID=UTC:20170623T190000
DTSTAMP:20260420T165821
CREATED:20170607T133354Z
LAST-MODIFIED:20170607T133354Z
UID:19535-1498244400-1498244400@www.suqgenova.it
SUMMARY:La nocciola ligure. Una biodiversità da tutelare | EcoSuq
DESCRIPTION:Presentazione del libro Nocciola ligure con l’autore Sergio Rossi e Andrea Parodi Parodi Nutra Srl\nA seguire degustazione della crema spalmabile alle nocciole di Parodi Nutra.
URL:https://www.suqgenova.it/archivio-evento/nocciola-ligure-2/
CATEGORIES:Cucina,Eco Suq,Suq Festival 2017
END:VEVENT
BEGIN:VEVENT
DTSTART;TZID=UTC:20170623T190000
DTEND;TZID=UTC:20170623T190000
DTSTAMP:20260420T165821
CREATED:20170607T133354Z
LAST-MODIFIED:20170607T133354Z
UID:20081-1498244400-1498244400@www.suqgenova.it
SUMMARY:La nocciola ligure. Una biodiversità da tutelare | EcoSuq
DESCRIPTION:Presentazione del libro Nocciola ligure con l’autore Sergio Rossi e Andrea Parodi Parodi Nutra Srl\nA seguire degustazione della crema spalmabile alle nocciole di Parodi Nutra.
URL:https://www.suqgenova.it/archivio-evento/nocciola-ligure-3/
CATEGORIES:Cucina,Eco Suq,Suq Festival 2017
END:VEVENT
BEGIN:VEVENT
DTSTART;TZID=UTC:20170623T180000
DTEND;TZID=UTC:20170623T180000
DTSTAMP:20260420T165821
CREATED:20170607T133100Z
LAST-MODIFIED:20170607T133100Z
UID:5417-1498240800-1498240800@www.suqgenova.it
SUMMARY:Seconde generazioni: il futuro che arriva da noi
DESCRIPTION:Incontro e lancio di un seminario di formazione rivolto ai giovani per affrontare le nuove sfide della società. Il viaggio e la sosta\, tema del 19° Suq Festival\, nello sguardo di chi arriva e chi parte.\nIntervengono Fulvia Antonelli\, Valeria Ferraris\, Goffredo Fofi\, Andrea Torre\nModera Giacomo D’Alessandro.\nIn collaborazione con Gli Asini\, Centro Medì\, Centro Banchi
URL:https://www.suqgenova.it/archivio-evento/seconde-generazioni-futuro-arriva/
CATEGORIES:Incontri,Suq Festival 2017
END:VEVENT
BEGIN:VEVENT
DTSTART;TZID=UTC:20170623T180000
DTEND;TZID=UTC:20170623T180000
DTSTAMP:20260420T165821
CREATED:20170607T133100Z
LAST-MODIFIED:20170607T133100Z
UID:19534-1498240800-1498240800@www.suqgenova.it
SUMMARY:Seconde generazioni: il futuro che arriva da noi
DESCRIPTION:Incontro e lancio di un seminario di formazione rivolto ai giovani per affrontare le nuove sfide della società. Il viaggio e la sosta\, tema del 19° Suq Festival\, nello sguardo di chi arriva e chi parte.\nIntervengono Fulvia Antonelli\, Valeria Ferraris\, Goffredo Fofi\, Andrea Torre\nModera Giacomo D’Alessandro.\nIn collaborazione con Gli Asini\, Centro Medì\, Centro Banchi
URL:https://www.suqgenova.it/archivio-evento/seconde-generazioni-futuro-arriva-2/
CATEGORIES:Incontri,Suq Festival 2017
END:VEVENT
BEGIN:VEVENT
DTSTART;TZID=UTC:20170623T180000
DTEND;TZID=UTC:20170623T180000
DTSTAMP:20260420T165821
CREATED:20170607T133100Z
LAST-MODIFIED:20170607T133100Z
UID:20080-1498240800-1498240800@www.suqgenova.it
SUMMARY:Seconde generazioni: il futuro che arriva da noi
DESCRIPTION:Incontro e lancio di un seminario di formazione rivolto ai giovani per affrontare le nuove sfide della società. Il viaggio e la sosta\, tema del 19° Suq Festival\, nello sguardo di chi arriva e chi parte.\nIntervengono Fulvia Antonelli\, Valeria Ferraris\, Goffredo Fofi\, Andrea Torre\nModera Giacomo D’Alessandro.\nIn collaborazione con Gli Asini\, Centro Medì\, Centro Banchi
URL:https://www.suqgenova.it/archivio-evento/seconde-generazioni-futuro-arriva-3/
CATEGORIES:Incontri,Suq Festival 2017
END:VEVENT
BEGIN:VEVENT
DTSTART;TZID=UTC:20170623T170000
DTEND;TZID=UTC:20170623T200000
DTSTAMP:20260420T165821
CREATED:20170607T141714Z
LAST-MODIFIED:20170607T141714Z
UID:5432-1498237200-1498248000@www.suqgenova.it
SUMMARY:Tenda della Sosta
DESCRIPTION:Dalle 17 alle 20 ogni giorno si può sostare in modo attivo: incontri con associazioni e progetti\, laboratori\, gruppi di lettura\, iniziative “last minute”\n> ore 17 Incontro con Associazione Y.E.A.S.T. Youth Europe Around Sustainability Tables\n> ore 18 Incontro con Endofap Liguria\n> ore 19 Incontro con Associazione di Promozione Sociale Pas à pas\n> ore 19.30 Amnesty International al Suq: il caso Regeni\, la campagna di denuncia contro le spose bambine\, i nuovi progetti per la difesa dei diritti umani
URL:https://www.suqgenova.it/archivio-evento/tenda-della-sosta-23/
CATEGORIES:Suq Festival 2017,Tenda della Sosta
ATTACH;FMTTYPE=image/jpeg:https://www.suqgenova.it/wp-content/uploads/2017/06/tenda-berbera-scaled.jpg
END:VEVENT
BEGIN:VEVENT
DTSTART;TZID=UTC:20170623T170000
DTEND;TZID=UTC:20170623T200000
DTSTAMP:20260420T165821
CREATED:20170607T141714Z
LAST-MODIFIED:20170607T141714Z
UID:19539-1498237200-1498248000@www.suqgenova.it
SUMMARY:Tenda della Sosta
DESCRIPTION:Dalle 17 alle 20 ogni giorno si può sostare in modo attivo: incontri con associazioni e progetti\, laboratori\, gruppi di lettura\, iniziative “last minute”\n> ore 17 Incontro con Associazione Y.E.A.S.T. Youth Europe Around Sustainability Tables\n> ore 18 Incontro con Endofap Liguria\n> ore 19 Incontro con Associazione di Promozione Sociale Pas à pas\n> ore 19.30 Amnesty International al Suq: il caso Regeni\, la campagna di denuncia contro le spose bambine\, i nuovi progetti per la difesa dei diritti umani
URL:https://www.suqgenova.it/archivio-evento/tenda-della-sosta-23-2/
CATEGORIES:Suq Festival 2017,Tenda della Sosta
ATTACH;FMTTYPE=image/jpeg:https://www.suqgenova.it/wp-content/uploads/2017/06/tenda-berbera-scaled.jpg
END:VEVENT
BEGIN:VEVENT
DTSTART;TZID=UTC:20170623T170000
DTEND;TZID=UTC:20170623T200000
DTSTAMP:20260420T165821
CREATED:20170607T141714Z
LAST-MODIFIED:20170607T141714Z
UID:20085-1498237200-1498248000@www.suqgenova.it
SUMMARY:Tenda della Sosta
DESCRIPTION:Dalle 17 alle 20 ogni giorno si può sostare in modo attivo: incontri con associazioni e progetti\, laboratori\, gruppi di lettura\, iniziative “last minute”\n> ore 17 Incontro con Associazione Y.E.A.S.T. Youth Europe Around Sustainability Tables\n> ore 18 Incontro con Endofap Liguria\n> ore 19 Incontro con Associazione di Promozione Sociale Pas à pas\n> ore 19.30 Amnesty International al Suq: il caso Regeni\, la campagna di denuncia contro le spose bambine\, i nuovi progetti per la difesa dei diritti umani
URL:https://www.suqgenova.it/archivio-evento/tenda-della-sosta-23-3/
CATEGORIES:Suq Festival 2017,Tenda della Sosta
ATTACH;FMTTYPE=image/jpeg:https://www.suqgenova.it/wp-content/uploads/2017/06/tenda-berbera-scaled.jpg
END:VEVENT
BEGIN:VEVENT
DTSTART;TZID=UTC:20170623T160000
DTEND;TZID=UTC:20170623T160000
DTSTAMP:20260420T165821
CREATED:20170616T100423Z
LAST-MODIFIED:20170616T100423Z
UID:5647-1498233600-1498233600@www.suqgenova.it
SUMMARY:A spasso per il Suq
DESCRIPTION:Tour del bazar alla scoperta di sapori e artigianato dal mondo.
URL:https://www.suqgenova.it/archivio-evento/a-spasso-per-il-suq/
CATEGORIES:Suq Festival 2017
ATTACH;FMTTYPE=image/jpeg:https://www.suqgenova.it/wp-content/uploads/2017/06/Angolo-spezie-al-Suq-scaled.jpg
END:VEVENT
BEGIN:VEVENT
DTSTART;TZID=UTC:20170623T160000
DTEND;TZID=UTC:20170623T160000
DTSTAMP:20260420T165821
CREATED:20170616T100423Z
LAST-MODIFIED:20170616T100423Z
UID:19558-1498233600-1498233600@www.suqgenova.it
SUMMARY:A spasso per il Suq
DESCRIPTION:Tour del bazar alla scoperta di sapori e artigianato dal mondo.
URL:https://www.suqgenova.it/archivio-evento/a-spasso-per-il-suq-2/
CATEGORIES:Suq Festival 2017
ATTACH;FMTTYPE=image/jpeg:https://www.suqgenova.it/wp-content/uploads/2017/06/Angolo-spezie-al-Suq-scaled.jpg
END:VEVENT
BEGIN:VEVENT
DTSTART;TZID=UTC:20170623T160000
DTEND;TZID=UTC:20170623T160000
DTSTAMP:20260420T165821
CREATED:20170616T100423Z
LAST-MODIFIED:20170616T100423Z
UID:20104-1498233600-1498233600@www.suqgenova.it
SUMMARY:A spasso per il Suq
DESCRIPTION:Tour del bazar alla scoperta di sapori e artigianato dal mondo.
URL:https://www.suqgenova.it/archivio-evento/a-spasso-per-il-suq-3/
CATEGORIES:Suq Festival 2017
ATTACH;FMTTYPE=image/jpeg:https://www.suqgenova.it/wp-content/uploads/2017/06/Angolo-spezie-al-Suq-scaled.jpg
END:VEVENT
END:VCALENDAR