BEGIN:VCALENDAR
VERSION:2.0
PRODID:-//Suq Genova - ECPv6.15.20//NONSGML v1.0//EN
CALSCALE:GREGORIAN
METHOD:PUBLISH
X-WR-CALNAME:Suq Genova
X-ORIGINAL-URL:https://www.suqgenova.it
X-WR-CALDESC:Eventi per Suq Genova
REFRESH-INTERVAL;VALUE=DURATION:PT1H
X-Robots-Tag:noindex
X-PUBLISHED-TTL:PT1H
BEGIN:VTIMEZONE
TZID:UTC
BEGIN:STANDARD
TZOFFSETFROM:+0000
TZOFFSETTO:+0000
TZNAME:UTC
DTSTART:20160101T000000
END:STANDARD
END:VTIMEZONE
BEGIN:VEVENT
DTSTART;TZID=UTC:20170621T170000
DTEND;TZID=UTC:20170621T200000
DTSTAMP:20260421T031116
CREATED:20170607T122534Z
LAST-MODIFIED:20170607T122534Z
UID:5388-1498064400-1498075200@www.suqgenova.it
SUMMARY:Tenda della Sosta
DESCRIPTION:Dalle 17 alle 20 ogni giorno si può sostare in modo attivo: incontri con associazioni e progetti\, laboratori\, gruppi di lettura\, iniziative “last minute\n> ore 17\nEcoSuq\nCOSTRUIAMO UNA MARACAS\nLaboratorio per bambini Alla scoperta del Marte-BI a cura di Marta Antonucci\n>ore 18\nPresentazione al pubblico delle attività di Cooperativa Boschivivi\, Cooperativa Ziguele e Cooperativa Agricola Sociale Ortocircuito
URL:https://www.suqgenova.it/archivio-evento/tenda-della-sosta-21/
CATEGORIES:Suq Festival 2017,Tenda della Sosta
ATTACH;FMTTYPE=image/jpeg:https://www.suqgenova.it/wp-content/uploads/2017/06/tenda-berbera-scaled.jpg
END:VEVENT
BEGIN:VEVENT
DTSTART;TZID=UTC:20170621T170000
DTEND;TZID=UTC:20170621T200000
DTSTAMP:20260421T031116
CREATED:20170607T122534Z
LAST-MODIFIED:20170607T122534Z
UID:19523-1498064400-1498075200@www.suqgenova.it
SUMMARY:Tenda della Sosta
DESCRIPTION:Dalle 17 alle 20 ogni giorno si può sostare in modo attivo: incontri con associazioni e progetti\, laboratori\, gruppi di lettura\, iniziative “last minute\n> ore 17\nEcoSuq\nCOSTRUIAMO UNA MARACAS\nLaboratorio per bambini Alla scoperta del Marte-BI a cura di Marta Antonucci\n>ore 18\nPresentazione al pubblico delle attività di Cooperativa Boschivivi\, Cooperativa Ziguele e Cooperativa Agricola Sociale Ortocircuito
URL:https://www.suqgenova.it/archivio-evento/tenda-della-sosta-21-2/
CATEGORIES:Suq Festival 2017,Tenda della Sosta
ATTACH;FMTTYPE=image/jpeg:https://www.suqgenova.it/wp-content/uploads/2017/06/tenda-berbera-scaled.jpg
END:VEVENT
BEGIN:VEVENT
DTSTART;TZID=UTC:20170621T170000
DTEND;TZID=UTC:20170621T200000
DTSTAMP:20260421T031116
CREATED:20170607T122534Z
LAST-MODIFIED:20170607T122534Z
UID:20069-1498064400-1498075200@www.suqgenova.it
SUMMARY:Tenda della Sosta
DESCRIPTION:Dalle 17 alle 20 ogni giorno si può sostare in modo attivo: incontri con associazioni e progetti\, laboratori\, gruppi di lettura\, iniziative “last minute\n> ore 17\nEcoSuq\nCOSTRUIAMO UNA MARACAS\nLaboratorio per bambini Alla scoperta del Marte-BI a cura di Marta Antonucci\n>ore 18\nPresentazione al pubblico delle attività di Cooperativa Boschivivi\, Cooperativa Ziguele e Cooperativa Agricola Sociale Ortocircuito
URL:https://www.suqgenova.it/archivio-evento/tenda-della-sosta-21-3/
CATEGORIES:Suq Festival 2017,Tenda della Sosta
ATTACH;FMTTYPE=image/jpeg:https://www.suqgenova.it/wp-content/uploads/2017/06/tenda-berbera-scaled.jpg
END:VEVENT
BEGIN:VEVENT
DTSTART;TZID=UTC:20170621T160000
DTEND;TZID=UTC:20170621T160000
DTSTAMP:20260421T031116
CREATED:20170607T115007Z
LAST-MODIFIED:20170607T115007Z
UID:5372-1498060800-1498060800@www.suqgenova.it
SUMMARY:Yoga bimbi
DESCRIPTION:Lezione di yoga con Paola Magni. In collaborazione con Coordinamento YogaDay Genova
URL:https://www.suqgenova.it/archivio-evento/yoga-bimbi/
CATEGORIES:Laboratori,Suq Festival 2017
END:VEVENT
BEGIN:VEVENT
DTSTART;TZID=UTC:20170621T160000
DTEND;TZID=UTC:20170621T160000
DTSTAMP:20260421T031116
CREATED:20170607T115007Z
LAST-MODIFIED:20170607T115007Z
UID:19517-1498060800-1498060800@www.suqgenova.it
SUMMARY:Yoga bimbi
DESCRIPTION:Lezione di yoga con Paola Magni. In collaborazione con Coordinamento YogaDay Genova
URL:https://www.suqgenova.it/archivio-evento/yoga-bimbi-2/
CATEGORIES:Laboratori,Suq Festival 2017
END:VEVENT
BEGIN:VEVENT
DTSTART;TZID=UTC:20170621T160000
DTEND;TZID=UTC:20170621T160000
DTSTAMP:20260421T031116
CREATED:20170607T115007Z
LAST-MODIFIED:20170607T115007Z
UID:20063-1498060800-1498060800@www.suqgenova.it
SUMMARY:Yoga bimbi
DESCRIPTION:Lezione di yoga con Paola Magni. In collaborazione con Coordinamento YogaDay Genova
URL:https://www.suqgenova.it/archivio-evento/yoga-bimbi-3/
CATEGORIES:Laboratori,Suq Festival 2017
END:VEVENT
BEGIN:VEVENT
DTSTART;TZID=UTC:20170620T220000
DTEND;TZID=UTC:20170620T220000
DTSTAMP:20260421T031116
CREATED:20170607T114518Z
LAST-MODIFIED:20170607T114518Z
UID:5367-1497996000-1497996000@www.suqgenova.it
SUMMARY:Ajde Zora - Balkan Gipsy Music
DESCRIPTION:Con Milica Polignano voce\, Micol Tosatti violino\, Francesco Mattarello fisarmonica\, Francesco Prearo batteria e percussioni\, Giulio Gavardi chitarra saz e sax Giorgio Marinaro basso\nUna carovana musicale per esplorare i Balcani\, l’energia e la passionalità della musica popolare che si sprigiona tra frenetiche danze e struggenti ballate.
URL:https://www.suqgenova.it/archivio-evento/ajde-zora-balkan-gipsy-music/
CATEGORIES:Musica,Suq Festival 2017
ATTACH;FMTTYPE=image/jpeg:https://www.suqgenova.it/wp-content/uploads/2015/08/Ajde-Zora_-Balkan-Gipsy-Music.jpg
END:VEVENT
BEGIN:VEVENT
DTSTART;TZID=UTC:20170620T220000
DTEND;TZID=UTC:20170620T220000
DTSTAMP:20260421T031116
CREATED:20170607T114518Z
LAST-MODIFIED:20170607T114518Z
UID:19515-1497996000-1497996000@www.suqgenova.it
SUMMARY:Ajde Zora - Balkan Gipsy Music
DESCRIPTION:Con Milica Polignano voce\, Micol Tosatti violino\, Francesco Mattarello fisarmonica\, Francesco Prearo batteria e percussioni\, Giulio Gavardi chitarra saz e sax Giorgio Marinaro basso\nUna carovana musicale per esplorare i Balcani\, l’energia e la passionalità della musica popolare che si sprigiona tra frenetiche danze e struggenti ballate.
URL:https://www.suqgenova.it/archivio-evento/ajde-zora-balkan-gipsy-music-2/
CATEGORIES:Musica,Suq Festival 2017
ATTACH;FMTTYPE=image/jpeg:https://www.suqgenova.it/wp-content/uploads/2015/08/Ajde-Zora_-Balkan-Gipsy-Music.jpg
END:VEVENT
BEGIN:VEVENT
DTSTART;TZID=UTC:20170620T220000
DTEND;TZID=UTC:20170620T220000
DTSTAMP:20260421T031116
CREATED:20170607T114518Z
LAST-MODIFIED:20170607T114518Z
UID:20061-1497996000-1497996000@www.suqgenova.it
SUMMARY:Ajde Zora - Balkan Gipsy Music
DESCRIPTION:Con Milica Polignano voce\, Micol Tosatti violino\, Francesco Mattarello fisarmonica\, Francesco Prearo batteria e percussioni\, Giulio Gavardi chitarra saz e sax Giorgio Marinaro basso\nUna carovana musicale per esplorare i Balcani\, l’energia e la passionalità della musica popolare che si sprigiona tra frenetiche danze e struggenti ballate.
URL:https://www.suqgenova.it/archivio-evento/ajde-zora-balkan-gipsy-music-3/
CATEGORIES:Musica,Suq Festival 2017
ATTACH;FMTTYPE=image/jpeg:https://www.suqgenova.it/wp-content/uploads/2015/08/Ajde-Zora_-Balkan-Gipsy-Music.jpg
END:VEVENT
BEGIN:VEVENT
DTSTART;TZID=UTC:20170620T210000
DTEND;TZID=UTC:20170620T210000
DTSTAMP:20260421T031116
CREATED:20170607T113858Z
LAST-MODIFIED:20170607T113858Z
UID:5365-1497992400-1497992400@www.suqgenova.it
SUMMARY:Lucia Goracci e Aida Touihiri
DESCRIPTION:Il panorama internazionale\, il ruolo dell’informazione: incontro con due giornaliste impegnate in prima linea. Conduce Tarcisio Mazzeo RAI TG Liguria\nA loro il Premio Agorà-MED21 per il dialogo tra le due sponde del Mediterraneo\, ideato da Suq Festival e Programma MED 21. Consegnano il Premio Franca Speranza Cosulich e Irene Parmeggiani.\nIn collaborazione con Alliance Française\, Grandi Navi Veloci e Museo Luzzati
URL:https://www.suqgenova.it/archivio-evento/lucia-goracci-aida-touihiri/
CATEGORIES:Incontri,Suq Festival 2017
ATTACH;FMTTYPE=image/jpeg:https://www.suqgenova.it/wp-content/uploads/2017/06/Lucia-Goracci-e-Aida-Touihiri.jpg
END:VEVENT
BEGIN:VEVENT
DTSTART;TZID=UTC:20170620T210000
DTEND;TZID=UTC:20170620T210000
DTSTAMP:20260421T031116
CREATED:20170607T113858Z
LAST-MODIFIED:20170607T113858Z
UID:19514-1497992400-1497992400@www.suqgenova.it
SUMMARY:Lucia Goracci e Aida Touihiri
DESCRIPTION:Il panorama internazionale\, il ruolo dell’informazione: incontro con due giornaliste impegnate in prima linea. Conduce Tarcisio Mazzeo RAI TG Liguria\nA loro il Premio Agorà-MED21 per il dialogo tra le due sponde del Mediterraneo\, ideato da Suq Festival e Programma MED 21. Consegnano il Premio Franca Speranza Cosulich e Irene Parmeggiani.\nIn collaborazione con Alliance Française\, Grandi Navi Veloci e Museo Luzzati
URL:https://www.suqgenova.it/archivio-evento/lucia-goracci-aida-touihiri-2/
CATEGORIES:Incontri,Suq Festival 2017
ATTACH;FMTTYPE=image/jpeg:https://www.suqgenova.it/wp-content/uploads/2017/06/Lucia-Goracci-e-Aida-Touihiri.jpg
END:VEVENT
BEGIN:VEVENT
DTSTART;TZID=UTC:20170620T210000
DTEND;TZID=UTC:20170620T210000
DTSTAMP:20260421T031116
CREATED:20170607T113858Z
LAST-MODIFIED:20170607T113858Z
UID:20060-1497992400-1497992400@www.suqgenova.it
SUMMARY:Lucia Goracci e Aida Touihiri
DESCRIPTION:Il panorama internazionale\, il ruolo dell’informazione: incontro con due giornaliste impegnate in prima linea. Conduce Tarcisio Mazzeo RAI TG Liguria\nA loro il Premio Agorà-MED21 per il dialogo tra le due sponde del Mediterraneo\, ideato da Suq Festival e Programma MED 21. Consegnano il Premio Franca Speranza Cosulich e Irene Parmeggiani.\nIn collaborazione con Alliance Française\, Grandi Navi Veloci e Museo Luzzati
URL:https://www.suqgenova.it/archivio-evento/lucia-goracci-aida-touihiri-3/
CATEGORIES:Incontri,Suq Festival 2017
ATTACH;FMTTYPE=image/jpeg:https://www.suqgenova.it/wp-content/uploads/2017/06/Lucia-Goracci-e-Aida-Touihiri.jpg
END:VEVENT
BEGIN:VEVENT
DTSTART;TZID=UTC:20170620T193000
DTEND;TZID=UTC:20170620T193000
DTSTAMP:20260421T031116
CREATED:20170607T113149Z
LAST-MODIFIED:20170607T113149Z
UID:5360-1497987000-1497987000@www.suqgenova.it
SUMMARY:Kamba Food
DESCRIPTION:Showcooking di cucina afro a cura dell’Associazione Kamba che con i suoi progetti di inclusione di richiedenti asilo e migranti ha ottenuto riconoscimenti e premi. A cura di Emanuela Vita\, Carla Guerra\, Valentino Efoghe\, Adama Camara
URL:https://www.suqgenova.it/archivio-evento/kamba-food/
CATEGORIES:Cucina,Suq Festival 2017
ATTACH;FMTTYPE=image/jpeg:https://www.suqgenova.it/wp-content/uploads/2015/08/Kamba-Food-Showcooking.jpg
END:VEVENT
BEGIN:VEVENT
DTSTART;TZID=UTC:20170620T193000
DTEND;TZID=UTC:20170620T193000
DTSTAMP:20260421T031116
CREATED:20170607T113149Z
LAST-MODIFIED:20170607T113149Z
UID:19512-1497987000-1497987000@www.suqgenova.it
SUMMARY:Kamba Food
DESCRIPTION:Showcooking di cucina afro a cura dell’Associazione Kamba che con i suoi progetti di inclusione di richiedenti asilo e migranti ha ottenuto riconoscimenti e premi. A cura di Emanuela Vita\, Carla Guerra\, Valentino Efoghe\, Adama Camara
URL:https://www.suqgenova.it/archivio-evento/kamba-food-2/
CATEGORIES:Cucina,Suq Festival 2017
ATTACH;FMTTYPE=image/jpeg:https://www.suqgenova.it/wp-content/uploads/2015/08/Kamba-Food-Showcooking.jpg
END:VEVENT
BEGIN:VEVENT
DTSTART;TZID=UTC:20170620T193000
DTEND;TZID=UTC:20170620T193000
DTSTAMP:20260421T031116
CREATED:20170607T113149Z
LAST-MODIFIED:20170607T113149Z
UID:20058-1497987000-1497987000@www.suqgenova.it
SUMMARY:Kamba Food
DESCRIPTION:Showcooking di cucina afro a cura dell’Associazione Kamba che con i suoi progetti di inclusione di richiedenti asilo e migranti ha ottenuto riconoscimenti e premi. A cura di Emanuela Vita\, Carla Guerra\, Valentino Efoghe\, Adama Camara
URL:https://www.suqgenova.it/archivio-evento/kamba-food-3/
CATEGORIES:Cucina,Suq Festival 2017
ATTACH;FMTTYPE=image/jpeg:https://www.suqgenova.it/wp-content/uploads/2015/08/Kamba-Food-Showcooking.jpg
END:VEVENT
BEGIN:VEVENT
DTSTART;TZID=UTC:20170620T170000
DTEND;TZID=UTC:20170620T200000
DTSTAMP:20260421T031116
CREATED:20170607T114742Z
LAST-MODIFIED:20170607T114742Z
UID:5369-1497978000-1497988800@www.suqgenova.it
SUMMARY:Tenda della Sosta
DESCRIPTION:Dalle 17 alle 20 ogni giorno si può sostare in modo attivo: incontri con associazioni e progetti\, laboratori\, gruppi di lettura\, iniziative “last minute”\n> ore 19 Incontro con Refugees Welcome Italia Onlus: una nuova cultura dell’accoglienza
URL:https://www.suqgenova.it/archivio-evento/tenda-della-sosta-20/
CATEGORIES:Suq Festival 2017,Tenda della Sosta
ATTACH;FMTTYPE=image/jpeg:https://www.suqgenova.it/wp-content/uploads/2017/06/tenda-berbera-scaled.jpg
END:VEVENT
BEGIN:VEVENT
DTSTART;TZID=UTC:20170620T170000
DTEND;TZID=UTC:20170620T200000
DTSTAMP:20260421T031116
CREATED:20170607T114742Z
LAST-MODIFIED:20170607T114742Z
UID:19516-1497978000-1497988800@www.suqgenova.it
SUMMARY:Tenda della Sosta
DESCRIPTION:Dalle 17 alle 20 ogni giorno si può sostare in modo attivo: incontri con associazioni e progetti\, laboratori\, gruppi di lettura\, iniziative “last minute”\n> ore 19 Incontro con Refugees Welcome Italia Onlus: una nuova cultura dell’accoglienza
URL:https://www.suqgenova.it/archivio-evento/tenda-della-sosta-20-2/
CATEGORIES:Suq Festival 2017,Tenda della Sosta
ATTACH;FMTTYPE=image/jpeg:https://www.suqgenova.it/wp-content/uploads/2017/06/tenda-berbera-scaled.jpg
END:VEVENT
BEGIN:VEVENT
DTSTART;TZID=UTC:20170620T170000
DTEND;TZID=UTC:20170620T200000
DTSTAMP:20260421T031116
CREATED:20170607T114742Z
LAST-MODIFIED:20170607T114742Z
UID:20062-1497978000-1497988800@www.suqgenova.it
SUMMARY:Tenda della Sosta
DESCRIPTION:Dalle 17 alle 20 ogni giorno si può sostare in modo attivo: incontri con associazioni e progetti\, laboratori\, gruppi di lettura\, iniziative “last minute”\n> ore 19 Incontro con Refugees Welcome Italia Onlus: una nuova cultura dell’accoglienza
URL:https://www.suqgenova.it/archivio-evento/tenda-della-sosta-20-3/
CATEGORIES:Suq Festival 2017,Tenda della Sosta
ATTACH;FMTTYPE=image/jpeg:https://www.suqgenova.it/wp-content/uploads/2017/06/tenda-berbera-scaled.jpg
END:VEVENT
BEGIN:VEVENT
DTSTART;TZID=UTC:20170620T170000
DTEND;TZID=UTC:20170620T170000
DTSTAMP:20260421T031116
CREATED:20170620T090014Z
LAST-MODIFIED:20170620T090014Z
UID:5706-1497978000-1497978000@www.suqgenova.it
SUMMARY:Danze al Suq
DESCRIPTION:
URL:https://www.suqgenova.it/archivio-evento/danze-al-suq-2/
CATEGORIES:Danza,Suq Festival 2017
END:VEVENT
BEGIN:VEVENT
DTSTART;TZID=UTC:20170620T170000
DTEND;TZID=UTC:20170620T170000
DTSTAMP:20260421T031116
CREATED:20170620T090014Z
LAST-MODIFIED:20170620T090014Z
UID:19559-1497978000-1497978000@www.suqgenova.it
SUMMARY:Danze al Suq
DESCRIPTION:
URL:https://www.suqgenova.it/archivio-evento/danze-al-suq-2-2/
CATEGORIES:Danza,Suq Festival 2017
END:VEVENT
BEGIN:VEVENT
DTSTART;TZID=UTC:20170620T170000
DTEND;TZID=UTC:20170620T170000
DTSTAMP:20260421T031116
CREATED:20170620T090014Z
LAST-MODIFIED:20170620T090014Z
UID:20105-1497978000-1497978000@www.suqgenova.it
SUMMARY:Danze al Suq
DESCRIPTION:
URL:https://www.suqgenova.it/archivio-evento/danze-al-suq-2-3/
CATEGORIES:Danza,Suq Festival 2017
END:VEVENT
BEGIN:VEVENT
DTSTART;TZID=UTC:20170620T160000
DTEND;TZID=UTC:20170620T160000
DTSTAMP:20260421T031116
CREATED:20170607T112039Z
LAST-MODIFIED:20170607T112039Z
UID:5352-1497974400-1497974400@www.suqgenova.it
SUMMARY:Di seme in seme...
DESCRIPTION:Laboratorio agricolo a cura di Associazione Le Serre di San Nicola
URL:https://www.suqgenova.it/archivio-evento/di-seme-in-seme/
CATEGORIES:Laboratori,Suq Festival 2017
END:VEVENT
BEGIN:VEVENT
DTSTART;TZID=UTC:20170620T160000
DTEND;TZID=UTC:20170620T160000
DTSTAMP:20260421T031116
CREATED:20170607T112039Z
LAST-MODIFIED:20170607T112039Z
UID:19509-1497974400-1497974400@www.suqgenova.it
SUMMARY:Di seme in seme...
DESCRIPTION:Laboratorio agricolo a cura di Associazione Le Serre di San Nicola
URL:https://www.suqgenova.it/archivio-evento/di-seme-in-seme-2/
CATEGORIES:Laboratori,Suq Festival 2017
END:VEVENT
BEGIN:VEVENT
DTSTART;TZID=UTC:20170620T160000
DTEND;TZID=UTC:20170620T160000
DTSTAMP:20260421T031116
CREATED:20170607T112039Z
LAST-MODIFIED:20170607T112039Z
UID:20055-1497974400-1497974400@www.suqgenova.it
SUMMARY:Di seme in seme...
DESCRIPTION:Laboratorio agricolo a cura di Associazione Le Serre di San Nicola
URL:https://www.suqgenova.it/archivio-evento/di-seme-in-seme-3/
CATEGORIES:Laboratori,Suq Festival 2017
END:VEVENT
BEGIN:VEVENT
DTSTART;TZID=UTC:20170619T223000
DTEND;TZID=UTC:20170619T223000
DTSTAMP:20260421T031116
CREATED:20170607T110409Z
LAST-MODIFIED:20170607T110409Z
UID:5342-1497911400-1497911400@www.suqgenova.it
SUMMARY:Otto Baffi
DESCRIPTION:Con Filippo Gambetta organetto\, Sergio Caputo violino\, Carmelo Russo chitarra\nUn viaggio musicale attraverso musiche originali\, legate al repertorio da danza tradizionale italiana ed europea\, rivolte a chi danza e a chi ascolta.. che una volta finito si ha subito voglia di rifare
URL:https://www.suqgenova.it/archivio-evento/otto-baffi/
CATEGORIES:Musica,Suq Festival 2017
ATTACH;FMTTYPE=image/jpeg:https://www.suqgenova.it/wp-content/uploads/2017/06/Otto-Baffi-F.Gambetta-S.-Caputo-C.-Russo-scaled.jpg
END:VEVENT
BEGIN:VEVENT
DTSTART;TZID=UTC:20170619T223000
DTEND;TZID=UTC:20170619T223000
DTSTAMP:20260421T031116
CREATED:20170607T110409Z
LAST-MODIFIED:20170607T110409Z
UID:19506-1497911400-1497911400@www.suqgenova.it
SUMMARY:Otto Baffi
DESCRIPTION:Con Filippo Gambetta organetto\, Sergio Caputo violino\, Carmelo Russo chitarra\nUn viaggio musicale attraverso musiche originali\, legate al repertorio da danza tradizionale italiana ed europea\, rivolte a chi danza e a chi ascolta.. che una volta finito si ha subito voglia di rifare
URL:https://www.suqgenova.it/archivio-evento/otto-baffi-2/
CATEGORIES:Musica,Suq Festival 2017
ATTACH;FMTTYPE=image/jpeg:https://www.suqgenova.it/wp-content/uploads/2017/06/Otto-Baffi-F.Gambetta-S.-Caputo-C.-Russo-scaled.jpg
END:VEVENT
BEGIN:VEVENT
DTSTART;TZID=UTC:20170619T223000
DTEND;TZID=UTC:20170619T223000
DTSTAMP:20260421T031116
CREATED:20170607T110409Z
LAST-MODIFIED:20170607T110409Z
UID:20052-1497911400-1497911400@www.suqgenova.it
SUMMARY:Otto Baffi
DESCRIPTION:Con Filippo Gambetta organetto\, Sergio Caputo violino\, Carmelo Russo chitarra\nUn viaggio musicale attraverso musiche originali\, legate al repertorio da danza tradizionale italiana ed europea\, rivolte a chi danza e a chi ascolta.. che una volta finito si ha subito voglia di rifare
URL:https://www.suqgenova.it/archivio-evento/otto-baffi-3/
CATEGORIES:Musica,Suq Festival 2017
ATTACH;FMTTYPE=image/jpeg:https://www.suqgenova.it/wp-content/uploads/2017/06/Otto-Baffi-F.Gambetta-S.-Caputo-C.-Russo-scaled.jpg
END:VEVENT
BEGIN:VEVENT
DTSTART;TZID=UTC:20170619T213000
DTEND;TZID=UTC:20170619T213000
DTSTAMP:20260421T031116
CREATED:20170607T105710Z
LAST-MODIFIED:20170607T105710Z
UID:5336-1497907800-1497907800@www.suqgenova.it
SUMMARY:Deuteronomio Pentateuco #5
DESCRIPTION:Teatro del dialogo\nMuseo Luzzati\nDi Marco Di Stefano\nDrammaturgia Chiara Boscaro\nDon Giovanni Gioia\nMusiche originali Lorenzo Brufatto\nProduzione Suq Festival\, Associazione K. e Infallible Productions/Draper Hall\nin collaborazione con Teatro Verdi – Teatro del Buratto\nIn prima nazionale l’ultima tappa della ricerca artistica della Confraternita del Chianti .Una ricerca artistica che si ispira al Deuteronomio biblico\, ma si immerge nel quotidiano. Per scoprire che la Terra Promessa è la meta di un cammino interiore. \nUlteriori informazioni nella pagina dedicata al Teatro del DIalogo
URL:https://www.suqgenova.it/archivio-evento/deuteronomio-pentateuco-5/
CATEGORIES:Suq Festival 2017,Teatro del Dialogo
ATTACH;FMTTYPE=image/png:https://www.suqgenova.it/wp-content/uploads/2017/06/Deuteronomio-680x260-1.png
END:VEVENT
BEGIN:VEVENT
DTSTART;TZID=UTC:20170619T213000
DTEND;TZID=UTC:20170619T213000
DTSTAMP:20260421T031116
CREATED:20170607T105710Z
LAST-MODIFIED:20170607T105710Z
UID:19505-1497907800-1497907800@www.suqgenova.it
SUMMARY:Deuteronomio Pentateuco #5
DESCRIPTION:Teatro del dialogo\nMuseo Luzzati\nDi Marco Di Stefano\nDrammaturgia Chiara Boscaro\nDon Giovanni Gioia\nMusiche originali Lorenzo Brufatto\nProduzione Suq Festival\, Associazione K. e Infallible Productions/Draper Hall\nin collaborazione con Teatro Verdi – Teatro del Buratto\nIn prima nazionale l’ultima tappa della ricerca artistica della Confraternita del Chianti .Una ricerca artistica che si ispira al Deuteronomio biblico\, ma si immerge nel quotidiano. Per scoprire che la Terra Promessa è la meta di un cammino interiore. \nUlteriori informazioni nella pagina dedicata al Teatro del DIalogo
URL:https://www.suqgenova.it/archivio-evento/deuteronomio-pentateuco-5-2/
CATEGORIES:Suq Festival 2017,Teatro del Dialogo
ATTACH;FMTTYPE=image/png:https://www.suqgenova.it/wp-content/uploads/2017/06/Deuteronomio-680x260-1.png
END:VEVENT
BEGIN:VEVENT
DTSTART;TZID=UTC:20170619T213000
DTEND;TZID=UTC:20170619T213000
DTSTAMP:20260421T031116
CREATED:20170607T105710Z
LAST-MODIFIED:20170607T105710Z
UID:20051-1497907800-1497907800@www.suqgenova.it
SUMMARY:Deuteronomio Pentateuco #5
DESCRIPTION:Teatro del dialogo\nMuseo Luzzati\nDi Marco Di Stefano\nDrammaturgia Chiara Boscaro\nDon Giovanni Gioia\nMusiche originali Lorenzo Brufatto\nProduzione Suq Festival\, Associazione K. e Infallible Productions/Draper Hall\nin collaborazione con Teatro Verdi – Teatro del Buratto\nIn prima nazionale l’ultima tappa della ricerca artistica della Confraternita del Chianti .Una ricerca artistica che si ispira al Deuteronomio biblico\, ma si immerge nel quotidiano. Per scoprire che la Terra Promessa è la meta di un cammino interiore. \nUlteriori informazioni nella pagina dedicata al Teatro del DIalogo
URL:https://www.suqgenova.it/archivio-evento/deuteronomio-pentateuco-5-3/
CATEGORIES:Suq Festival 2017,Teatro del Dialogo
ATTACH;FMTTYPE=image/png:https://www.suqgenova.it/wp-content/uploads/2017/06/Deuteronomio-680x260-1.png
END:VEVENT
END:VCALENDAR