BEGIN:VCALENDAR
VERSION:2.0
PRODID:-//Suq Genova - ECPv6.15.20//NONSGML v1.0//EN
CALSCALE:GREGORIAN
METHOD:PUBLISH
X-ORIGINAL-URL:https://www.suqgenova.it
X-WR-CALDESC:Eventi per Suq Genova
REFRESH-INTERVAL;VALUE=DURATION:PT1H
X-Robots-Tag:noindex
X-PUBLISHED-TTL:PT1H
BEGIN:VTIMEZONE
TZID:UTC
BEGIN:STANDARD
TZOFFSETFROM:+0000
TZOFFSETTO:+0000
TZNAME:UTC
DTSTART:20150101T000000
END:STANDARD
END:VTIMEZONE
BEGIN:VEVENT
DTSTART;TZID=UTC:20160622T160000
DTEND;TZID=UTC:20160622T170000
DTSTAMP:20260421T072519
CREATED:20160609T075319Z
LAST-MODIFIED:20160609T075319Z
UID:3683-1466611200-1466614800@www.suqgenova.it
SUMMARY:Riciclo creativo
DESCRIPTION:Laboratorio per bambini a cura di Fondazione Muvita.
URL:https://www.suqgenova.it/archivio-evento/riciclo-creativo-2/
CATEGORIES:Laboratori,Suq Festival 2016
ATTACH;FMTTYPE=image/png:https://www.suqgenova.it/wp-content/uploads/2016/06/bambini.png
END:VEVENT
BEGIN:VEVENT
DTSTART;TZID=UTC:20160622T160000
DTEND;TZID=UTC:20160622T170000
DTSTAMP:20260421T072519
CREATED:20160609T075319Z
LAST-MODIFIED:20160609T075319Z
UID:19428-1466611200-1466614800@www.suqgenova.it
SUMMARY:Riciclo creativo
DESCRIPTION:Laboratorio per bambini a cura di Fondazione Muvita.
URL:https://www.suqgenova.it/archivio-evento/riciclo-creativo-2-2/
CATEGORIES:Laboratori,Suq Festival 2016
ATTACH;FMTTYPE=image/png:https://www.suqgenova.it/wp-content/uploads/2016/06/bambini.png
END:VEVENT
BEGIN:VEVENT
DTSTART;TZID=UTC:20160622T160000
DTEND;TZID=UTC:20160622T170000
DTSTAMP:20260421T072519
CREATED:20160609T075319Z
LAST-MODIFIED:20160609T075319Z
UID:19974-1466611200-1466614800@www.suqgenova.it
SUMMARY:Riciclo creativo
DESCRIPTION:Laboratorio per bambini a cura di Fondazione Muvita.
URL:https://www.suqgenova.it/archivio-evento/riciclo-creativo-2-3/
CATEGORIES:Laboratori,Suq Festival 2016
ATTACH;FMTTYPE=image/png:https://www.suqgenova.it/wp-content/uploads/2016/06/bambini.png
END:VEVENT
BEGIN:VEVENT
DTSTART;TZID=UTC:20160621T220000
DTEND;TZID=UTC:20160621T230000
DTSTAMP:20260421T072519
CREATED:20160607T103739Z
LAST-MODIFIED:20160607T103739Z
UID:3682-1466546400-1466550000@www.suqgenova.it
SUMMARY:Caracas in concerto
DESCRIPTION:con Stefano Saletti\, oud\, bouzouki\, chitarra elettrica\, voce; Valerio Corzani basso elettrico\, iPad\, voce; Erica Scherl violino\, tastiera; Riccardo Manzi chitarra elettrica; Filippo Schininà batteria. Special guest Esmeralda Sciascia voce. \nMeticciato sonoro e alchimie ritmiche per un progetto world reggae che parte dal Mediterraneo ma si spinge ben oltre. Il reggae\, la Giamaica\, è una delle mete dei Caracas che sono riusciti però nell’impresa di evitare tutti i cliché. \n 
URL:https://www.suqgenova.it/archivio-evento/caracas-in-concerto/
CATEGORIES:Musica,Suq Festival 2016
ATTACH;FMTTYPE=image/jpeg:https://www.suqgenova.it/wp-content/uploads/2016/06/resized_corzani-e1465303015106.jpg
END:VEVENT
BEGIN:VEVENT
DTSTART;TZID=UTC:20160621T220000
DTEND;TZID=UTC:20160621T230000
DTSTAMP:20260421T072519
CREATED:20160607T103739Z
LAST-MODIFIED:20160607T103739Z
UID:19408-1466546400-1466550000@www.suqgenova.it
SUMMARY:Caracas in concerto
DESCRIPTION:con Stefano Saletti\, oud\, bouzouki\, chitarra elettrica\, voce; Valerio Corzani basso elettrico\, iPad\, voce; Erica Scherl violino\, tastiera; Riccardo Manzi chitarra elettrica; Filippo Schininà batteria. Special guest Esmeralda Sciascia voce. \nMeticciato sonoro e alchimie ritmiche per un progetto world reggae che parte dal Mediterraneo ma si spinge ben oltre. Il reggae\, la Giamaica\, è una delle mete dei Caracas che sono riusciti però nell’impresa di evitare tutti i cliché. \n 
URL:https://www.suqgenova.it/archivio-evento/caracas-in-concerto-2/
CATEGORIES:Musica,Suq Festival 2016
ATTACH;FMTTYPE=image/jpeg:https://www.suqgenova.it/wp-content/uploads/2016/06/resized_corzani-e1465303015106.jpg
END:VEVENT
BEGIN:VEVENT
DTSTART;TZID=UTC:20160621T220000
DTEND;TZID=UTC:20160621T230000
DTSTAMP:20260421T072519
CREATED:20160607T103739Z
LAST-MODIFIED:20160607T103739Z
UID:19954-1466546400-1466550000@www.suqgenova.it
SUMMARY:Caracas in concerto
DESCRIPTION:con Stefano Saletti\, oud\, bouzouki\, chitarra elettrica\, voce; Valerio Corzani basso elettrico\, iPad\, voce; Erica Scherl violino\, tastiera; Riccardo Manzi chitarra elettrica; Filippo Schininà batteria. Special guest Esmeralda Sciascia voce. \nMeticciato sonoro e alchimie ritmiche per un progetto world reggae che parte dal Mediterraneo ma si spinge ben oltre. Il reggae\, la Giamaica\, è una delle mete dei Caracas che sono riusciti però nell’impresa di evitare tutti i cliché. \n 
URL:https://www.suqgenova.it/archivio-evento/caracas-in-concerto-3/
CATEGORIES:Musica,Suq Festival 2016
ATTACH;FMTTYPE=image/jpeg:https://www.suqgenova.it/wp-content/uploads/2016/06/resized_corzani-e1465303015106.jpg
END:VEVENT
BEGIN:VEVENT
DTSTART;TZID=UTC:20160621T210000
DTEND;TZID=UTC:20160621T220000
DTSTAMP:20260421T072519
CREATED:20160609T075552Z
LAST-MODIFIED:20160609T075552Z
UID:3681-1466542800-1466546400@www.suqgenova.it
SUMMARY:Ecuador e I Provenzali al Suq per i terremotati
DESCRIPTION:Saluti del Console dell’Ecuador a Genova Narcisa Soria Valencia. \nPresentazione dell’iniziativa I Provenzali e Suq per i terremotati dell’Ecuador. Interviene Roberta Testa.
URL:https://www.suqgenova.it/archivio-evento/ecuador-provenzali-al-suq/
CATEGORIES:Incontri,Suq Festival 2016
ATTACH;FMTTYPE=image/png:https://www.suqgenova.it/wp-content/uploads/2016/06/incontri.png
END:VEVENT
BEGIN:VEVENT
DTSTART;TZID=UTC:20160621T210000
DTEND;TZID=UTC:20160621T220000
DTSTAMP:20260421T072519
CREATED:20160609T075552Z
LAST-MODIFIED:20160609T075552Z
UID:19427-1466542800-1466546400@www.suqgenova.it
SUMMARY:Ecuador e I Provenzali al Suq per i terremotati
DESCRIPTION:Saluti del Console dell’Ecuador a Genova Narcisa Soria Valencia. \nPresentazione dell’iniziativa I Provenzali e Suq per i terremotati dell’Ecuador. Interviene Roberta Testa.
URL:https://www.suqgenova.it/archivio-evento/ecuador-provenzali-al-suq-2/
CATEGORIES:Incontri,Suq Festival 2016
ATTACH;FMTTYPE=image/png:https://www.suqgenova.it/wp-content/uploads/2016/06/incontri.png
END:VEVENT
BEGIN:VEVENT
DTSTART;TZID=UTC:20160621T210000
DTEND;TZID=UTC:20160621T220000
DTSTAMP:20260421T072519
CREATED:20160609T075552Z
LAST-MODIFIED:20160609T075552Z
UID:19973-1466542800-1466546400@www.suqgenova.it
SUMMARY:Ecuador e I Provenzali al Suq per i terremotati
DESCRIPTION:Saluti del Console dell’Ecuador a Genova Narcisa Soria Valencia. \nPresentazione dell’iniziativa I Provenzali e Suq per i terremotati dell’Ecuador. Interviene Roberta Testa.
URL:https://www.suqgenova.it/archivio-evento/ecuador-provenzali-al-suq-3/
CATEGORIES:Incontri,Suq Festival 2016
ATTACH;FMTTYPE=image/png:https://www.suqgenova.it/wp-content/uploads/2016/06/incontri.png
END:VEVENT
BEGIN:VEVENT
DTSTART;TZID=UTC:20160621T180000
DTEND;TZID=UTC:20160621T190000
DTSTAMP:20260421T072519
CREATED:20160607T111646Z
LAST-MODIFIED:20160607T111646Z
UID:3680-1466532000-1466535600@www.suqgenova.it
SUMMARY:La ruta del cacao e degustazione del BISC8
DESCRIPTION:Dal Perù all’Italia un percorso tra culture e ricette. \nCon Matteo Losio\, Chef della storica e prestigiosa trattoria Bruxaboschi di San Desiderio. \nIl BISC8 è ideato appositamente per il Suq\, con la Crema di Otto spalmabile biologica alle nocciole. \nA cura di Otto Chocolates
URL:https://www.suqgenova.it/archivio-evento/la-ruta-del-cacao-degustazione-del-bisc8/
CATEGORIES:Laboratori,Suq Festival 2016
ATTACH;FMTTYPE=image/jpeg:https://www.suqgenova.it/wp-content/uploads/2016/06/cioccolato-e1466421098201.jpg
END:VEVENT
BEGIN:VEVENT
DTSTART;TZID=UTC:20160621T180000
DTEND;TZID=UTC:20160621T190000
DTSTAMP:20260421T072519
CREATED:20160607T111646Z
LAST-MODIFIED:20160607T111646Z
UID:19407-1466532000-1466535600@www.suqgenova.it
SUMMARY:La ruta del cacao e degustazione del BISC8
DESCRIPTION:Dal Perù all’Italia un percorso tra culture e ricette. \nCon Matteo Losio\, Chef della storica e prestigiosa trattoria Bruxaboschi di San Desiderio. \nIl BISC8 è ideato appositamente per il Suq\, con la Crema di Otto spalmabile biologica alle nocciole. \nA cura di Otto Chocolates
URL:https://www.suqgenova.it/archivio-evento/la-ruta-del-cacao-degustazione-del-bisc8-2/
CATEGORIES:Laboratori,Suq Festival 2016
ATTACH;FMTTYPE=image/jpeg:https://www.suqgenova.it/wp-content/uploads/2016/06/cioccolato-e1466421098201.jpg
END:VEVENT
BEGIN:VEVENT
DTSTART;TZID=UTC:20160621T180000
DTEND;TZID=UTC:20160621T190000
DTSTAMP:20260421T072519
CREATED:20160607T111646Z
LAST-MODIFIED:20160607T111646Z
UID:19953-1466532000-1466535600@www.suqgenova.it
SUMMARY:La ruta del cacao e degustazione del BISC8
DESCRIPTION:Dal Perù all’Italia un percorso tra culture e ricette. \nCon Matteo Losio\, Chef della storica e prestigiosa trattoria Bruxaboschi di San Desiderio. \nIl BISC8 è ideato appositamente per il Suq\, con la Crema di Otto spalmabile biologica alle nocciole. \nA cura di Otto Chocolates
URL:https://www.suqgenova.it/archivio-evento/la-ruta-del-cacao-degustazione-del-bisc8-3/
CATEGORIES:Laboratori,Suq Festival 2016
ATTACH;FMTTYPE=image/jpeg:https://www.suqgenova.it/wp-content/uploads/2016/06/cioccolato-e1466421098201.jpg
END:VEVENT
BEGIN:VEVENT
DTSTART;TZID=UTC:20160621T170000
DTEND;TZID=UTC:20160621T180000
DTSTAMP:20260421T072519
CREATED:20160609T085209Z
LAST-MODIFIED:20160609T085209Z
UID:3678-1466528400-1466532000@www.suqgenova.it
SUMMARY:Ritmi e danze cubane
DESCRIPTION:La farandola in movimento: una mescolanza di ritmi per amare ed apprezzare le tradizioni artistiche di Cuba. \nA cura di Asociación Cultural Viva Cuba.
URL:https://www.suqgenova.it/archivio-evento/ritmi-danze-cubane/
CATEGORIES:Laboratori,Suq Festival 2016
ATTACH;FMTTYPE=image/png:https://www.suqgenova.it/wp-content/uploads/2016/06/cuba.png
END:VEVENT
BEGIN:VEVENT
DTSTART;TZID=UTC:20160621T170000
DTEND;TZID=UTC:20160621T180000
DTSTAMP:20260421T072519
CREATED:20160609T085209Z
LAST-MODIFIED:20160609T085209Z
UID:19426-1466528400-1466532000@www.suqgenova.it
SUMMARY:Ritmi e danze cubane
DESCRIPTION:La farandola in movimento: una mescolanza di ritmi per amare ed apprezzare le tradizioni artistiche di Cuba. \nA cura di Asociación Cultural Viva Cuba.
URL:https://www.suqgenova.it/archivio-evento/ritmi-danze-cubane-2/
CATEGORIES:Laboratori,Suq Festival 2016
ATTACH;FMTTYPE=image/png:https://www.suqgenova.it/wp-content/uploads/2016/06/cuba.png
END:VEVENT
BEGIN:VEVENT
DTSTART;TZID=UTC:20160621T170000
DTEND;TZID=UTC:20160621T180000
DTSTAMP:20260421T072519
CREATED:20160609T085209Z
LAST-MODIFIED:20160609T085209Z
UID:19972-1466528400-1466532000@www.suqgenova.it
SUMMARY:Ritmi e danze cubane
DESCRIPTION:La farandola in movimento: una mescolanza di ritmi per amare ed apprezzare le tradizioni artistiche di Cuba. \nA cura di Asociación Cultural Viva Cuba.
URL:https://www.suqgenova.it/archivio-evento/ritmi-danze-cubane-3/
CATEGORIES:Laboratori,Suq Festival 2016
ATTACH;FMTTYPE=image/png:https://www.suqgenova.it/wp-content/uploads/2016/06/cuba.png
END:VEVENT
BEGIN:VEVENT
DTSTART;TZID=UTC:20160621T170000
DTEND;TZID=UTC:20160621T180000
DTSTAMP:20260421T072519
CREATED:20160607T122252Z
LAST-MODIFIED:20160607T122252Z
UID:3679-1466528400-1466532000@www.suqgenova.it
SUMMARY:Un tè con Algebar\, Joumana Haddad e Paola Caridi
DESCRIPTION:Le primavere arabe\, l’emancipazione femminile\, gli sguardi di Joumana Haddad e Paola Caridi a confronto con l’Associazione Algebar. \nConducono Renato Carpi e Carlotta Stegagno.
URL:https://www.suqgenova.it/archivio-evento/un-te-con-algebar/
CATEGORIES:Incontri,Suq Festival 2016
ATTACH;FMTTYPE=image/jpeg:https://www.suqgenova.it/wp-content/uploads/2015/06/Piazza-delle-Feste_ph-Michele-DOttavio_1000x379.jpg
END:VEVENT
BEGIN:VEVENT
DTSTART;TZID=UTC:20160621T170000
DTEND;TZID=UTC:20160621T180000
DTSTAMP:20260421T072519
CREATED:20160607T122252Z
LAST-MODIFIED:20160607T122252Z
UID:19406-1466528400-1466532000@www.suqgenova.it
SUMMARY:Un tè con Algebar\, Joumana Haddad e Paola Caridi
DESCRIPTION:Le primavere arabe\, l’emancipazione femminile\, gli sguardi di Joumana Haddad e Paola Caridi a confronto con l’Associazione Algebar. \nConducono Renato Carpi e Carlotta Stegagno.
URL:https://www.suqgenova.it/archivio-evento/un-te-con-algebar-2/
CATEGORIES:Incontri,Suq Festival 2016
ATTACH;FMTTYPE=image/jpeg:https://www.suqgenova.it/wp-content/uploads/2015/06/Piazza-delle-Feste_ph-Michele-DOttavio_1000x379.jpg
END:VEVENT
BEGIN:VEVENT
DTSTART;TZID=UTC:20160621T170000
DTEND;TZID=UTC:20160621T180000
DTSTAMP:20260421T072519
CREATED:20160607T122252Z
LAST-MODIFIED:20160607T122252Z
UID:19952-1466528400-1466532000@www.suqgenova.it
SUMMARY:Un tè con Algebar\, Joumana Haddad e Paola Caridi
DESCRIPTION:Le primavere arabe\, l’emancipazione femminile\, gli sguardi di Joumana Haddad e Paola Caridi a confronto con l’Associazione Algebar. \nConducono Renato Carpi e Carlotta Stegagno.
URL:https://www.suqgenova.it/archivio-evento/un-te-con-algebar-3/
CATEGORIES:Incontri,Suq Festival 2016
ATTACH;FMTTYPE=image/jpeg:https://www.suqgenova.it/wp-content/uploads/2015/06/Piazza-delle-Feste_ph-Michele-DOttavio_1000x379.jpg
END:VEVENT
BEGIN:VEVENT
DTSTART;TZID=UTC:20160621T160000
DTEND;TZID=UTC:20160621T170000
DTSTAMP:20260421T072519
CREATED:20160609T085349Z
LAST-MODIFIED:20160609T085349Z
UID:3676-1466524800-1466528400@www.suqgenova.it
SUMMARY:Riciclo creativo
DESCRIPTION:Laboratorio per bambini a cura di Fondazione Muvita.
URL:https://www.suqgenova.it/archivio-evento/riciclo-creativo/
CATEGORIES:Eco Suq 2016,Laboratori,Suq Festival 2016
ATTACH;FMTTYPE=image/png:https://www.suqgenova.it/wp-content/uploads/2016/06/bambini.png
END:VEVENT
BEGIN:VEVENT
DTSTART;TZID=UTC:20160621T160000
DTEND;TZID=UTC:20160621T170000
DTSTAMP:20260421T072519
CREATED:20160609T085349Z
LAST-MODIFIED:20160609T085349Z
UID:19425-1466524800-1466528400@www.suqgenova.it
SUMMARY:Riciclo creativo
DESCRIPTION:Laboratorio per bambini a cura di Fondazione Muvita.
URL:https://www.suqgenova.it/archivio-evento/riciclo-creativo-3/
CATEGORIES:Eco Suq 2016,Laboratori,Suq Festival 2016
ATTACH;FMTTYPE=image/png:https://www.suqgenova.it/wp-content/uploads/2016/06/bambini.png
END:VEVENT
BEGIN:VEVENT
DTSTART;TZID=UTC:20160621T160000
DTEND;TZID=UTC:20160621T170000
DTSTAMP:20260421T072519
CREATED:20160609T085349Z
LAST-MODIFIED:20160609T085349Z
UID:19971-1466524800-1466528400@www.suqgenova.it
SUMMARY:Riciclo creativo
DESCRIPTION:Laboratorio per bambini a cura di Fondazione Muvita.
URL:https://www.suqgenova.it/archivio-evento/riciclo-creativo-4/
CATEGORIES:Eco Suq 2016,Laboratori,Suq Festival 2016
ATTACH;FMTTYPE=image/png:https://www.suqgenova.it/wp-content/uploads/2016/06/bambini.png
END:VEVENT
BEGIN:VEVENT
DTSTART;TZID=UTC:20160620T220000
DTEND;TZID=UTC:20160620T230000
DTSTAMP:20260421T072519
CREATED:20160603T081140Z
LAST-MODIFIED:20160603T081140Z
UID:3675-1466460000-1466463600@www.suqgenova.it
SUMMARY:African Gang Stars
DESCRIPTION:Con Michael\, Zuliu\, Friday\, Ngozi\, Phyno\, Daniel\, Francesco\, Fofane\, Adams. Un concerto di musica reggae e rock con la band di ragazzi richiedenti asilo dei centri di accoglienza di Genova\, diretti da Pino Parisi.
URL:https://www.suqgenova.it/archivio-evento/african-gang-stars/
CATEGORIES:Musica,Suq Festival 2016
END:VEVENT
BEGIN:VEVENT
DTSTART;TZID=UTC:20160620T220000
DTEND;TZID=UTC:20160620T230000
DTSTAMP:20260421T072519
CREATED:20160603T081140Z
LAST-MODIFIED:20160603T081140Z
UID:19393-1466460000-1466463600@www.suqgenova.it
SUMMARY:African Gang Stars
DESCRIPTION:Con Michael\, Zuliu\, Friday\, Ngozi\, Phyno\, Daniel\, Francesco\, Fofane\, Adams. Un concerto di musica reggae e rock con la band di ragazzi richiedenti asilo dei centri di accoglienza di Genova\, diretti da Pino Parisi.
URL:https://www.suqgenova.it/archivio-evento/african-gang-stars-2/
CATEGORIES:Musica,Suq Festival 2016
END:VEVENT
BEGIN:VEVENT
DTSTART;TZID=UTC:20160620T220000
DTEND;TZID=UTC:20160620T230000
DTSTAMP:20260421T072519
CREATED:20160603T081140Z
LAST-MODIFIED:20160603T081140Z
UID:19939-1466460000-1466463600@www.suqgenova.it
SUMMARY:African Gang Stars
DESCRIPTION:Con Michael\, Zuliu\, Friday\, Ngozi\, Phyno\, Daniel\, Francesco\, Fofane\, Adams. Un concerto di musica reggae e rock con la band di ragazzi richiedenti asilo dei centri di accoglienza di Genova\, diretti da Pino Parisi.
URL:https://www.suqgenova.it/archivio-evento/african-gang-stars-3/
CATEGORIES:Musica,Suq Festival 2016
END:VEVENT
BEGIN:VEVENT
DTSTART;TZID=UTC:20160620T213000
DTEND;TZID=UTC:20160620T230000
DTSTAMP:20260421T072519
CREATED:20160601T212349Z
LAST-MODIFIED:20160601T212349Z
UID:3547-1466458200-1466463600@www.suqgenova.it
SUMMARY:Scusate se non siamo morti in mare
DESCRIPTION:Se questo è il  presente\, quale sarà il futuro?\nDi Emanuele Aldrovandi.\nCon Luz Beatriz Lattanzi\, Marcello Mocchi\, Matthieu Pastore e Daniele Pitari.\nRegia Pablo Solari. \nProduzione Associazione Centro Teatrale MaMiMò \nUno spettacolo visionario\, attualissimo\, con una giovane compagnia da conoscere e che si è già fatta apprezzare\, anche con premi e riconoscimenti. In un futuro non troppo lontano la crisi economica ha trasformato l’Europa in un continente di emigranti. I cittadini europei\, in cerca di un futuro migliore\, tentano di raggiungere clandestinamente i paesi più “ricchi”\, che hanno chiuso le frontiere. Fra i mezzi per espatriare uno dei più diffusi è il container: il Robusto\, la Bella e l’Alto (clandestini senza nome\, identificati attraverso le loro caratteristiche fisiche) salgono a bordo e pagano senza sapere dove verranno scaricati…
URL:https://www.suqgenova.it/archivio-evento/scusate-non-morti-mare/
CATEGORIES:Suq Festival 2016,Teatro del Dialogo
ATTACH;FMTTYPE=image/jpeg:https://www.suqgenova.it/wp-content/uploads/2016/05/crop_Scusate-se-non-siamo-morti-in-mare.jpg
END:VEVENT
BEGIN:VEVENT
DTSTART;TZID=UTC:20160620T213000
DTEND;TZID=UTC:20160620T230000
DTSTAMP:20260421T072519
CREATED:20160601T212349Z
LAST-MODIFIED:20160601T212349Z
UID:19384-1466458200-1466463600@www.suqgenova.it
SUMMARY:Scusate se non siamo morti in mare
DESCRIPTION:Se questo è il  presente\, quale sarà il futuro?\nDi Emanuele Aldrovandi.\nCon Luz Beatriz Lattanzi\, Marcello Mocchi\, Matthieu Pastore e Daniele Pitari.\nRegia Pablo Solari. \nProduzione Associazione Centro Teatrale MaMiMò \nUno spettacolo visionario\, attualissimo\, con una giovane compagnia da conoscere e che si è già fatta apprezzare\, anche con premi e riconoscimenti. In un futuro non troppo lontano la crisi economica ha trasformato l’Europa in un continente di emigranti. I cittadini europei\, in cerca di un futuro migliore\, tentano di raggiungere clandestinamente i paesi più “ricchi”\, che hanno chiuso le frontiere. Fra i mezzi per espatriare uno dei più diffusi è il container: il Robusto\, la Bella e l’Alto (clandestini senza nome\, identificati attraverso le loro caratteristiche fisiche) salgono a bordo e pagano senza sapere dove verranno scaricati…
URL:https://www.suqgenova.it/archivio-evento/scusate-non-morti-mare-2/
CATEGORIES:Suq Festival 2016,Teatro del Dialogo
ATTACH;FMTTYPE=image/jpeg:https://www.suqgenova.it/wp-content/uploads/2016/05/crop_Scusate-se-non-siamo-morti-in-mare.jpg
END:VEVENT
BEGIN:VEVENT
DTSTART;TZID=UTC:20160620T213000
DTEND;TZID=UTC:20160620T230000
DTSTAMP:20260421T072519
CREATED:20160601T212349Z
LAST-MODIFIED:20160601T212349Z
UID:19930-1466458200-1466463600@www.suqgenova.it
SUMMARY:Scusate se non siamo morti in mare
DESCRIPTION:Se questo è il  presente\, quale sarà il futuro?\nDi Emanuele Aldrovandi.\nCon Luz Beatriz Lattanzi\, Marcello Mocchi\, Matthieu Pastore e Daniele Pitari.\nRegia Pablo Solari. \nProduzione Associazione Centro Teatrale MaMiMò \nUno spettacolo visionario\, attualissimo\, con una giovane compagnia da conoscere e che si è già fatta apprezzare\, anche con premi e riconoscimenti. In un futuro non troppo lontano la crisi economica ha trasformato l’Europa in un continente di emigranti. I cittadini europei\, in cerca di un futuro migliore\, tentano di raggiungere clandestinamente i paesi più “ricchi”\, che hanno chiuso le frontiere. Fra i mezzi per espatriare uno dei più diffusi è il container: il Robusto\, la Bella e l’Alto (clandestini senza nome\, identificati attraverso le loro caratteristiche fisiche) salgono a bordo e pagano senza sapere dove verranno scaricati…
URL:https://www.suqgenova.it/archivio-evento/scusate-non-morti-mare-3/
CATEGORIES:Suq Festival 2016,Teatro del Dialogo
ATTACH;FMTTYPE=image/jpeg:https://www.suqgenova.it/wp-content/uploads/2016/05/crop_Scusate-se-non-siamo-morti-in-mare.jpg
END:VEVENT
BEGIN:VEVENT
DTSTART;TZID=UTC:20160620T210000
DTEND;TZID=UTC:20160620T220000
DTSTAMP:20260421T072519
CREATED:20160607T121546Z
LAST-MODIFIED:20160607T121546Z
UID:3674-1466456400-1466460000@www.suqgenova.it
SUMMARY:Giornata Mondiale del Rifugiato: Medici Senza Frontiere al Suq
DESCRIPTION:Un tema sensibile\, alcune voci autorevoli e il ricordo di Don Gallo e del suo appello a ”restare umani”. \nCon Loris De Filippi Presidente di Medici senza Frontiere Italia\, intervengono Alessandra Ballerini\, avvocato dei migranti\, Marco Aime\, autore del recente libro Contro il razzismo (Einaudi)\, Joumana Haddad scrittrice libanese. \nConduce Paola Caridi giornalista e scrittrice. \nIn collaborazione con Comunità San Benedetto al Porto.
URL:https://www.suqgenova.it/archivio-evento/3674/
CATEGORIES:Incontri,Suq Festival 2016
ATTACH;FMTTYPE=image/jpeg:https://www.suqgenova.it/wp-content/uploads/2015/06/Palco-interno_ph-Michele-DOttavio_1000x379.jpg
END:VEVENT
BEGIN:VEVENT
DTSTART;TZID=UTC:20160620T210000
DTEND;TZID=UTC:20160620T220000
DTSTAMP:20260421T072519
CREATED:20160607T121546Z
LAST-MODIFIED:20160607T121546Z
UID:19405-1466456400-1466460000@www.suqgenova.it
SUMMARY:Giornata Mondiale del Rifugiato: Medici Senza Frontiere al Suq
DESCRIPTION:Un tema sensibile\, alcune voci autorevoli e il ricordo di Don Gallo e del suo appello a ”restare umani”. \nCon Loris De Filippi Presidente di Medici senza Frontiere Italia\, intervengono Alessandra Ballerini\, avvocato dei migranti\, Marco Aime\, autore del recente libro Contro il razzismo (Einaudi)\, Joumana Haddad scrittrice libanese. \nConduce Paola Caridi giornalista e scrittrice. \nIn collaborazione con Comunità San Benedetto al Porto.
URL:https://www.suqgenova.it/archivio-evento/3674-2/
CATEGORIES:Incontri,Suq Festival 2016
ATTACH;FMTTYPE=image/jpeg:https://www.suqgenova.it/wp-content/uploads/2015/06/Palco-interno_ph-Michele-DOttavio_1000x379.jpg
END:VEVENT
BEGIN:VEVENT
DTSTART;TZID=UTC:20160620T210000
DTEND;TZID=UTC:20160620T220000
DTSTAMP:20260421T072519
CREATED:20160607T121546Z
LAST-MODIFIED:20160607T121546Z
UID:19951-1466456400-1466460000@www.suqgenova.it
SUMMARY:Giornata Mondiale del Rifugiato: Medici Senza Frontiere al Suq
DESCRIPTION:Un tema sensibile\, alcune voci autorevoli e il ricordo di Don Gallo e del suo appello a ”restare umani”. \nCon Loris De Filippi Presidente di Medici senza Frontiere Italia\, intervengono Alessandra Ballerini\, avvocato dei migranti\, Marco Aime\, autore del recente libro Contro il razzismo (Einaudi)\, Joumana Haddad scrittrice libanese. \nConduce Paola Caridi giornalista e scrittrice. \nIn collaborazione con Comunità San Benedetto al Porto.
URL:https://www.suqgenova.it/archivio-evento/3674-3/
CATEGORIES:Incontri,Suq Festival 2016
ATTACH;FMTTYPE=image/jpeg:https://www.suqgenova.it/wp-content/uploads/2015/06/Palco-interno_ph-Michele-DOttavio_1000x379.jpg
END:VEVENT
END:VCALENDAR