BEGIN:VCALENDAR
VERSION:2.0
PRODID:-//Suq Genova - ECPv6.15.20//NONSGML v1.0//EN
CALSCALE:GREGORIAN
METHOD:PUBLISH
X-ORIGINAL-URL:https://www.suqgenova.it
X-WR-CALDESC:Eventi per Suq Genova
REFRESH-INTERVAL;VALUE=DURATION:PT1H
X-Robots-Tag:noindex
X-PUBLISHED-TTL:PT1H
BEGIN:VTIMEZONE
TZID:UTC
BEGIN:STANDARD
TZOFFSETFROM:+0000
TZOFFSETTO:+0000
TZNAME:UTC
DTSTART:20150101T000000
END:STANDARD
END:VTIMEZONE
BEGIN:VEVENT
DTSTART;TZID=UTC:20160625T193000
DTEND;TZID=UTC:20160625T200000
DTSTAMP:20260420T223322
CREATED:20160606T091238Z
LAST-MODIFIED:20160606T091238Z
UID:3704-1466883000-1466884800@www.suqgenova.it
SUMMARY:Premio Agorà Med
DESCRIPTION:A Giuseppe Conte e Adonis verrà consegnato il Premio Agorà MED per il dialogo tra le due sponde del Mediterraneo\, ideato da Suq Festival e Programma Med21. Saluto di Mohamed Nadir Aziza Presidente di Med 21. \nConsegnano il premio Franca Speranza Cosulich e Renato Causa di GNV. \nIn collaborazione con Grandi Navi Veloci e Museo Luzzati.
URL:https://www.suqgenova.it/archivio-evento/premio-agora-med/
CATEGORIES:Incontri,Suq Festival 2016
ATTACH;FMTTYPE=image/png:https://www.suqgenova.it/wp-content/uploads/2016/06/adonis-conte.png
END:VEVENT
BEGIN:VEVENT
DTSTART;TZID=UTC:20160625T193000
DTEND;TZID=UTC:20160625T200000
DTSTAMP:20260420T223322
CREATED:20160606T091238Z
LAST-MODIFIED:20160606T091238Z
UID:19394-1466883000-1466884800@www.suqgenova.it
SUMMARY:Premio Agorà Med
DESCRIPTION:A Giuseppe Conte e Adonis verrà consegnato il Premio Agorà MED per il dialogo tra le due sponde del Mediterraneo\, ideato da Suq Festival e Programma Med21. Saluto di Mohamed Nadir Aziza Presidente di Med 21. \nConsegnano il premio Franca Speranza Cosulich e Renato Causa di GNV. \nIn collaborazione con Grandi Navi Veloci e Museo Luzzati.
URL:https://www.suqgenova.it/archivio-evento/premio-agora-med-2/
CATEGORIES:Incontri,Suq Festival 2016
ATTACH;FMTTYPE=image/png:https://www.suqgenova.it/wp-content/uploads/2016/06/adonis-conte.png
END:VEVENT
BEGIN:VEVENT
DTSTART;TZID=UTC:20160625T193000
DTEND;TZID=UTC:20160625T200000
DTSTAMP:20260420T223322
CREATED:20160606T091238Z
LAST-MODIFIED:20160606T091238Z
UID:19940-1466883000-1466884800@www.suqgenova.it
SUMMARY:Premio Agorà Med
DESCRIPTION:A Giuseppe Conte e Adonis verrà consegnato il Premio Agorà MED per il dialogo tra le due sponde del Mediterraneo\, ideato da Suq Festival e Programma Med21. Saluto di Mohamed Nadir Aziza Presidente di Med 21. \nConsegnano il premio Franca Speranza Cosulich e Renato Causa di GNV. \nIn collaborazione con Grandi Navi Veloci e Museo Luzzati.
URL:https://www.suqgenova.it/archivio-evento/premio-agora-med-3/
CATEGORIES:Incontri,Suq Festival 2016
ATTACH;FMTTYPE=image/png:https://www.suqgenova.it/wp-content/uploads/2016/06/adonis-conte.png
END:VEVENT
BEGIN:VEVENT
DTSTART;TZID=UTC:20160625T180000
DTEND;TZID=UTC:20160625T190000
DTSTAMP:20260420T223322
CREATED:20160607T123244Z
LAST-MODIFIED:20160607T123244Z
UID:3702-1466877600-1466881200@www.suqgenova.it
SUMMARY:Adonis e Giuseppe Conte al Suq
DESCRIPTION:Un incontro con due grandi poeti\, uniti nel promuovere il dialogo\, i temi delle donne attraverso l’impegno intellettuale e artistico. A partire dall’ultimo libro di Adonis “Violenza e Islam” (Guanda). \nConduce Massimo Righi\, Direttore de Il Secolo XIX. Interviene Lucy Ladikoff\, Università di Genova. \nIn collaborazione con Alliance Francaise.
URL:https://www.suqgenova.it/archivio-evento/adonis-giuseppe-conte-al-suq/
CATEGORIES:Incontri,Suq Festival 2016
ATTACH;FMTTYPE=image/jpeg:https://www.suqgenova.it/wp-content/uploads/2016/06/adonis.jpg
END:VEVENT
BEGIN:VEVENT
DTSTART;TZID=UTC:20160625T180000
DTEND;TZID=UTC:20160625T190000
DTSTAMP:20260420T223322
CREATED:20160607T123244Z
LAST-MODIFIED:20160607T123244Z
UID:19415-1466877600-1466881200@www.suqgenova.it
SUMMARY:Adonis e Giuseppe Conte al Suq
DESCRIPTION:Un incontro con due grandi poeti\, uniti nel promuovere il dialogo\, i temi delle donne attraverso l’impegno intellettuale e artistico. A partire dall’ultimo libro di Adonis “Violenza e Islam” (Guanda). \nConduce Massimo Righi\, Direttore de Il Secolo XIX. Interviene Lucy Ladikoff\, Università di Genova. \nIn collaborazione con Alliance Francaise.
URL:https://www.suqgenova.it/archivio-evento/adonis-giuseppe-conte-al-suq-2/
CATEGORIES:Incontri,Suq Festival 2016
ATTACH;FMTTYPE=image/jpeg:https://www.suqgenova.it/wp-content/uploads/2016/06/adonis.jpg
END:VEVENT
BEGIN:VEVENT
DTSTART;TZID=UTC:20160625T180000
DTEND;TZID=UTC:20160625T190000
DTSTAMP:20260420T223322
CREATED:20160607T123244Z
LAST-MODIFIED:20160607T123244Z
UID:19961-1466877600-1466881200@www.suqgenova.it
SUMMARY:Adonis e Giuseppe Conte al Suq
DESCRIPTION:Un incontro con due grandi poeti\, uniti nel promuovere il dialogo\, i temi delle donne attraverso l’impegno intellettuale e artistico. A partire dall’ultimo libro di Adonis “Violenza e Islam” (Guanda). \nConduce Massimo Righi\, Direttore de Il Secolo XIX. Interviene Lucy Ladikoff\, Università di Genova. \nIn collaborazione con Alliance Francaise.
URL:https://www.suqgenova.it/archivio-evento/adonis-giuseppe-conte-al-suq-3/
CATEGORIES:Incontri,Suq Festival 2016
ATTACH;FMTTYPE=image/jpeg:https://www.suqgenova.it/wp-content/uploads/2016/06/adonis.jpg
END:VEVENT
BEGIN:VEVENT
DTSTART;TZID=UTC:20160625T170000
DTEND;TZID=UTC:20160625T180000
DTSTAMP:20260420T223322
CREATED:20160607T120742Z
LAST-MODIFIED:20160607T120742Z
UID:3701-1466874000-1466877600@www.suqgenova.it
SUMMARY:Un tè con Ugo Bacchella e Chris Torch
DESCRIPTION:Innovazione\, audience development\, il futuro dell’Europa creativa: ne parliamo con il Presidente di Fondazione Fitzcarraldo e il Direttore di Intercult. \nConduce Laura Santini di Mentelocale. \nIn collaborazione con ArtLab16.
URL:https://www.suqgenova.it/archivio-evento/un-ugo-bacchella-chris-torch/
CATEGORIES:Incontri,Suq Festival 2016
ATTACH;FMTTYPE=image/jpeg:https://www.suqgenova.it/wp-content/uploads/2015/06/Palco-interno_ph-Michele-DOttavio_1000x379.jpg
END:VEVENT
BEGIN:VEVENT
DTSTART;TZID=UTC:20160625T170000
DTEND;TZID=UTC:20160625T180000
DTSTAMP:20260420T223322
CREATED:20160607T120742Z
LAST-MODIFIED:20160607T120742Z
UID:19414-1466874000-1466877600@www.suqgenova.it
SUMMARY:Un tè con Ugo Bacchella e Chris Torch
DESCRIPTION:Innovazione\, audience development\, il futuro dell’Europa creativa: ne parliamo con il Presidente di Fondazione Fitzcarraldo e il Direttore di Intercult. \nConduce Laura Santini di Mentelocale. \nIn collaborazione con ArtLab16.
URL:https://www.suqgenova.it/archivio-evento/un-ugo-bacchella-chris-torch-2/
CATEGORIES:Incontri,Suq Festival 2016
ATTACH;FMTTYPE=image/jpeg:https://www.suqgenova.it/wp-content/uploads/2015/06/Palco-interno_ph-Michele-DOttavio_1000x379.jpg
END:VEVENT
BEGIN:VEVENT
DTSTART;TZID=UTC:20160625T170000
DTEND;TZID=UTC:20160625T180000
DTSTAMP:20260420T223322
CREATED:20160607T120742Z
LAST-MODIFIED:20160607T120742Z
UID:19960-1466874000-1466877600@www.suqgenova.it
SUMMARY:Un tè con Ugo Bacchella e Chris Torch
DESCRIPTION:Innovazione\, audience development\, il futuro dell’Europa creativa: ne parliamo con il Presidente di Fondazione Fitzcarraldo e il Direttore di Intercult. \nConduce Laura Santini di Mentelocale. \nIn collaborazione con ArtLab16.
URL:https://www.suqgenova.it/archivio-evento/un-ugo-bacchella-chris-torch-3/
CATEGORIES:Incontri,Suq Festival 2016
ATTACH;FMTTYPE=image/jpeg:https://www.suqgenova.it/wp-content/uploads/2015/06/Palco-interno_ph-Michele-DOttavio_1000x379.jpg
END:VEVENT
BEGIN:VEVENT
DTSTART;TZID=UTC:20160625T160000
DTEND;TZID=UTC:20160625T170000
DTSTAMP:20260420T223322
CREATED:20160606T094038Z
LAST-MODIFIED:20160606T094038Z
UID:3731-1466870400-1466874000@www.suqgenova.it
SUMMARY:Danze orientali
DESCRIPTION:Dimostrazione e lezione con Amar
URL:https://www.suqgenova.it/archivio-evento/danze-orientali-2/
CATEGORIES:Danza,Laboratori,Suq Festival 2016
ATTACH;FMTTYPE=image/png:https://www.suqgenova.it/wp-content/uploads/2016/06/danze-orientali.png
END:VEVENT
BEGIN:VEVENT
DTSTART;TZID=UTC:20160625T160000
DTEND;TZID=UTC:20160625T170000
DTSTAMP:20260420T223322
CREATED:20160606T094038Z
LAST-MODIFIED:20160606T094038Z
UID:19397-1466870400-1466874000@www.suqgenova.it
SUMMARY:Danze orientali
DESCRIPTION:Dimostrazione e lezione con Amar
URL:https://www.suqgenova.it/archivio-evento/danze-orientali-2-2/
CATEGORIES:Danza,Laboratori,Suq Festival 2016
ATTACH;FMTTYPE=image/png:https://www.suqgenova.it/wp-content/uploads/2016/06/danze-orientali.png
END:VEVENT
BEGIN:VEVENT
DTSTART;TZID=UTC:20160625T160000
DTEND;TZID=UTC:20160625T170000
DTSTAMP:20260420T223322
CREATED:20160606T094038Z
LAST-MODIFIED:20160606T094038Z
UID:19943-1466870400-1466874000@www.suqgenova.it
SUMMARY:Danze orientali
DESCRIPTION:Dimostrazione e lezione con Amar
URL:https://www.suqgenova.it/archivio-evento/danze-orientali-2-3/
CATEGORIES:Danza,Laboratori,Suq Festival 2016
ATTACH;FMTTYPE=image/png:https://www.suqgenova.it/wp-content/uploads/2016/06/danze-orientali.png
END:VEVENT
BEGIN:VEVENT
DTSTART;TZID=UTC:20160624T223000
DTEND;TZID=UTC:20160624T233000
DTSTAMP:20260420T223322
CREATED:20160606T095219Z
LAST-MODIFIED:20160606T095219Z
UID:3700-1466807400-1466811000@www.suqgenova.it
SUMMARY:Balera59
DESCRIPTION:di e con Marco Azzurrini. Fisarmonica Daniela  Romano. \ncollaborazione artistica  Angelo Cacelli \nCanzoni e aneddoti per far rivivere il mondo delle balere degli anni ’50 e ’60\, tra ricordi\, nostalgie\, divertimento.
URL:https://www.suqgenova.it/archivio-evento/balera59-in-concerto/
CATEGORIES:Musica,Suq Festival 2016
END:VEVENT
BEGIN:VEVENT
DTSTART;TZID=UTC:20160624T223000
DTEND;TZID=UTC:20160624T233000
DTSTAMP:20260420T223322
CREATED:20160606T095219Z
LAST-MODIFIED:20160606T095219Z
UID:19413-1466807400-1466811000@www.suqgenova.it
SUMMARY:Balera59
DESCRIPTION:di e con Marco Azzurrini. Fisarmonica Daniela  Romano. \ncollaborazione artistica  Angelo Cacelli \nCanzoni e aneddoti per far rivivere il mondo delle balere degli anni ’50 e ’60\, tra ricordi\, nostalgie\, divertimento.
URL:https://www.suqgenova.it/archivio-evento/balera59-in-concerto-2/
CATEGORIES:Musica,Suq Festival 2016
END:VEVENT
BEGIN:VEVENT
DTSTART;TZID=UTC:20160624T223000
DTEND;TZID=UTC:20160624T233000
DTSTAMP:20260420T223322
CREATED:20160606T095219Z
LAST-MODIFIED:20160606T095219Z
UID:19959-1466807400-1466811000@www.suqgenova.it
SUMMARY:Balera59
DESCRIPTION:di e con Marco Azzurrini. Fisarmonica Daniela  Romano. \ncollaborazione artistica  Angelo Cacelli \nCanzoni e aneddoti per far rivivere il mondo delle balere degli anni ’50 e ’60\, tra ricordi\, nostalgie\, divertimento.
URL:https://www.suqgenova.it/archivio-evento/balera59-in-concerto-3/
CATEGORIES:Musica,Suq Festival 2016
END:VEVENT
BEGIN:VEVENT
DTSTART;TZID=UTC:20160624T213000
DTEND;TZID=UTC:20160624T230000
DTSTAMP:20260420T223322
CREATED:20160601T210630Z
LAST-MODIFIED:20160601T210630Z
UID:3550-1466803800-1466809200@www.suqgenova.it
SUMMARY:Hagar la schiava
DESCRIPTION:di Adonis. \nTraduzione Fawzi Al Delmi. \nAdattamento scenico e regia Giuseppe Conte. \nCon Enrico Campanati\, Carla Peirolero.\nE con Elias Nardi oud\, Edmondo Romano flauti\, clarinetti\, duduk.\nScenografia Arianna Sortino costumi Elisa Gandelli.\nProduzione Suq Genova. \nLa Chiesa di Banchi si apre nuovamente al teatro del Suq dopo il successo dello scorso anno. E’ la volta di un testo del grande poeta arabo Adonis\, che dipinge magistralmente\, insieme a Giuseppe Conte\, con versi e battute di magica bellezza\, la figura di Hagar\, la concubina di Abramo\, che troviamo sia nella Bibbia che nel Corano.\nUn poema sulla libertà femminile\, dove la donna\, in dialogo con il narratore\, o con la luna\, parla di sé\, del proprio corpo\, con l’intento di rivendicare un ruolo diverso\, decisivo nel mondo.
URL:https://www.suqgenova.it/archivio-evento/hagar-la-schiava/
CATEGORIES:Suq Festival 2016,Teatro del Dialogo
ATTACH;FMTTYPE=image/jpeg:https://www.suqgenova.it/wp-content/uploads/2016/05/crop-Carla-Peirolero-Hagar-la-schiava-viva-ticket.jpg
END:VEVENT
BEGIN:VEVENT
DTSTART;TZID=UTC:20160624T213000
DTEND;TZID=UTC:20160624T230000
DTSTAMP:20260420T223322
CREATED:20160601T210630Z
LAST-MODIFIED:20160601T210630Z
UID:19387-1466803800-1466809200@www.suqgenova.it
SUMMARY:Hagar la schiava
DESCRIPTION:di Adonis. \nTraduzione Fawzi Al Delmi. \nAdattamento scenico e regia Giuseppe Conte. \nCon Enrico Campanati\, Carla Peirolero.\nE con Elias Nardi oud\, Edmondo Romano flauti\, clarinetti\, duduk.\nScenografia Arianna Sortino costumi Elisa Gandelli.\nProduzione Suq Genova. \nLa Chiesa di Banchi si apre nuovamente al teatro del Suq dopo il successo dello scorso anno. E’ la volta di un testo del grande poeta arabo Adonis\, che dipinge magistralmente\, insieme a Giuseppe Conte\, con versi e battute di magica bellezza\, la figura di Hagar\, la concubina di Abramo\, che troviamo sia nella Bibbia che nel Corano.\nUn poema sulla libertà femminile\, dove la donna\, in dialogo con il narratore\, o con la luna\, parla di sé\, del proprio corpo\, con l’intento di rivendicare un ruolo diverso\, decisivo nel mondo.
URL:https://www.suqgenova.it/archivio-evento/hagar-la-schiava-3/
CATEGORIES:Suq Festival 2016,Teatro del Dialogo
ATTACH;FMTTYPE=image/jpeg:https://www.suqgenova.it/wp-content/uploads/2016/05/crop-Carla-Peirolero-Hagar-la-schiava-viva-ticket.jpg
END:VEVENT
BEGIN:VEVENT
DTSTART;TZID=UTC:20160624T213000
DTEND;TZID=UTC:20160624T230000
DTSTAMP:20260420T223322
CREATED:20160601T210630Z
LAST-MODIFIED:20160601T210630Z
UID:19933-1466803800-1466809200@www.suqgenova.it
SUMMARY:Hagar la schiava
DESCRIPTION:di Adonis. \nTraduzione Fawzi Al Delmi. \nAdattamento scenico e regia Giuseppe Conte. \nCon Enrico Campanati\, Carla Peirolero.\nE con Elias Nardi oud\, Edmondo Romano flauti\, clarinetti\, duduk.\nScenografia Arianna Sortino costumi Elisa Gandelli.\nProduzione Suq Genova. \nLa Chiesa di Banchi si apre nuovamente al teatro del Suq dopo il successo dello scorso anno. E’ la volta di un testo del grande poeta arabo Adonis\, che dipinge magistralmente\, insieme a Giuseppe Conte\, con versi e battute di magica bellezza\, la figura di Hagar\, la concubina di Abramo\, che troviamo sia nella Bibbia che nel Corano.\nUn poema sulla libertà femminile\, dove la donna\, in dialogo con il narratore\, o con la luna\, parla di sé\, del proprio corpo\, con l’intento di rivendicare un ruolo diverso\, decisivo nel mondo.
URL:https://www.suqgenova.it/archivio-evento/hagar-la-schiava-4/
CATEGORIES:Suq Festival 2016,Teatro del Dialogo
ATTACH;FMTTYPE=image/jpeg:https://www.suqgenova.it/wp-content/uploads/2016/05/crop-Carla-Peirolero-Hagar-la-schiava-viva-ticket.jpg
END:VEVENT
BEGIN:VEVENT
DTSTART;TZID=UTC:20160624T200000
DTEND;TZID=UTC:20160624T210000
DTSTAMP:20260420T223322
CREATED:20160608T100226Z
LAST-MODIFIED:20160608T100226Z
UID:3699-1466798400-1466802000@www.suqgenova.it
SUMMARY:Amnesty International al Suq
DESCRIPTION:La campagna Verità per Giulio Regeni\, ne parliamo con Paolo Bensi di Amnesty International.
URL:https://www.suqgenova.it/archivio-evento/amnesty-international-al-suq/
CATEGORIES:Incontri,Suq Festival 2016
ATTACH;FMTTYPE=image/png:https://www.suqgenova.it/wp-content/uploads/2016/06/amnesty.png
END:VEVENT
BEGIN:VEVENT
DTSTART;TZID=UTC:20160624T200000
DTEND;TZID=UTC:20160624T210000
DTSTAMP:20260420T223322
CREATED:20160608T100226Z
LAST-MODIFIED:20160608T100226Z
UID:19436-1466798400-1466802000@www.suqgenova.it
SUMMARY:Amnesty International al Suq
DESCRIPTION:La campagna Verità per Giulio Regeni\, ne parliamo con Paolo Bensi di Amnesty International.
URL:https://www.suqgenova.it/archivio-evento/amnesty-international-al-suq-2/
CATEGORIES:Incontri,Suq Festival 2016
ATTACH;FMTTYPE=image/png:https://www.suqgenova.it/wp-content/uploads/2016/06/amnesty.png
END:VEVENT
BEGIN:VEVENT
DTSTART;TZID=UTC:20160624T200000
DTEND;TZID=UTC:20160624T210000
DTSTAMP:20260420T223322
CREATED:20160608T100226Z
LAST-MODIFIED:20160608T100226Z
UID:19982-1466798400-1466802000@www.suqgenova.it
SUMMARY:Amnesty International al Suq
DESCRIPTION:La campagna Verità per Giulio Regeni\, ne parliamo con Paolo Bensi di Amnesty International.
URL:https://www.suqgenova.it/archivio-evento/amnesty-international-al-suq-3/
CATEGORIES:Incontri,Suq Festival 2016
ATTACH;FMTTYPE=image/png:https://www.suqgenova.it/wp-content/uploads/2016/06/amnesty.png
END:VEVENT
BEGIN:VEVENT
DTSTART;TZID=UTC:20160624T183000
DTEND;TZID=UTC:20160624T193000
DTSTAMP:20260420T223323
CREATED:20160607T105749Z
LAST-MODIFIED:20160607T105749Z
UID:3698-1466793000-1466796600@www.suqgenova.it
SUMMARY:Goffredo Fofi al Suq
DESCRIPTION:Le varie gioventù: i giovani di ieri\, quelli di oggi\, gli adulti che verranno; un grande maestro racconta. \nIn dialogo con Giacomo D’Alessandro. \nL’incontro è dedicato a Giulio Regeni.
URL:https://www.suqgenova.it/archivio-evento/goffredo-fofi-al-suq/
CATEGORIES:Incontri,Suq Festival 2016
ATTACH;FMTTYPE=image/jpeg:https://www.suqgenova.it/wp-content/uploads/2016/06/fofi-e1465304256382.jpg
END:VEVENT
BEGIN:VEVENT
DTSTART;TZID=UTC:20160624T183000
DTEND;TZID=UTC:20160624T193000
DTSTAMP:20260420T223323
CREATED:20160607T105749Z
LAST-MODIFIED:20160607T105749Z
UID:19412-1466793000-1466796600@www.suqgenova.it
SUMMARY:Goffredo Fofi al Suq
DESCRIPTION:Le varie gioventù: i giovani di ieri\, quelli di oggi\, gli adulti che verranno; un grande maestro racconta. \nIn dialogo con Giacomo D’Alessandro. \nL’incontro è dedicato a Giulio Regeni.
URL:https://www.suqgenova.it/archivio-evento/goffredo-fofi-al-suq-2/
CATEGORIES:Incontri,Suq Festival 2016
ATTACH;FMTTYPE=image/jpeg:https://www.suqgenova.it/wp-content/uploads/2016/06/fofi-e1465304256382.jpg
END:VEVENT
BEGIN:VEVENT
DTSTART;TZID=UTC:20160624T183000
DTEND;TZID=UTC:20160624T193000
DTSTAMP:20260420T223323
CREATED:20160607T105749Z
LAST-MODIFIED:20160607T105749Z
UID:19958-1466793000-1466796600@www.suqgenova.it
SUMMARY:Goffredo Fofi al Suq
DESCRIPTION:Le varie gioventù: i giovani di ieri\, quelli di oggi\, gli adulti che verranno; un grande maestro racconta. \nIn dialogo con Giacomo D’Alessandro. \nL’incontro è dedicato a Giulio Regeni.
URL:https://www.suqgenova.it/archivio-evento/goffredo-fofi-al-suq-3/
CATEGORIES:Incontri,Suq Festival 2016
ATTACH;FMTTYPE=image/jpeg:https://www.suqgenova.it/wp-content/uploads/2016/06/fofi-e1465304256382.jpg
END:VEVENT
BEGIN:VEVENT
DTSTART;TZID=UTC:20160624T170000
DTEND;TZID=UTC:20160624T180000
DTSTAMP:20260420T223323
CREATED:20160608T100439Z
LAST-MODIFIED:20160608T100439Z
UID:3697-1466787600-1466791200@www.suqgenova.it
SUMMARY:Un tè con sportello legale con Arcigay
DESCRIPTION:Il rifugiato omosessuale nella crisi dei migranti. Intervengono Damiano Fiorato e Daniele Ferrari di Arcigay Genova.
URL:https://www.suqgenova.it/archivio-evento/un-sportello-legale-arcigay/
CATEGORIES:Incontri,Suq Festival 2016
ATTACH;FMTTYPE=image/png:https://www.suqgenova.it/wp-content/uploads/2016/06/incontri.png
END:VEVENT
BEGIN:VEVENT
DTSTART;TZID=UTC:20160624T170000
DTEND;TZID=UTC:20160624T180000
DTSTAMP:20260420T223323
CREATED:20160608T100439Z
LAST-MODIFIED:20160608T100439Z
UID:19435-1466787600-1466791200@www.suqgenova.it
SUMMARY:Un tè con sportello legale con Arcigay
DESCRIPTION:Il rifugiato omosessuale nella crisi dei migranti. Intervengono Damiano Fiorato e Daniele Ferrari di Arcigay Genova.
URL:https://www.suqgenova.it/archivio-evento/un-sportello-legale-arcigay-2/
CATEGORIES:Incontri,Suq Festival 2016
ATTACH;FMTTYPE=image/png:https://www.suqgenova.it/wp-content/uploads/2016/06/incontri.png
END:VEVENT
BEGIN:VEVENT
DTSTART;TZID=UTC:20160624T170000
DTEND;TZID=UTC:20160624T180000
DTSTAMP:20260420T223323
CREATED:20160608T100439Z
LAST-MODIFIED:20160608T100439Z
UID:19981-1466787600-1466791200@www.suqgenova.it
SUMMARY:Un tè con sportello legale con Arcigay
DESCRIPTION:Il rifugiato omosessuale nella crisi dei migranti. Intervengono Damiano Fiorato e Daniele Ferrari di Arcigay Genova.
URL:https://www.suqgenova.it/archivio-evento/un-sportello-legale-arcigay-3/
CATEGORIES:Incontri,Suq Festival 2016
ATTACH;FMTTYPE=image/png:https://www.suqgenova.it/wp-content/uploads/2016/06/incontri.png
END:VEVENT
BEGIN:VEVENT
DTSTART;TZID=UTC:20160624T160000
DTEND;TZID=UTC:20160624T170000
DTSTAMP:20260420T223323
CREATED:20160608T103915Z
LAST-MODIFIED:20160608T103915Z
UID:3695-1466784000-1466787600@www.suqgenova.it
SUMMARY:Fare il sapone
DESCRIPTION:Un laboratorio per imparare a farlo ma anche a sceglierlo\, nel rispetto dell’ambiente. \nA cura e con I Provenzali.
URL:https://www.suqgenova.it/archivio-evento/fare-il-sapone/
CATEGORIES:Laboratori,Suq Festival 2016
ATTACH;FMTTYPE=image/png:https://www.suqgenova.it/wp-content/uploads/2016/06/provenzali.png
END:VEVENT
BEGIN:VEVENT
DTSTART;TZID=UTC:20160624T160000
DTEND;TZID=UTC:20160624T170000
DTSTAMP:20260420T223323
CREATED:20160608T103915Z
LAST-MODIFIED:20160608T103915Z
UID:19434-1466784000-1466787600@www.suqgenova.it
SUMMARY:Fare il sapone
DESCRIPTION:Un laboratorio per imparare a farlo ma anche a sceglierlo\, nel rispetto dell’ambiente. \nA cura e con I Provenzali.
URL:https://www.suqgenova.it/archivio-evento/fare-il-sapone-2/
CATEGORIES:Laboratori,Suq Festival 2016
ATTACH;FMTTYPE=image/png:https://www.suqgenova.it/wp-content/uploads/2016/06/provenzali.png
END:VEVENT
BEGIN:VEVENT
DTSTART;TZID=UTC:20160624T160000
DTEND;TZID=UTC:20160624T170000
DTSTAMP:20260420T223323
CREATED:20160608T103915Z
LAST-MODIFIED:20160608T103915Z
UID:19980-1466784000-1466787600@www.suqgenova.it
SUMMARY:Fare il sapone
DESCRIPTION:Un laboratorio per imparare a farlo ma anche a sceglierlo\, nel rispetto dell’ambiente. \nA cura e con I Provenzali.
URL:https://www.suqgenova.it/archivio-evento/fare-il-sapone-3/
CATEGORIES:Laboratori,Suq Festival 2016
ATTACH;FMTTYPE=image/png:https://www.suqgenova.it/wp-content/uploads/2016/06/provenzali.png
END:VEVENT
END:VCALENDAR