BEGIN:VCALENDAR
VERSION:2.0
PRODID:-//Suq Genova - ECPv6.15.20//NONSGML v1.0//EN
CALSCALE:GREGORIAN
METHOD:PUBLISH
X-ORIGINAL-URL:https://www.suqgenova.it
X-WR-CALDESC:Eventi per Suq Genova
REFRESH-INTERVAL;VALUE=DURATION:PT1H
X-Robots-Tag:noindex
X-PUBLISHED-TTL:PT1H
BEGIN:VTIMEZONE
TZID:UTC
BEGIN:STANDARD
TZOFFSETFROM:+0000
TZOFFSETTO:+0000
TZNAME:UTC
DTSTART:20140101T000000
END:STANDARD
END:VTIMEZONE
BEGIN:VEVENT
DTSTART;TZID=UTC:20160409T100000
DTEND;TZID=UTC:20160409T120000
DTSTAMP:20260420T161435
CREATED:20160323T090556Z
LAST-MODIFIED:20160323T090556Z
UID:3013-1460196000-1460203200@www.suqgenova.it
SUMMARY:Teatro Itinerante al Museo delle Culture di Milano
DESCRIPTION:Nell’ambito del progetto La Fabbrica del Dialogo con il Suq delle Culture – Milano  \nMUDEC – Museo delle Culture – Sabato 9 Aprile ore 10 – 11 – 12 (riservato alle scuole) \nUn viaggio nelle culture con canzoni\, leggende e performance artistiche \ncon Mascherenere e la Compagnia del Suq \na cura di e con Olivier Elouti  e Carla Peirolero \ncon Roberta Alloisio\, Li Huang\, Erjomina Shahaj\, Tatiana Zakharova\,  Kikoko Kouvi – Akoe\, Mateo Çili\, Giovanna Schenone\, Alfie Nze\nIl percorso teatrale prevede 3 orari e 3 gruppi\, con numero limitato  di persone \nIngresso gratuito\nPer prenotazioni e informazioni clicca qui  \n 
URL:https://www.suqgenova.it/archivio-evento/teatro-itinerante-al-museo-delle-culture-milano-2/
CATEGORIES:Spettacoli,Suq delle Culture a Milano
ATTACH;FMTTYPE=image/jpeg:https://www.suqgenova.it/wp-content/uploads/2016/03/mudec_fb.jpg
END:VEVENT
BEGIN:VEVENT
DTSTART;TZID=UTC:20160409T100000
DTEND;TZID=UTC:20160409T120000
DTSTAMP:20260420T161435
CREATED:20160323T090556Z
LAST-MODIFIED:20160323T090556Z
UID:19920-1460196000-1460203200@www.suqgenova.it
SUMMARY:Teatro Itinerante al Museo delle Culture di Milano
DESCRIPTION:Nell’ambito del progetto La Fabbrica del Dialogo con il Suq delle Culture – Milano  \nMUDEC – Museo delle Culture – Sabato 9 Aprile ore 10 – 11 – 12 (riservato alle scuole) \nUn viaggio nelle culture con canzoni\, leggende e performance artistiche \ncon Mascherenere e la Compagnia del Suq \na cura di e con Olivier Elouti  e Carla Peirolero \ncon Roberta Alloisio\, Li Huang\, Erjomina Shahaj\, Tatiana Zakharova\,  Kikoko Kouvi – Akoe\, Mateo Çili\, Giovanna Schenone\, Alfie Nze\nIl percorso teatrale prevede 3 orari e 3 gruppi\, con numero limitato  di persone \nIngresso gratuito\nPer prenotazioni e informazioni clicca qui  \n 
URL:https://www.suqgenova.it/archivio-evento/teatro-itinerante-al-museo-delle-culture-milano-2-3/
CATEGORIES:Spettacoli,Suq delle Culture a Milano
ATTACH;FMTTYPE=image/jpeg:https://www.suqgenova.it/wp-content/uploads/2016/03/mudec_fb.jpg
END:VEVENT
BEGIN:VEVENT
DTSTART;TZID=UTC:20160409T100000
DTEND;TZID=UTC:20160409T120000
DTSTAMP:20260420T161435
CREATED:20160323T090556Z
LAST-MODIFIED:20160323T090556Z
UID:19374-1460196000-1460203200@www.suqgenova.it
SUMMARY:Teatro Itinerante al Museo delle Culture di Milano
DESCRIPTION:Nell’ambito del progetto La Fabbrica del Dialogo con il Suq delle Culture – Milano  \nMUDEC – Museo delle Culture – Sabato 9 Aprile ore 10 – 11 – 12 (riservato alle scuole) \nUn viaggio nelle culture con canzoni\, leggende e performance artistiche \ncon Mascherenere e la Compagnia del Suq \na cura di e con Olivier Elouti  e Carla Peirolero \ncon Roberta Alloisio\, Li Huang\, Erjomina Shahaj\, Tatiana Zakharova\,  Kikoko Kouvi – Akoe\, Mateo Çili\, Giovanna Schenone\, Alfie Nze\nIl percorso teatrale prevede 3 orari e 3 gruppi\, con numero limitato  di persone \nIngresso gratuito\nPer prenotazioni e informazioni clicca qui  \n 
URL:https://www.suqgenova.it/archivio-evento/teatro-itinerante-al-museo-delle-culture-milano-2-2/
CATEGORIES:Spettacoli,Suq delle Culture a Milano
ATTACH;FMTTYPE=image/jpeg:https://www.suqgenova.it/wp-content/uploads/2016/03/mudec_fb.jpg
END:VEVENT
BEGIN:VEVENT
DTSTART;TZID=UTC:20160406T210000
DTEND;TZID=UTC:20160406T230000
DTSTAMP:20260420T161435
CREATED:20160112T095739Z
LAST-MODIFIED:20160112T095739Z
UID:19911-1459976400-1459983600@www.suqgenova.it
SUMMARY:Una notte al Café Jerusalem a Roma
DESCRIPTION:Café Jerusalem\, di Paola Caridi\, è il canto per una città sovraesposta\, mitologica\, dove gli esseri umani\, uomini e donne\, appaiono sovente abbandonati a se stessi\, dimenticati. E anche la vita stessa è molte volte calpestata tra quelle pietre sacre. \nVai alla scheda dello spettacolo \nÈ a Gerusalemme\, in questa città esposta alla violenza e all’odio\, che si svolge la storia d’amore della palestinese Nura (“luce” in arabo) per l’ebreo Moshe. Un amore che cova nascosto e silenzioso\, ma che illumina quella città. Una passione che per lei è vita\, anche se deve inesorabilmente fare i conti con la realtà. Le parole che non furono dette\, le parole per conoscersi\, sono quelle tra Nura e Moshe\, ma anche tra il giovane palestinese Musa e la ragazza-soldato israeliana che gli chiede i documenti. In un passaggio di testimone tra le generazioni che tramanda la sofferenza\, e rinvia a data da destinarsi la soluzione del conflitto. \nCafé Jerusalem\, come tutti gli spettacoli della Compagnia del Suq\, mescola la prosa alla componente musicale\, con un risultato in questo caso davvero emozionante\, grazie ai suoni che in alcuni casi riproducono quelli della Città Santa\, percorsa ripetutamente sia dall’autrice che dai Radiodervish. \nAcquista online i biglietti \n 
URL:https://www.suqgenova.it/archivio-evento/una-notte-al-cafe-jerusalem-3-3/
CATEGORIES:Spettacoli
ATTACH;FMTTYPE=image/jpeg:https://www.suqgenova.it/wp-content/uploads/2016/03/ritaglio-per-sito-666x400-e1457016359915.jpg
END:VEVENT
BEGIN:VEVENT
DTSTART;TZID=UTC:20160406T210000
DTEND;TZID=UTC:20160406T230000
DTSTAMP:20260420T161435
CREATED:20160112T095739Z
LAST-MODIFIED:20160112T095739Z
UID:2744-1459976400-1459983600@www.suqgenova.it
SUMMARY:Una notte al Café Jerusalem a Roma
DESCRIPTION:Café Jerusalem\, di Paola Caridi\, è il canto per una città sovraesposta\, mitologica\, dove gli esseri umani\, uomini e donne\, appaiono sovente abbandonati a se stessi\, dimenticati. E anche la vita stessa è molte volte calpestata tra quelle pietre sacre. \nVai alla scheda dello spettacolo \nÈ a Gerusalemme\, in questa città esposta alla violenza e all’odio\, che si svolge la storia d’amore della palestinese Nura (“luce” in arabo) per l’ebreo Moshe. Un amore che cova nascosto e silenzioso\, ma che illumina quella città. Una passione che per lei è vita\, anche se deve inesorabilmente fare i conti con la realtà. Le parole che non furono dette\, le parole per conoscersi\, sono quelle tra Nura e Moshe\, ma anche tra il giovane palestinese Musa e la ragazza-soldato israeliana che gli chiede i documenti. In un passaggio di testimone tra le generazioni che tramanda la sofferenza\, e rinvia a data da destinarsi la soluzione del conflitto. \nCafé Jerusalem\, come tutti gli spettacoli della Compagnia del Suq\, mescola la prosa alla componente musicale\, con un risultato in questo caso davvero emozionante\, grazie ai suoni che in alcuni casi riproducono quelli della Città Santa\, percorsa ripetutamente sia dall’autrice che dai Radiodervish. \nAcquista online i biglietti \n 
URL:https://www.suqgenova.it/archivio-evento/una-notte-al-cafe-jerusalem-3/
CATEGORIES:Spettacoli
ATTACH;FMTTYPE=image/jpeg:https://www.suqgenova.it/wp-content/uploads/2016/03/ritaglio-per-sito-666x400-e1457016359915.jpg
END:VEVENT
BEGIN:VEVENT
DTSTART;TZID=UTC:20160406T210000
DTEND;TZID=UTC:20160406T230000
DTSTAMP:20260420T161435
CREATED:20160112T095739Z
LAST-MODIFIED:20160112T095739Z
UID:19365-1459976400-1459983600@www.suqgenova.it
SUMMARY:Una notte al Café Jerusalem a Roma
DESCRIPTION:Café Jerusalem\, di Paola Caridi\, è il canto per una città sovraesposta\, mitologica\, dove gli esseri umani\, uomini e donne\, appaiono sovente abbandonati a se stessi\, dimenticati. E anche la vita stessa è molte volte calpestata tra quelle pietre sacre. \nVai alla scheda dello spettacolo \nÈ a Gerusalemme\, in questa città esposta alla violenza e all’odio\, che si svolge la storia d’amore della palestinese Nura (“luce” in arabo) per l’ebreo Moshe. Un amore che cova nascosto e silenzioso\, ma che illumina quella città. Una passione che per lei è vita\, anche se deve inesorabilmente fare i conti con la realtà. Le parole che non furono dette\, le parole per conoscersi\, sono quelle tra Nura e Moshe\, ma anche tra il giovane palestinese Musa e la ragazza-soldato israeliana che gli chiede i documenti. In un passaggio di testimone tra le generazioni che tramanda la sofferenza\, e rinvia a data da destinarsi la soluzione del conflitto. \nCafé Jerusalem\, come tutti gli spettacoli della Compagnia del Suq\, mescola la prosa alla componente musicale\, con un risultato in questo caso davvero emozionante\, grazie ai suoni che in alcuni casi riproducono quelli della Città Santa\, percorsa ripetutamente sia dall’autrice che dai Radiodervish. \nAcquista online i biglietti \n 
URL:https://www.suqgenova.it/archivio-evento/una-notte-al-cafe-jerusalem-3-2/
CATEGORIES:Spettacoli
ATTACH;FMTTYPE=image/jpeg:https://www.suqgenova.it/wp-content/uploads/2016/03/ritaglio-per-sito-666x400-e1457016359915.jpg
END:VEVENT
BEGIN:VEVENT
DTSTART;TZID=UTC:20160331T190000
DTEND;TZID=UTC:20160331T210000
DTSTAMP:20260420T161435
CREATED:20160323T084354Z
LAST-MODIFIED:20160323T084354Z
UID:3008-1459450800-1459458000@www.suqgenova.it
SUMMARY:Teatro Itinerante al Museo delle Culture di Milano
DESCRIPTION:Nell’ambito del progetto La Fabbrica del Dialogo con il Suq delle Culture – Milano  \nMUDEC – Museo delle Culture Giovedì 31 Marzo ore 19 – 20 -21 – Sabato 9 Aprile ore 10 – 11 – 12 (riservato alle scuole) \nUn viaggio nelle culture con canzoni\, leggende e performance artistiche \ncon Mascherenere e la Compagnia del Suq \na cura di e con Olivier Elouti  e Carla Peirolero \ncon Roberta Alloisio\, Li Huang\, Erjomina Shahaj\, Tatiana Zakharova\,  Kikoko Kouvi – Akoe\, Mateo Çili\, Giovanna Schenone\, Alfie Nze \nIl percorso teatrale prevede 3 orari e 3 gruppi\, con numero limitato  di persone \nIngresso gratuito\nPer prenotazioni e informazioni clicca qui  \n  \n 
URL:https://www.suqgenova.it/archivio-evento/teatro-itinerante-al-museo-delle-culture-milano/
CATEGORIES:Spettacoli,Suq delle Culture a Milano
ATTACH;FMTTYPE=image/jpeg:https://www.suqgenova.it/wp-content/uploads/2016/03/mudec_fb.jpg
END:VEVENT
BEGIN:VEVENT
DTSTART;TZID=UTC:20160331T190000
DTEND;TZID=UTC:20160331T210000
DTSTAMP:20260420T161435
CREATED:20160323T084354Z
LAST-MODIFIED:20160323T084354Z
UID:19918-1459450800-1459458000@www.suqgenova.it
SUMMARY:Teatro Itinerante al Museo delle Culture di Milano
DESCRIPTION:Nell’ambito del progetto La Fabbrica del Dialogo con il Suq delle Culture – Milano  \nMUDEC – Museo delle Culture Giovedì 31 Marzo ore 19 – 20 -21 – Sabato 9 Aprile ore 10 – 11 – 12 (riservato alle scuole) \nUn viaggio nelle culture con canzoni\, leggende e performance artistiche \ncon Mascherenere e la Compagnia del Suq \na cura di e con Olivier Elouti  e Carla Peirolero \ncon Roberta Alloisio\, Li Huang\, Erjomina Shahaj\, Tatiana Zakharova\,  Kikoko Kouvi – Akoe\, Mateo Çili\, Giovanna Schenone\, Alfie Nze \nIl percorso teatrale prevede 3 orari e 3 gruppi\, con numero limitato  di persone \nIngresso gratuito\nPer prenotazioni e informazioni clicca qui  \n  \n 
URL:https://www.suqgenova.it/archivio-evento/teatro-itinerante-al-museo-delle-culture-milano-4/
CATEGORIES:Spettacoli,Suq delle Culture a Milano
ATTACH;FMTTYPE=image/jpeg:https://www.suqgenova.it/wp-content/uploads/2016/03/mudec_fb.jpg
END:VEVENT
BEGIN:VEVENT
DTSTART;TZID=UTC:20160331T190000
DTEND;TZID=UTC:20160331T210000
DTSTAMP:20260420T161435
CREATED:20160323T084354Z
LAST-MODIFIED:20160323T084354Z
UID:19372-1459450800-1459458000@www.suqgenova.it
SUMMARY:Teatro Itinerante al Museo delle Culture di Milano
DESCRIPTION:Nell’ambito del progetto La Fabbrica del Dialogo con il Suq delle Culture – Milano  \nMUDEC – Museo delle Culture Giovedì 31 Marzo ore 19 – 20 -21 – Sabato 9 Aprile ore 10 – 11 – 12 (riservato alle scuole) \nUn viaggio nelle culture con canzoni\, leggende e performance artistiche \ncon Mascherenere e la Compagnia del Suq \na cura di e con Olivier Elouti  e Carla Peirolero \ncon Roberta Alloisio\, Li Huang\, Erjomina Shahaj\, Tatiana Zakharova\,  Kikoko Kouvi – Akoe\, Mateo Çili\, Giovanna Schenone\, Alfie Nze \nIl percorso teatrale prevede 3 orari e 3 gruppi\, con numero limitato  di persone \nIngresso gratuito\nPer prenotazioni e informazioni clicca qui  \n  \n 
URL:https://www.suqgenova.it/archivio-evento/teatro-itinerante-al-museo-delle-culture-milano-3/
CATEGORIES:Spettacoli,Suq delle Culture a Milano
ATTACH;FMTTYPE=image/jpeg:https://www.suqgenova.it/wp-content/uploads/2016/03/mudec_fb.jpg
END:VEVENT
BEGIN:VEVENT
DTSTART;TZID=UTC:20151230T203000
DTEND;TZID=UTC:20151230T230000
DTSTAMP:20260420T161435
CREATED:20151120T103115Z
LAST-MODIFIED:20151120T103115Z
UID:19908-1451507400-1451516400@www.suqgenova.it
SUMMARY:Una notte al Café Jerusalem
DESCRIPTION:CONCERTO\, TEATRO E MOSTRA \ndalle ore 20.30\nmostra «Gerusalemme in sogno» di Maria Teresa De Palma \nore 21.00\nSpettacolo teatrale Café Jerusalem (guarda la scheda\, foto e video)\ndi Paola Caridi con Carla Peirolero e Pino Petruzzelli\nregia di Pino Petruzzelli\nmusiche in scena dei Radiodervish \nUna produzione Teatro Stabile di Genova e Suq Festival e Teatro \nore 22.00\nRadiodervish in concerto \nBIGLIETTI E PRENOTAZIONI \nUna Produzione Cosmasola In collaborazione con:\nAssessorato alle Culture\,Turismo\, Partecipazione e attuazione del programma – Comune di Bari\nTeatri di Bari\nNuovo Teatro Verdi di Brindisi\nRadio Ciccio Riccio
URL:https://www.suqgenova.it/archivio-evento/una-notte-al-cafe-jerusalem-5/
CATEGORIES:Spettacoli
ATTACH;FMTTYPE=image/jpeg:https://www.suqgenova.it/wp-content/uploads/2015/09/cafej-fotosito3.jpg
END:VEVENT
BEGIN:VEVENT
DTSTART;TZID=UTC:20151230T203000
DTEND;TZID=UTC:20151230T230000
DTSTAMP:20260420T161435
CREATED:20151120T103115Z
LAST-MODIFIED:20151120T103115Z
UID:2599-1451507400-1451516400@www.suqgenova.it
SUMMARY:Una notte al Café Jerusalem
DESCRIPTION:CONCERTO\, TEATRO E MOSTRA \ndalle ore 20.30\nmostra «Gerusalemme in sogno» di Maria Teresa De Palma \nore 21.00\nSpettacolo teatrale Café Jerusalem (guarda la scheda\, foto e video)\ndi Paola Caridi con Carla Peirolero e Pino Petruzzelli\nregia di Pino Petruzzelli\nmusiche in scena dei Radiodervish \nUna produzione Teatro Stabile di Genova e Suq Festival e Teatro \nore 22.00\nRadiodervish in concerto \nBIGLIETTI E PRENOTAZIONI \nUna Produzione Cosmasola In collaborazione con:\nAssessorato alle Culture\,Turismo\, Partecipazione e attuazione del programma – Comune di Bari\nTeatri di Bari\nNuovo Teatro Verdi di Brindisi\nRadio Ciccio Riccio
URL:https://www.suqgenova.it/archivio-evento/una-notte-al-cafe-jerusalem/
CATEGORIES:Spettacoli
ATTACH;FMTTYPE=image/jpeg:https://www.suqgenova.it/wp-content/uploads/2015/09/cafej-fotosito3.jpg
END:VEVENT
BEGIN:VEVENT
DTSTART;TZID=UTC:20151230T203000
DTEND;TZID=UTC:20151230T230000
DTSTAMP:20260420T161435
CREATED:20151120T103115Z
LAST-MODIFIED:20151120T103115Z
UID:19362-1451507400-1451516400@www.suqgenova.it
SUMMARY:Una notte al Café Jerusalem
DESCRIPTION:CONCERTO\, TEATRO E MOSTRA \ndalle ore 20.30\nmostra «Gerusalemme in sogno» di Maria Teresa De Palma \nore 21.00\nSpettacolo teatrale Café Jerusalem (guarda la scheda\, foto e video)\ndi Paola Caridi con Carla Peirolero e Pino Petruzzelli\nregia di Pino Petruzzelli\nmusiche in scena dei Radiodervish \nUna produzione Teatro Stabile di Genova e Suq Festival e Teatro \nore 22.00\nRadiodervish in concerto \nBIGLIETTI E PRENOTAZIONI \nUna Produzione Cosmasola In collaborazione con:\nAssessorato alle Culture\,Turismo\, Partecipazione e attuazione del programma – Comune di Bari\nTeatri di Bari\nNuovo Teatro Verdi di Brindisi\nRadio Ciccio Riccio
URL:https://www.suqgenova.it/archivio-evento/una-notte-al-cafe-jerusalem-4/
CATEGORIES:Spettacoli
ATTACH;FMTTYPE=image/jpeg:https://www.suqgenova.it/wp-content/uploads/2015/09/cafej-fotosito3.jpg
END:VEVENT
BEGIN:VEVENT
DTSTART;TZID=UTC:20151229T203000
DTEND;TZID=UTC:20151229T230000
DTSTAMP:20260420T161435
CREATED:20151120T103521Z
LAST-MODIFIED:20151120T103521Z
UID:2603-1451421000-1451430000@www.suqgenova.it
SUMMARY:Una notte al Café Jerusalem
DESCRIPTION:CONCERTO\, TEATRO E MOSTRA \ndalle ore 20.30\nmostra «Gerusalemme in sogno» di Maria Teresa De Palma \nore 21.00\nSpettacolo teatrale Café Jerusalem (guarda la scheda\, foto e video)\ndi Paola Caridi con Carla Peirolero e Pino Petruzzelli\nregia di Pino Petruzzelli\nmusiche in scena dei Radiodervish \nUna produzione Teatro Stabile di Genova e Suq Festival e Teatro \nore 22.00\nRadiodervish in concerto \nBIGLIETTI E PRENOTAZIONI \nUna Produzione Cosmasola In collaborazione con:\nAssessorato alle Culture\,Turismo\, Partecipazione e attuazione del programma – Comune di Bari\nTeatri di Bari\nNuovo Teatro Verdi di Brindisi\nRadio Ciccio Riccio
URL:https://www.suqgenova.it/archivio-evento/una-notte-al-cafe-jerusalem-2/
CATEGORIES:Spettacoli
ATTACH;FMTTYPE=image/jpeg:https://www.suqgenova.it/wp-content/uploads/2015/09/cafej-fotosito3.jpg
END:VEVENT
BEGIN:VEVENT
DTSTART;TZID=UTC:20151229T203000
DTEND;TZID=UTC:20151229T230000
DTSTAMP:20260420T161435
CREATED:20151120T103521Z
LAST-MODIFIED:20151120T103521Z
UID:19909-1451421000-1451430000@www.suqgenova.it
SUMMARY:Una notte al Café Jerusalem
DESCRIPTION:CONCERTO\, TEATRO E MOSTRA \ndalle ore 20.30\nmostra «Gerusalemme in sogno» di Maria Teresa De Palma \nore 21.00\nSpettacolo teatrale Café Jerusalem (guarda la scheda\, foto e video)\ndi Paola Caridi con Carla Peirolero e Pino Petruzzelli\nregia di Pino Petruzzelli\nmusiche in scena dei Radiodervish \nUna produzione Teatro Stabile di Genova e Suq Festival e Teatro \nore 22.00\nRadiodervish in concerto \nBIGLIETTI E PRENOTAZIONI \nUna Produzione Cosmasola In collaborazione con:\nAssessorato alle Culture\,Turismo\, Partecipazione e attuazione del programma – Comune di Bari\nTeatri di Bari\nNuovo Teatro Verdi di Brindisi\nRadio Ciccio Riccio
URL:https://www.suqgenova.it/archivio-evento/una-notte-al-cafe-jerusalem-2-3/
CATEGORIES:Spettacoli
ATTACH;FMTTYPE=image/jpeg:https://www.suqgenova.it/wp-content/uploads/2015/09/cafej-fotosito3.jpg
END:VEVENT
BEGIN:VEVENT
DTSTART;TZID=UTC:20151229T203000
DTEND;TZID=UTC:20151229T230000
DTSTAMP:20260420T161435
CREATED:20151120T103521Z
LAST-MODIFIED:20151120T103521Z
UID:19363-1451421000-1451430000@www.suqgenova.it
SUMMARY:Una notte al Café Jerusalem
DESCRIPTION:CONCERTO\, TEATRO E MOSTRA \ndalle ore 20.30\nmostra «Gerusalemme in sogno» di Maria Teresa De Palma \nore 21.00\nSpettacolo teatrale Café Jerusalem (guarda la scheda\, foto e video)\ndi Paola Caridi con Carla Peirolero e Pino Petruzzelli\nregia di Pino Petruzzelli\nmusiche in scena dei Radiodervish \nUna produzione Teatro Stabile di Genova e Suq Festival e Teatro \nore 22.00\nRadiodervish in concerto \nBIGLIETTI E PRENOTAZIONI \nUna Produzione Cosmasola In collaborazione con:\nAssessorato alle Culture\,Turismo\, Partecipazione e attuazione del programma – Comune di Bari\nTeatri di Bari\nNuovo Teatro Verdi di Brindisi\nRadio Ciccio Riccio
URL:https://www.suqgenova.it/archivio-evento/una-notte-al-cafe-jerusalem-2-2/
CATEGORIES:Spettacoli
ATTACH;FMTTYPE=image/jpeg:https://www.suqgenova.it/wp-content/uploads/2015/09/cafej-fotosito3.jpg
END:VEVENT
END:VCALENDAR