BEGIN:VCALENDAR
VERSION:2.0
PRODID:-//Suq Genova - ECPv6.15.20//NONSGML v1.0//EN
CALSCALE:GREGORIAN
METHOD:PUBLISH
X-WR-CALNAME:Suq Genova
X-ORIGINAL-URL:https://www.suqgenova.it
X-WR-CALDESC:Eventi per Suq Genova
REFRESH-INTERVAL;VALUE=DURATION:PT1H
X-Robots-Tag:noindex
X-PUBLISHED-TTL:PT1H
BEGIN:VTIMEZONE
TZID:UTC
BEGIN:STANDARD
TZOFFSETFROM:+0000
TZOFFSETTO:+0000
TZNAME:UTC
DTSTART:20150101T000000
END:STANDARD
END:VTIMEZONE
BEGIN:VEVENT
DTSTART;TZID=UTC:20161105T100000
DTEND;TZID=UTC:20161105T190000
DTSTAMP:20260420T112516
CREATED:20161110T085327Z
LAST-MODIFIED:20161110T085327Z
UID:19458-1478340000-1478372400@www.suqgenova.it
SUMMARY:Le buone pratiche del teatro a Milano
DESCRIPTION:Anche Carla Peirolero tra gli ospiti della giornata dedicata al Teatro Sociale e di Comunità\, #BP2016\, organizzata dal webmagazine Ateatro.it in collaborazione con la rivista europea “Catarsi-teatri delle Diversità” e Università di Torino- SVT Social and Community Theatre Center.
URL:https://www.suqgenova.it/archivio-evento/le-buone-pratiche-del-teatro-milano-2/
CATEGORIES:Meeting
END:VEVENT
BEGIN:VEVENT
DTSTART;TZID=UTC:20161105T100000
DTEND;TZID=UTC:20161105T190000
DTSTAMP:20260420T112516
CREATED:20161110T085327Z
LAST-MODIFIED:20161110T085327Z
UID:4282-1478340000-1478372400@www.suqgenova.it
SUMMARY:Le buone pratiche del teatro a Milano
DESCRIPTION:Anche Carla Peirolero tra gli ospiti della giornata dedicata al Teatro Sociale e di Comunità\, #BP2016\, organizzata dal webmagazine Ateatro.it in collaborazione con la rivista europea “Catarsi-teatri delle Diversità” e Università di Torino- SVT Social and Community Theatre Center.
URL:https://www.suqgenova.it/archivio-evento/le-buone-pratiche-del-teatro-milano/
CATEGORIES:Meeting
END:VEVENT
BEGIN:VEVENT
DTSTART;TZID=UTC:20161105T100000
DTEND;TZID=UTC:20161105T190000
DTSTAMP:20260420T112516
CREATED:20161110T085327Z
LAST-MODIFIED:20161110T085327Z
UID:20004-1478340000-1478372400@www.suqgenova.it
SUMMARY:Le buone pratiche del teatro a Milano
DESCRIPTION:Anche Carla Peirolero tra gli ospiti della giornata dedicata al Teatro Sociale e di Comunità\, #BP2016\, organizzata dal webmagazine Ateatro.it in collaborazione con la rivista europea “Catarsi-teatri delle Diversità” e Università di Torino- SVT Social and Community Theatre Center.
URL:https://www.suqgenova.it/archivio-evento/le-buone-pratiche-del-teatro-milano-3/
CATEGORIES:Meeting
END:VEVENT
BEGIN:VEVENT
DTSTART;TZID=UTC:20161001T090000
DTEND;TZID=UTC:20161001T170000
DTSTAMP:20260420T112516
CREATED:20160909T075128Z
LAST-MODIFIED:20160909T075128Z
UID:19452-1475312400-1475341200@www.suqgenova.it
SUMMARY:A Vicenza si parla di festival con Laboratorio Olimpico e Rete Critica
DESCRIPTION:Anche l’esperienza del Suq\, raccontata da Carla Peirolero sarà al centro della giornata di incontri sui festival (novità\, bilancio\, prospettive e attualità della forma festival) promossa da Laboratorio Olimpico e Rete Critica nell’ambito dell’XI edizione del Premio Rete Critica 2016. Guarda il Programma della manifestazione.
URL:https://www.suqgenova.it/archivio-evento/suq-vicenza-laboratorio-olimpico-rete-critica-2/
CATEGORIES:Meeting
ATTACH;FMTTYPE=image/jpeg:https://www.suqgenova.it/wp-content/uploads/2016/09/teatro-olimpico-vicenza-e1473414871200.jpg
END:VEVENT
BEGIN:VEVENT
DTSTART;TZID=UTC:20161001T090000
DTEND;TZID=UTC:20161001T170000
DTSTAMP:20260420T112516
CREATED:20160909T075128Z
LAST-MODIFIED:20160909T075128Z
UID:4137-1475312400-1475341200@www.suqgenova.it
SUMMARY:A Vicenza si parla di festival con Laboratorio Olimpico e Rete Critica
DESCRIPTION:Anche l’esperienza del Suq\, raccontata da Carla Peirolero sarà al centro della giornata di incontri sui festival (novità\, bilancio\, prospettive e attualità della forma festival) promossa da Laboratorio Olimpico e Rete Critica nell’ambito dell’XI edizione del Premio Rete Critica 2016. Guarda il Programma della manifestazione.
URL:https://www.suqgenova.it/archivio-evento/suq-vicenza-laboratorio-olimpico-rete-critica/
CATEGORIES:Meeting
ATTACH;FMTTYPE=image/jpeg:https://www.suqgenova.it/wp-content/uploads/2016/09/teatro-olimpico-vicenza-e1473414871200.jpg
END:VEVENT
BEGIN:VEVENT
DTSTART;TZID=UTC:20161001T090000
DTEND;TZID=UTC:20161001T170000
DTSTAMP:20260420T112516
CREATED:20160909T075128Z
LAST-MODIFIED:20160909T075128Z
UID:19998-1475312400-1475341200@www.suqgenova.it
SUMMARY:A Vicenza si parla di festival con Laboratorio Olimpico e Rete Critica
DESCRIPTION:Anche l’esperienza del Suq\, raccontata da Carla Peirolero sarà al centro della giornata di incontri sui festival (novità\, bilancio\, prospettive e attualità della forma festival) promossa da Laboratorio Olimpico e Rete Critica nell’ambito dell’XI edizione del Premio Rete Critica 2016. Guarda il Programma della manifestazione.
URL:https://www.suqgenova.it/archivio-evento/suq-vicenza-laboratorio-olimpico-rete-critica-3/
CATEGORIES:Meeting
ATTACH;FMTTYPE=image/jpeg:https://www.suqgenova.it/wp-content/uploads/2016/09/teatro-olimpico-vicenza-e1473414871200.jpg
END:VEVENT
BEGIN:VEVENT
DTSTART;TZID=UTC:20160930T150000
DTEND;TZID=UTC:20160930T170000
DTSTAMP:20260420T112516
CREATED:20160922T123949Z
LAST-MODIFIED:20160922T123949Z
UID:19456-1475247600-1475254800@www.suqgenova.it
SUMMARY:Quali saperi per l’accoglienza\, se ne parla a Padova – Nòva
DESCRIPTION:Incontro con Adone Brandalise e Alessio Surian\, Università di Padova; Don Dante Carraro\, Medici con l’Africa Cuamm\, Carla Peirolero\, Suq Festival\, Genova. \nNell’ambito di Nòva – Open Innovation Day\, due giorni di confronto tra studenti\, ricercatori\, imprese e società civile. \nSi sente ripetere con una certa frequenza che il fenomeno migratorio è concepibile anche come foriero di risorse. Quest’affermazione\, d’altra parte\, tende ad essere pronunciata più come uno scongiuro per arginare i sintomi di un’insofferenza xenofoba sempre più minacciosa che come una vera a propria premessa per percorsi progettuali che potrebbero dimostrane l’esattezza. Sarebbe urgente delineare quali sono le modalità concrete con cui agire nei confronti delle più recenti componenti del paesaggio umano del nostro Paese\, concependole come un capitale sociale da portare a piena valorizzazione. A fronte delle caratteristiche assunte dal fenomeno migratorio\, di cui si tende spesso solo a sottolineare le implicazioni più problematiche\, diviene importante definire a partire da quali prospettive e con quali categorie\, concetti\, metodi e stili di lavoro interagire con i soggetti che le storie della migrazione quotidianamente ci consegna. Quindi\, quali saperi e quali pratiche per laccoglienza?
URL:https://www.suqgenova.it/archivio-evento/quali-saperi-laccoglienza-ne-parla-padova-nova-2/
CATEGORIES:Meeting
ATTACH;FMTTYPE=image/jpeg:https://www.suqgenova.it/wp-content/uploads/2016/09/veduta_di_palazzo_della_ragione_da_piazza_della_frutta.jpg
END:VEVENT
BEGIN:VEVENT
DTSTART;TZID=UTC:20160930T150000
DTEND;TZID=UTC:20160930T170000
DTSTAMP:20260420T112516
CREATED:20160922T123949Z
LAST-MODIFIED:20160922T123949Z
UID:20002-1475247600-1475254800@www.suqgenova.it
SUMMARY:Quali saperi per l’accoglienza\, se ne parla a Padova – Nòva
DESCRIPTION:Incontro con Adone Brandalise e Alessio Surian\, Università di Padova; Don Dante Carraro\, Medici con l’Africa Cuamm\, Carla Peirolero\, Suq Festival\, Genova. \nNell’ambito di Nòva – Open Innovation Day\, due giorni di confronto tra studenti\, ricercatori\, imprese e società civile. \nSi sente ripetere con una certa frequenza che il fenomeno migratorio è concepibile anche come foriero di risorse. Quest’affermazione\, d’altra parte\, tende ad essere pronunciata più come uno scongiuro per arginare i sintomi di un’insofferenza xenofoba sempre più minacciosa che come una vera a propria premessa per percorsi progettuali che potrebbero dimostrane l’esattezza. Sarebbe urgente delineare quali sono le modalità concrete con cui agire nei confronti delle più recenti componenti del paesaggio umano del nostro Paese\, concependole come un capitale sociale da portare a piena valorizzazione. A fronte delle caratteristiche assunte dal fenomeno migratorio\, di cui si tende spesso solo a sottolineare le implicazioni più problematiche\, diviene importante definire a partire da quali prospettive e con quali categorie\, concetti\, metodi e stili di lavoro interagire con i soggetti che le storie della migrazione quotidianamente ci consegna. Quindi\, quali saperi e quali pratiche per laccoglienza?
URL:https://www.suqgenova.it/archivio-evento/quali-saperi-laccoglienza-ne-parla-padova-nova-3/
CATEGORIES:Meeting
ATTACH;FMTTYPE=image/jpeg:https://www.suqgenova.it/wp-content/uploads/2016/09/veduta_di_palazzo_della_ragione_da_piazza_della_frutta.jpg
END:VEVENT
BEGIN:VEVENT
DTSTART;TZID=UTC:20160930T150000
DTEND;TZID=UTC:20160930T170000
DTSTAMP:20260420T112516
CREATED:20160922T123949Z
LAST-MODIFIED:20160922T123949Z
UID:4170-1475247600-1475254800@www.suqgenova.it
SUMMARY:Quali saperi per l’accoglienza\, se ne parla a Padova – Nòva
DESCRIPTION:Incontro con Adone Brandalise e Alessio Surian\, Università di Padova; Don Dante Carraro\, Medici con l’Africa Cuamm\, Carla Peirolero\, Suq Festival\, Genova. \nNell’ambito di Nòva – Open Innovation Day\, due giorni di confronto tra studenti\, ricercatori\, imprese e società civile. \nSi sente ripetere con una certa frequenza che il fenomeno migratorio è concepibile anche come foriero di risorse. Quest’affermazione\, d’altra parte\, tende ad essere pronunciata più come uno scongiuro per arginare i sintomi di un’insofferenza xenofoba sempre più minacciosa che come una vera a propria premessa per percorsi progettuali che potrebbero dimostrane l’esattezza. Sarebbe urgente delineare quali sono le modalità concrete con cui agire nei confronti delle più recenti componenti del paesaggio umano del nostro Paese\, concependole come un capitale sociale da portare a piena valorizzazione. A fronte delle caratteristiche assunte dal fenomeno migratorio\, di cui si tende spesso solo a sottolineare le implicazioni più problematiche\, diviene importante definire a partire da quali prospettive e con quali categorie\, concetti\, metodi e stili di lavoro interagire con i soggetti che le storie della migrazione quotidianamente ci consegna. Quindi\, quali saperi e quali pratiche per laccoglienza?
URL:https://www.suqgenova.it/archivio-evento/quali-saperi-laccoglienza-ne-parla-padova-nova/
CATEGORIES:Meeting
ATTACH;FMTTYPE=image/jpeg:https://www.suqgenova.it/wp-content/uploads/2016/09/veduta_di_palazzo_della_ragione_da_piazza_della_frutta.jpg
END:VEVENT
BEGIN:VEVENT
DTSTART;TZID=UTC:20160929T153000
DTEND;TZID=UTC:20160929T173000
DTSTAMP:20260420T112516
CREATED:20160909T065750Z
LAST-MODIFIED:20160909T065750Z
UID:19451-1475163000-1475170200@www.suqgenova.it
SUMMARY:Il Suq ad ArtLab: il teatro per i nuovi cittadini
DESCRIPTION:La Capitale Italiana della Cultura 2016 ospiterà il vero fulcro della programmazione dell’edizione 2016. Verranno trattati i temi più cari al progetto Artlab come l’innovazione culturale\, la valorizzazione del patrimonio pubblico\, le politiche territoriali\, l’allargamento e il coinvolgimento di nuovi pubblici e la relazione tra cultura e welfare. Verranno sintetizzate alcune delle buone – ma anche meno buone – pratiche di sviluppo a base culturale più interessanti del panorama nazionale e internazionale. \nIl Suq prende parte all’incontro Il teatro per i nuovi cittadini e i nuovi cittadini per il teatro. \nConduce:\nLuisella Carnelli Ricercatrice\, Fondazione Fitzcarraldo \nIntervengono :\nCarla Peirolero Ideatore e Direttore artistico Suq Genova\nMicaela Casalboni Vicepresidente Teatro dell’Argine\nAlessandro Renda Attore\, Teatro delle Albe\nAlessandra Rossi Ghiglione Direttrice Social and Community Theatre Centre\, Università  di Torino \nNote a margine:\nEmilio Cabasino Presidente Omc Working Group on intercultural dialogue in context of migratory and refugee crisis\, Unione europea
URL:https://www.suqgenova.it/archivio-evento/suq-ad-artlab-teatro-nuovi-cittadini-2/
CATEGORIES:Meeting
ATTACH;FMTTYPE=image/png:https://www.suqgenova.it/wp-content/uploads/2016/09/ArtLab-Mantova.png
END:VEVENT
BEGIN:VEVENT
DTSTART;TZID=UTC:20160929T153000
DTEND;TZID=UTC:20160929T173000
DTSTAMP:20260420T112516
CREATED:20160909T065750Z
LAST-MODIFIED:20160909T065750Z
UID:4126-1475163000-1475170200@www.suqgenova.it
SUMMARY:Il Suq ad ArtLab: il teatro per i nuovi cittadini
DESCRIPTION:La Capitale Italiana della Cultura 2016 ospiterà il vero fulcro della programmazione dell’edizione 2016. Verranno trattati i temi più cari al progetto Artlab come l’innovazione culturale\, la valorizzazione del patrimonio pubblico\, le politiche territoriali\, l’allargamento e il coinvolgimento di nuovi pubblici e la relazione tra cultura e welfare. Verranno sintetizzate alcune delle buone – ma anche meno buone – pratiche di sviluppo a base culturale più interessanti del panorama nazionale e internazionale. \nIl Suq prende parte all’incontro Il teatro per i nuovi cittadini e i nuovi cittadini per il teatro. \nConduce:\nLuisella Carnelli Ricercatrice\, Fondazione Fitzcarraldo \nIntervengono :\nCarla Peirolero Ideatore e Direttore artistico Suq Genova\nMicaela Casalboni Vicepresidente Teatro dell’Argine\nAlessandro Renda Attore\, Teatro delle Albe\nAlessandra Rossi Ghiglione Direttrice Social and Community Theatre Centre\, Università  di Torino \nNote a margine:\nEmilio Cabasino Presidente Omc Working Group on intercultural dialogue in context of migratory and refugee crisis\, Unione europea
URL:https://www.suqgenova.it/archivio-evento/suq-ad-artlab-teatro-nuovi-cittadini/
CATEGORIES:Meeting
ATTACH;FMTTYPE=image/png:https://www.suqgenova.it/wp-content/uploads/2016/09/ArtLab-Mantova.png
END:VEVENT
BEGIN:VEVENT
DTSTART;TZID=UTC:20160929T153000
DTEND;TZID=UTC:20160929T173000
DTSTAMP:20260420T112516
CREATED:20160909T065750Z
LAST-MODIFIED:20160909T065750Z
UID:19997-1475163000-1475170200@www.suqgenova.it
SUMMARY:Il Suq ad ArtLab: il teatro per i nuovi cittadini
DESCRIPTION:La Capitale Italiana della Cultura 2016 ospiterà il vero fulcro della programmazione dell’edizione 2016. Verranno trattati i temi più cari al progetto Artlab come l’innovazione culturale\, la valorizzazione del patrimonio pubblico\, le politiche territoriali\, l’allargamento e il coinvolgimento di nuovi pubblici e la relazione tra cultura e welfare. Verranno sintetizzate alcune delle buone – ma anche meno buone – pratiche di sviluppo a base culturale più interessanti del panorama nazionale e internazionale. \nIl Suq prende parte all’incontro Il teatro per i nuovi cittadini e i nuovi cittadini per il teatro. \nConduce:\nLuisella Carnelli Ricercatrice\, Fondazione Fitzcarraldo \nIntervengono :\nCarla Peirolero Ideatore e Direttore artistico Suq Genova\nMicaela Casalboni Vicepresidente Teatro dell’Argine\nAlessandro Renda Attore\, Teatro delle Albe\nAlessandra Rossi Ghiglione Direttrice Social and Community Theatre Centre\, Università  di Torino \nNote a margine:\nEmilio Cabasino Presidente Omc Working Group on intercultural dialogue in context of migratory and refugee crisis\, Unione europea
URL:https://www.suqgenova.it/archivio-evento/suq-ad-artlab-teatro-nuovi-cittadini-3/
CATEGORIES:Meeting
ATTACH;FMTTYPE=image/png:https://www.suqgenova.it/wp-content/uploads/2016/09/ArtLab-Mantova.png
END:VEVENT
BEGIN:VEVENT
DTSTART;TZID=UTC:20160526T083000
DTEND;TZID=UTC:20160526T190000
DTSTAMP:20260420T112516
CREATED:20160503T120515Z
LAST-MODIFIED:20160503T120515Z
UID:3361-1464251400-1464289200@www.suqgenova.it
SUMMARY:Quarta giornata interculturale alla Bicocca
DESCRIPTION:Nell’ambito della Quarta Giornata Interculturale organizzata dall’Università Bicocca di Milano\, la direttrice del Suq Festival Carla Peirolero interverrà per parlare di reti sociali e senso di appartenenza\, insieme ad altri rappresentanti della società civile e istituzioni. \nScarica qui il programma completo della giornata.
URL:https://www.suqgenova.it/archivio-evento/quarta-giornata-interculturale-alla-bicocca/
CATEGORIES:Meeting
ATTACH;FMTTYPE=image/jpeg:https://www.suqgenova.it/wp-content/uploads/2016/05/Locandina-Quarta_Giornata_27aprile.jpg
END:VEVENT
BEGIN:VEVENT
DTSTART;TZID=UTC:20160526T083000
DTEND;TZID=UTC:20160526T190000
DTSTAMP:20260420T112516
CREATED:20160503T120515Z
LAST-MODIFIED:20160503T120515Z
UID:19379-1464251400-1464289200@www.suqgenova.it
SUMMARY:Quarta giornata interculturale alla Bicocca
DESCRIPTION:Nell’ambito della Quarta Giornata Interculturale organizzata dall’Università Bicocca di Milano\, la direttrice del Suq Festival Carla Peirolero interverrà per parlare di reti sociali e senso di appartenenza\, insieme ad altri rappresentanti della società civile e istituzioni. \nScarica qui il programma completo della giornata.
URL:https://www.suqgenova.it/archivio-evento/quarta-giornata-interculturale-alla-bicocca-2/
CATEGORIES:Meeting
ATTACH;FMTTYPE=image/jpeg:https://www.suqgenova.it/wp-content/uploads/2016/05/Locandina-Quarta_Giornata_27aprile.jpg
END:VEVENT
BEGIN:VEVENT
DTSTART;TZID=UTC:20160526T083000
DTEND;TZID=UTC:20160526T190000
DTSTAMP:20260420T112516
CREATED:20160503T120515Z
LAST-MODIFIED:20160503T120515Z
UID:19925-1464251400-1464289200@www.suqgenova.it
SUMMARY:Quarta giornata interculturale alla Bicocca
DESCRIPTION:Nell’ambito della Quarta Giornata Interculturale organizzata dall’Università Bicocca di Milano\, la direttrice del Suq Festival Carla Peirolero interverrà per parlare di reti sociali e senso di appartenenza\, insieme ad altri rappresentanti della società civile e istituzioni. \nScarica qui il programma completo della giornata.
URL:https://www.suqgenova.it/archivio-evento/quarta-giornata-interculturale-alla-bicocca-3/
CATEGORIES:Meeting
ATTACH;FMTTYPE=image/jpeg:https://www.suqgenova.it/wp-content/uploads/2016/05/Locandina-Quarta_Giornata_27aprile.jpg
END:VEVENT
BEGIN:VEVENT
DTSTART;TZID=UTC:20160427T173000
DTEND;TZID=UTC:20160427T193000
DTSTAMP:20260420T112516
CREATED:20160323T091352Z
LAST-MODIFIED:20160323T091352Z
UID:19921-1461778200-1461785400@www.suqgenova.it
SUMMARY:Incontro: Fabbricare il dialogo\, un progetto lungo un anno
DESCRIPTION:  \n  \nNell’ambito del progetto La Fabbrica del Dialogo con il Suq delle Culture – Milano  \nMUDEC – Museo delle Culture – Mercoledì 27 Aprile ore 17\,30 \nConferenza e dibattito pubblico sui temi del progetto La Fabbrica del Dialogo con il Suq delle Culture \nPrevisti interventi di studiosi e di curatori e protagonisti del progetto \nPer dettagli e per inviare commenti e spunti www.fabbricadeldialogo.it \nIngresso aperto a tutti \nScarica qui la locandina \n 
URL:https://www.suqgenova.it/archivio-evento/incontro-fabbricare-dialogo-un-progetto-lungo-un-anno-3/
CATEGORIES:Meeting,Suq delle Culture a Milano
ATTACH;FMTTYPE=image/png:https://www.suqgenova.it/wp-content/uploads/2016/03/ConferenzaMUDEC-Fabbrica-dialogo-_A5_LR-1-e1461343034495.png
END:VEVENT
BEGIN:VEVENT
DTSTART;TZID=UTC:20160427T173000
DTEND;TZID=UTC:20160427T193000
DTSTAMP:20260420T112516
CREATED:20160323T091352Z
LAST-MODIFIED:20160323T091352Z
UID:19375-1461778200-1461785400@www.suqgenova.it
SUMMARY:Incontro: Fabbricare il dialogo\, un progetto lungo un anno
DESCRIPTION:  \n  \nNell’ambito del progetto La Fabbrica del Dialogo con il Suq delle Culture – Milano  \nMUDEC – Museo delle Culture – Mercoledì 27 Aprile ore 17\,30 \nConferenza e dibattito pubblico sui temi del progetto La Fabbrica del Dialogo con il Suq delle Culture \nPrevisti interventi di studiosi e di curatori e protagonisti del progetto \nPer dettagli e per inviare commenti e spunti www.fabbricadeldialogo.it \nIngresso aperto a tutti \nScarica qui la locandina \n 
URL:https://www.suqgenova.it/archivio-evento/incontro-fabbricare-dialogo-un-progetto-lungo-un-anno-2/
CATEGORIES:Meeting,Suq delle Culture a Milano
ATTACH;FMTTYPE=image/png:https://www.suqgenova.it/wp-content/uploads/2016/03/ConferenzaMUDEC-Fabbrica-dialogo-_A5_LR-1-e1461343034495.png
END:VEVENT
BEGIN:VEVENT
DTSTART;TZID=UTC:20160427T173000
DTEND;TZID=UTC:20160427T193000
DTSTAMP:20260420T112516
CREATED:20160323T091352Z
LAST-MODIFIED:20160323T091352Z
UID:3014-1461778200-1461785400@www.suqgenova.it
SUMMARY:Incontro: Fabbricare il dialogo\, un progetto lungo un anno
DESCRIPTION:  \n  \nNell’ambito del progetto La Fabbrica del Dialogo con il Suq delle Culture – Milano  \nMUDEC – Museo delle Culture – Mercoledì 27 Aprile ore 17\,30 \nConferenza e dibattito pubblico sui temi del progetto La Fabbrica del Dialogo con il Suq delle Culture \nPrevisti interventi di studiosi e di curatori e protagonisti del progetto \nPer dettagli e per inviare commenti e spunti www.fabbricadeldialogo.it \nIngresso aperto a tutti \nScarica qui la locandina \n 
URL:https://www.suqgenova.it/archivio-evento/incontro-fabbricare-dialogo-un-progetto-lungo-un-anno/
CATEGORIES:Meeting,Suq delle Culture a Milano
ATTACH;FMTTYPE=image/png:https://www.suqgenova.it/wp-content/uploads/2016/03/ConferenzaMUDEC-Fabbrica-dialogo-_A5_LR-1-e1461343034495.png
END:VEVENT
END:VCALENDAR