BEGIN:VCALENDAR
VERSION:2.0
PRODID:-//Suq Genova - ECPv6.15.20//NONSGML v1.0//EN
CALSCALE:GREGORIAN
METHOD:PUBLISH
X-ORIGINAL-URL:https://www.suqgenova.it
X-WR-CALDESC:Eventi per Suq Genova
REFRESH-INTERVAL;VALUE=DURATION:PT1H
X-Robots-Tag:noindex
X-PUBLISHED-TTL:PT1H
BEGIN:VTIMEZONE
TZID:UTC
BEGIN:STANDARD
TZOFFSETFROM:+0000
TZOFFSETTO:+0000
TZNAME:UTC
DTSTART:20150101T000000
END:STANDARD
END:VTIMEZONE
BEGIN:VEVENT
DTSTART;TZID=UTC:20160620T210000
DTEND;TZID=UTC:20160620T220000
DTSTAMP:20260420T205517
CREATED:20160607T121546Z
LAST-MODIFIED:20160607T121546Z
UID:3674-1466456400-1466460000@www.suqgenova.it
SUMMARY:Giornata Mondiale del Rifugiato: Medici Senza Frontiere al Suq
DESCRIPTION:Un tema sensibile\, alcune voci autorevoli e il ricordo di Don Gallo e del suo appello a ”restare umani”. \nCon Loris De Filippi Presidente di Medici senza Frontiere Italia\, intervengono Alessandra Ballerini\, avvocato dei migranti\, Marco Aime\, autore del recente libro Contro il razzismo (Einaudi)\, Joumana Haddad scrittrice libanese. \nConduce Paola Caridi giornalista e scrittrice. \nIn collaborazione con Comunità San Benedetto al Porto.
URL:https://www.suqgenova.it/archivio-evento/3674/
CATEGORIES:Incontri,Suq Festival 2016
ATTACH;FMTTYPE=image/jpeg:https://www.suqgenova.it/wp-content/uploads/2015/06/Palco-interno_ph-Michele-DOttavio_1000x379.jpg
END:VEVENT
BEGIN:VEVENT
DTSTART;TZID=UTC:20160620T210000
DTEND;TZID=UTC:20160620T220000
DTSTAMP:20260420T205517
CREATED:20160607T121546Z
LAST-MODIFIED:20160607T121546Z
UID:19405-1466456400-1466460000@www.suqgenova.it
SUMMARY:Giornata Mondiale del Rifugiato: Medici Senza Frontiere al Suq
DESCRIPTION:Un tema sensibile\, alcune voci autorevoli e il ricordo di Don Gallo e del suo appello a ”restare umani”. \nCon Loris De Filippi Presidente di Medici senza Frontiere Italia\, intervengono Alessandra Ballerini\, avvocato dei migranti\, Marco Aime\, autore del recente libro Contro il razzismo (Einaudi)\, Joumana Haddad scrittrice libanese. \nConduce Paola Caridi giornalista e scrittrice. \nIn collaborazione con Comunità San Benedetto al Porto.
URL:https://www.suqgenova.it/archivio-evento/3674-2/
CATEGORIES:Incontri,Suq Festival 2016
ATTACH;FMTTYPE=image/jpeg:https://www.suqgenova.it/wp-content/uploads/2015/06/Palco-interno_ph-Michele-DOttavio_1000x379.jpg
END:VEVENT
BEGIN:VEVENT
DTSTART;TZID=UTC:20160620T210000
DTEND;TZID=UTC:20160620T220000
DTSTAMP:20260420T205517
CREATED:20160607T121546Z
LAST-MODIFIED:20160607T121546Z
UID:19951-1466456400-1466460000@www.suqgenova.it
SUMMARY:Giornata Mondiale del Rifugiato: Medici Senza Frontiere al Suq
DESCRIPTION:Un tema sensibile\, alcune voci autorevoli e il ricordo di Don Gallo e del suo appello a ”restare umani”. \nCon Loris De Filippi Presidente di Medici senza Frontiere Italia\, intervengono Alessandra Ballerini\, avvocato dei migranti\, Marco Aime\, autore del recente libro Contro il razzismo (Einaudi)\, Joumana Haddad scrittrice libanese. \nConduce Paola Caridi giornalista e scrittrice. \nIn collaborazione con Comunità San Benedetto al Porto.
URL:https://www.suqgenova.it/archivio-evento/3674-3/
CATEGORIES:Incontri,Suq Festival 2016
ATTACH;FMTTYPE=image/jpeg:https://www.suqgenova.it/wp-content/uploads/2015/06/Palco-interno_ph-Michele-DOttavio_1000x379.jpg
END:VEVENT
BEGIN:VEVENT
DTSTART;TZID=UTC:20160620T183000
DTEND;TZID=UTC:20160620T193000
DTSTAMP:20260420T205517
CREATED:20160609T090553Z
LAST-MODIFIED:20160609T090553Z
UID:19424-1466447400-1466451000@www.suqgenova.it
SUMMARY:Quando i profughi eravamo noi
DESCRIPTION:E’ il 1940\, 13.000 bambini italiani partono dalla Libia per una vacanza\, ritornano dai genitori dopo 7 anni. L’odissea di quei bambini nel racconto di un testimone Ernesto Susigan. Intervista di Tarcisio Mazzeo Caporedattore RAI TgR Liguria.
URL:https://www.suqgenova.it/archivio-evento/quando-i-profughi-eravamo-noi-2/
CATEGORIES:Incontri,Suq Festival 2016
ATTACH;FMTTYPE=image/jpeg:https://www.suqgenova.it/wp-content/uploads/2015/06/Palco-interno_ph-Michele-DOttavio_1000x379.jpg
END:VEVENT
BEGIN:VEVENT
DTSTART;TZID=UTC:20160620T183000
DTEND;TZID=UTC:20160620T193000
DTSTAMP:20260420T205517
CREATED:20160609T090553Z
LAST-MODIFIED:20160609T090553Z
UID:3673-1466447400-1466451000@www.suqgenova.it
SUMMARY:Quando i profughi eravamo noi
DESCRIPTION:E’ il 1940\, 13.000 bambini italiani partono dalla Libia per una vacanza\, ritornano dai genitori dopo 7 anni. L’odissea di quei bambini nel racconto di un testimone Ernesto Susigan. Intervista di Tarcisio Mazzeo Caporedattore RAI TgR Liguria.
URL:https://www.suqgenova.it/archivio-evento/quando-i-profughi-eravamo-noi/
CATEGORIES:Incontri,Suq Festival 2016
ATTACH;FMTTYPE=image/jpeg:https://www.suqgenova.it/wp-content/uploads/2015/06/Palco-interno_ph-Michele-DOttavio_1000x379.jpg
END:VEVENT
BEGIN:VEVENT
DTSTART;TZID=UTC:20160620T183000
DTEND;TZID=UTC:20160620T193000
DTSTAMP:20260420T205517
CREATED:20160609T090553Z
LAST-MODIFIED:20160609T090553Z
UID:19970-1466447400-1466451000@www.suqgenova.it
SUMMARY:Quando i profughi eravamo noi
DESCRIPTION:E’ il 1940\, 13.000 bambini italiani partono dalla Libia per una vacanza\, ritornano dai genitori dopo 7 anni. L’odissea di quei bambini nel racconto di un testimone Ernesto Susigan. Intervista di Tarcisio Mazzeo Caporedattore RAI TgR Liguria.
URL:https://www.suqgenova.it/archivio-evento/quando-i-profughi-eravamo-noi-3/
CATEGORIES:Incontri,Suq Festival 2016
ATTACH;FMTTYPE=image/jpeg:https://www.suqgenova.it/wp-content/uploads/2015/06/Palco-interno_ph-Michele-DOttavio_1000x379.jpg
END:VEVENT
BEGIN:VEVENT
DTSTART;TZID=UTC:20160620T170000
DTEND;TZID=UTC:20160620T180000
DTSTAMP:20260420T205517
CREATED:20160609T091245Z
LAST-MODIFIED:20160609T091245Z
UID:19423-1466442000-1466445600@www.suqgenova.it
SUMMARY:Un tè con Le Serre di San Nicola
DESCRIPTION:Far crescere le piante\, e l’accoglienza. L’importanza di condividere un progetto comune. Con Abdi\, Abraham\, Blessing\, Dominique\, Modou\, Noor e Ousman. In collaborazione con Consorzio Agorà
URL:https://www.suqgenova.it/archivio-evento/un-le-serre-san-nicola-2/
CATEGORIES:Incontri,Suq Festival 2016
ATTACH;FMTTYPE=image/jpeg:https://www.suqgenova.it/wp-content/uploads/2015/06/Palco-interno_ph-Michele-DOttavio_1000x379.jpg
END:VEVENT
BEGIN:VEVENT
DTSTART;TZID=UTC:20160620T170000
DTEND;TZID=UTC:20160620T180000
DTSTAMP:20260420T205517
CREATED:20160609T091245Z
LAST-MODIFIED:20160609T091245Z
UID:3672-1466442000-1466445600@www.suqgenova.it
SUMMARY:Un tè con Le Serre di San Nicola
DESCRIPTION:Far crescere le piante\, e l’accoglienza. L’importanza di condividere un progetto comune. Con Abdi\, Abraham\, Blessing\, Dominique\, Modou\, Noor e Ousman. In collaborazione con Consorzio Agorà
URL:https://www.suqgenova.it/archivio-evento/un-le-serre-san-nicola/
CATEGORIES:Incontri,Suq Festival 2016
ATTACH;FMTTYPE=image/jpeg:https://www.suqgenova.it/wp-content/uploads/2015/06/Palco-interno_ph-Michele-DOttavio_1000x379.jpg
END:VEVENT
BEGIN:VEVENT
DTSTART;TZID=UTC:20160620T170000
DTEND;TZID=UTC:20160620T180000
DTSTAMP:20260420T205517
CREATED:20160609T091245Z
LAST-MODIFIED:20160609T091245Z
UID:19969-1466442000-1466445600@www.suqgenova.it
SUMMARY:Un tè con Le Serre di San Nicola
DESCRIPTION:Far crescere le piante\, e l’accoglienza. L’importanza di condividere un progetto comune. Con Abdi\, Abraham\, Blessing\, Dominique\, Modou\, Noor e Ousman. In collaborazione con Consorzio Agorà
URL:https://www.suqgenova.it/archivio-evento/un-le-serre-san-nicola-3/
CATEGORIES:Incontri,Suq Festival 2016
ATTACH;FMTTYPE=image/jpeg:https://www.suqgenova.it/wp-content/uploads/2015/06/Palco-interno_ph-Michele-DOttavio_1000x379.jpg
END:VEVENT
BEGIN:VEVENT
DTSTART;TZID=UTC:20160619T200000
DTEND;TZID=UTC:20160619T210000
DTSTAMP:20260420T205517
CREATED:20160607T112123Z
LAST-MODIFIED:20160607T112123Z
UID:19949-1466366400-1466370000@www.suqgenova.it
SUMMARY:Draw not war
DESCRIPTION:Proiezione del film di animazione realizzato su musiche degli U2 e di Pearl Jam\, da studenti di zone di guerra: Israele e Palestina\, Belfast\, Serbia. \nIntervengono il regista Matteo Valenti e Francesco Berardini Presidente di Coop Liguria.
URL:https://www.suqgenova.it/archivio-evento/draw-not-war-2-3/
CATEGORIES:Incontri,Suq Festival 2016
ATTACH;FMTTYPE=image/jpeg:https://www.suqgenova.it/wp-content/uploads/2016/06/Draw-not-war-e1465305669403.jpg
END:VEVENT
BEGIN:VEVENT
DTSTART;TZID=UTC:20160619T200000
DTEND;TZID=UTC:20160619T210000
DTSTAMP:20260420T205517
CREATED:20160607T112123Z
LAST-MODIFIED:20160607T112123Z
UID:3668-1466366400-1466370000@www.suqgenova.it
SUMMARY:Draw not war
DESCRIPTION:Proiezione del film di animazione realizzato su musiche degli U2 e di Pearl Jam\, da studenti di zone di guerra: Israele e Palestina\, Belfast\, Serbia. \nIntervengono il regista Matteo Valenti e Francesco Berardini Presidente di Coop Liguria.
URL:https://www.suqgenova.it/archivio-evento/draw-not-war-2/
CATEGORIES:Incontri,Suq Festival 2016
ATTACH;FMTTYPE=image/jpeg:https://www.suqgenova.it/wp-content/uploads/2016/06/Draw-not-war-e1465305669403.jpg
END:VEVENT
BEGIN:VEVENT
DTSTART;TZID=UTC:20160619T200000
DTEND;TZID=UTC:20160619T210000
DTSTAMP:20260420T205517
CREATED:20160607T112123Z
LAST-MODIFIED:20160607T112123Z
UID:19403-1466366400-1466370000@www.suqgenova.it
SUMMARY:Draw not war
DESCRIPTION:Proiezione del film di animazione realizzato su musiche degli U2 e di Pearl Jam\, da studenti di zone di guerra: Israele e Palestina\, Belfast\, Serbia. \nIntervengono il regista Matteo Valenti e Francesco Berardini Presidente di Coop Liguria.
URL:https://www.suqgenova.it/archivio-evento/draw-not-war-2-2/
CATEGORIES:Incontri,Suq Festival 2016
ATTACH;FMTTYPE=image/jpeg:https://www.suqgenova.it/wp-content/uploads/2016/06/Draw-not-war-e1465305669403.jpg
END:VEVENT
BEGIN:VEVENT
DTSTART;TZID=UTC:20160619T180000
DTEND;TZID=UTC:20160619T190000
DTSTAMP:20260420T205517
CREATED:20160607T123532Z
LAST-MODIFIED:20160607T123532Z
UID:19948-1466359200-1466362800@www.suqgenova.it
SUMMARY:Giornata della Memoria\, l'impegno verso i giovani
DESCRIPTION:Incontro con Gilberto Salmoni Presidente ANED\, Miryam Kraus Vice Presidente Comunità Ebraica\, Giacomo Ronzitti Presidente ILSREC\, Sergio Rossetti Vice Presidente Consiglio Regionale-Assemblea legislativa della Liguria. \nConduce Donatella Alfonso La Repubblica. In collaborazione con ANED Associazione Nazionale Ex Deportati
URL:https://www.suqgenova.it/archivio-evento/la-giornata-della-memoria-limpegno-verso-giovani-3/
CATEGORIES:Incontri,Suq Festival 2016
ATTACH;FMTTYPE=image/jpeg:https://www.suqgenova.it/wp-content/uploads/2015/06/Palco-interno_ph-Michele-DOttavio_1000x379.jpg
END:VEVENT
BEGIN:VEVENT
DTSTART;TZID=UTC:20160619T180000
DTEND;TZID=UTC:20160619T190000
DTSTAMP:20260420T205517
CREATED:20160607T123532Z
LAST-MODIFIED:20160607T123532Z
UID:3665-1466359200-1466362800@www.suqgenova.it
SUMMARY:Giornata della Memoria\, l'impegno verso i giovani
DESCRIPTION:Incontro con Gilberto Salmoni Presidente ANED\, Miryam Kraus Vice Presidente Comunità Ebraica\, Giacomo Ronzitti Presidente ILSREC\, Sergio Rossetti Vice Presidente Consiglio Regionale-Assemblea legislativa della Liguria. \nConduce Donatella Alfonso La Repubblica. In collaborazione con ANED Associazione Nazionale Ex Deportati
URL:https://www.suqgenova.it/archivio-evento/la-giornata-della-memoria-limpegno-verso-giovani/
CATEGORIES:Incontri,Suq Festival 2016
ATTACH;FMTTYPE=image/jpeg:https://www.suqgenova.it/wp-content/uploads/2015/06/Palco-interno_ph-Michele-DOttavio_1000x379.jpg
END:VEVENT
BEGIN:VEVENT
DTSTART;TZID=UTC:20160619T180000
DTEND;TZID=UTC:20160619T190000
DTSTAMP:20260420T205517
CREATED:20160607T123532Z
LAST-MODIFIED:20160607T123532Z
UID:19402-1466359200-1466362800@www.suqgenova.it
SUMMARY:Giornata della Memoria\, l'impegno verso i giovani
DESCRIPTION:Incontro con Gilberto Salmoni Presidente ANED\, Miryam Kraus Vice Presidente Comunità Ebraica\, Giacomo Ronzitti Presidente ILSREC\, Sergio Rossetti Vice Presidente Consiglio Regionale-Assemblea legislativa della Liguria. \nConduce Donatella Alfonso La Repubblica. In collaborazione con ANED Associazione Nazionale Ex Deportati
URL:https://www.suqgenova.it/archivio-evento/la-giornata-della-memoria-limpegno-verso-giovani-2/
CATEGORIES:Incontri,Suq Festival 2016
ATTACH;FMTTYPE=image/jpeg:https://www.suqgenova.it/wp-content/uploads/2015/06/Palco-interno_ph-Michele-DOttavio_1000x379.jpg
END:VEVENT
BEGIN:VEVENT
DTSTART;TZID=UTC:20160619T160000
DTEND;TZID=UTC:20160619T170000
DTSTAMP:20260420T205517
CREATED:20160609T093737Z
LAST-MODIFIED:20160609T093737Z
UID:19965-1466352000-1466355600@www.suqgenova.it
SUMMARY:Annullo filatelico al Suq
DESCRIPTION:Dopo l’annullo\, si potrà acquistare la cartolina con il timbro speciale Suq e il francobollo di Tina Anselmi\, per ricordare il 70° anniversario del voto alle donne. In collaborazione con Poste Italiane.
URL:https://www.suqgenova.it/archivio-evento/annullo-filatelico-al-suq-3/
CATEGORIES:Incontri,Suq Festival 2016
ATTACH;FMTTYPE=image/png:https://www.suqgenova.it/wp-content/uploads/2016/06/tina.png
END:VEVENT
BEGIN:VEVENT
DTSTART;TZID=UTC:20160619T160000
DTEND;TZID=UTC:20160619T170000
DTSTAMP:20260420T205517
CREATED:20160609T093737Z
LAST-MODIFIED:20160609T093737Z
UID:19419-1466352000-1466355600@www.suqgenova.it
SUMMARY:Annullo filatelico al Suq
DESCRIPTION:Dopo l’annullo\, si potrà acquistare la cartolina con il timbro speciale Suq e il francobollo di Tina Anselmi\, per ricordare il 70° anniversario del voto alle donne. In collaborazione con Poste Italiane.
URL:https://www.suqgenova.it/archivio-evento/annullo-filatelico-al-suq-2/
CATEGORIES:Incontri,Suq Festival 2016
ATTACH;FMTTYPE=image/png:https://www.suqgenova.it/wp-content/uploads/2016/06/tina.png
END:VEVENT
BEGIN:VEVENT
DTSTART;TZID=UTC:20160619T160000
DTEND;TZID=UTC:20160619T170000
DTSTAMP:20260420T205517
CREATED:20160609T093737Z
LAST-MODIFIED:20160609T093737Z
UID:3662-1466352000-1466355600@www.suqgenova.it
SUMMARY:Annullo filatelico al Suq
DESCRIPTION:Dopo l’annullo\, si potrà acquistare la cartolina con il timbro speciale Suq e il francobollo di Tina Anselmi\, per ricordare il 70° anniversario del voto alle donne. In collaborazione con Poste Italiane.
URL:https://www.suqgenova.it/archivio-evento/annullo-filatelico-al-suq/
CATEGORIES:Incontri,Suq Festival 2016
ATTACH;FMTTYPE=image/png:https://www.suqgenova.it/wp-content/uploads/2016/06/tina.png
END:VEVENT
BEGIN:VEVENT
DTSTART;TZID=UTC:20160619T140000
DTEND;TZID=UTC:20160619T150000
DTSTAMP:20260420T205517
CREATED:20160609T094106Z
LAST-MODIFIED:20160609T094106Z
UID:19444-1466344800-1466348400@www.suqgenova.it
SUMMARY:Rete Tematica Migranti si presenta
DESCRIPTION:Incontri e workshop a cura delle Associazioni di volontariato e di terzo settore che si occupano dei rifugiati sul territorio genovese. Buone prassi e percorsi comuni. A cura della rete tematica promossa da Celivo. \nCerimonia del caffè a cura di Associazione di Solidarietà Italo-Etiope-Eritrea
URL:https://www.suqgenova.it/archivio-evento/rete-tematica-migranti-si-presenta-2/
CATEGORIES:Incontri,Suq Festival 2016
ATTACH;FMTTYPE=image/jpeg:https://www.suqgenova.it/wp-content/uploads/2015/06/Palco-interno_ph-Michele-DOttavio_1000x379.jpg
END:VEVENT
BEGIN:VEVENT
DTSTART;TZID=UTC:20160619T140000
DTEND;TZID=UTC:20160619T150000
DTSTAMP:20260420T205517
CREATED:20160609T094106Z
LAST-MODIFIED:20160609T094106Z
UID:3659-1466344800-1466348400@www.suqgenova.it
SUMMARY:Rete Tematica Migranti si presenta
DESCRIPTION:Incontri e workshop a cura delle Associazioni di volontariato e di terzo settore che si occupano dei rifugiati sul territorio genovese. Buone prassi e percorsi comuni. A cura della rete tematica promossa da Celivo. \nCerimonia del caffè a cura di Associazione di Solidarietà Italo-Etiope-Eritrea
URL:https://www.suqgenova.it/archivio-evento/rete-tematica-migranti-si-presenta/
CATEGORIES:Incontri,Suq Festival 2016
ATTACH;FMTTYPE=image/jpeg:https://www.suqgenova.it/wp-content/uploads/2015/06/Palco-interno_ph-Michele-DOttavio_1000x379.jpg
END:VEVENT
BEGIN:VEVENT
DTSTART;TZID=UTC:20160619T140000
DTEND;TZID=UTC:20160619T150000
DTSTAMP:20260420T205517
CREATED:20160609T094106Z
LAST-MODIFIED:20160609T094106Z
UID:19990-1466344800-1466348400@www.suqgenova.it
SUMMARY:Rete Tematica Migranti si presenta
DESCRIPTION:Incontri e workshop a cura delle Associazioni di volontariato e di terzo settore che si occupano dei rifugiati sul territorio genovese. Buone prassi e percorsi comuni. A cura della rete tematica promossa da Celivo. \nCerimonia del caffè a cura di Associazione di Solidarietà Italo-Etiope-Eritrea
URL:https://www.suqgenova.it/archivio-evento/rete-tematica-migranti-si-presenta-3/
CATEGORIES:Incontri,Suq Festival 2016
ATTACH;FMTTYPE=image/jpeg:https://www.suqgenova.it/wp-content/uploads/2015/06/Palco-interno_ph-Michele-DOttavio_1000x379.jpg
END:VEVENT
BEGIN:VEVENT
DTSTART;TZID=UTC:20160618T213000
DTEND;TZID=UTC:20160618T220000
DTSTAMP:20260420T205517
CREATED:20160609T094252Z
LAST-MODIFIED:20160609T094252Z
UID:3657-1466285400-1466287200@www.suqgenova.it
SUMMARY:Saluti del Console della Tunisia
DESCRIPTION:Saluto del Console della Tunisia a Genova Nasr Ben Soltana.
URL:https://www.suqgenova.it/archivio-evento/saluti-del-console-della-tunisia/
CATEGORIES:Incontri,Suq Festival 2016
ATTACH;FMTTYPE=image/jpeg:https://www.suqgenova.it/wp-content/uploads/2015/06/Palco-interno_ph-Michele-DOttavio_1000x379.jpg
END:VEVENT
BEGIN:VEVENT
DTSTART;TZID=UTC:20160618T213000
DTEND;TZID=UTC:20160618T220000
DTSTAMP:20260420T205517
CREATED:20160609T094252Z
LAST-MODIFIED:20160609T094252Z
UID:19443-1466285400-1466287200@www.suqgenova.it
SUMMARY:Saluti del Console della Tunisia
DESCRIPTION:Saluto del Console della Tunisia a Genova Nasr Ben Soltana.
URL:https://www.suqgenova.it/archivio-evento/saluti-del-console-della-tunisia-2/
CATEGORIES:Incontri,Suq Festival 2016
ATTACH;FMTTYPE=image/jpeg:https://www.suqgenova.it/wp-content/uploads/2015/06/Palco-interno_ph-Michele-DOttavio_1000x379.jpg
END:VEVENT
BEGIN:VEVENT
DTSTART;TZID=UTC:20160618T213000
DTEND;TZID=UTC:20160618T220000
DTSTAMP:20260420T205517
CREATED:20160609T094252Z
LAST-MODIFIED:20160609T094252Z
UID:19989-1466285400-1466287200@www.suqgenova.it
SUMMARY:Saluti del Console della Tunisia
DESCRIPTION:Saluto del Console della Tunisia a Genova Nasr Ben Soltana.
URL:https://www.suqgenova.it/archivio-evento/saluti-del-console-della-tunisia-3/
CATEGORIES:Incontri,Suq Festival 2016
ATTACH;FMTTYPE=image/jpeg:https://www.suqgenova.it/wp-content/uploads/2015/06/Palco-interno_ph-Michele-DOttavio_1000x379.jpg
END:VEVENT
BEGIN:VEVENT
DTSTART;TZID=UTC:20160618T190000
DTEND;TZID=UTC:20160618T200000
DTSTAMP:20260420T205517
CREATED:20160607T125505Z
LAST-MODIFIED:20160607T125505Z
UID:3656-1466276400-1466280000@www.suqgenova.it
SUMMARY:Educare al consumo sostenibile
DESCRIPTION:Con Rosanna Massarenti Direttore di AltroConsumo e Andrea Di Stefano\, Responsabile Progetti Speciali Novamont. \nConduce Laura Guglielmi Direttora di Mentelocale.
URL:https://www.suqgenova.it/archivio-evento/educare-al-consumo-sostenibile/
CATEGORIES:Incontri,Suq Festival 2016
ATTACH;FMTTYPE=image/jpeg:https://www.suqgenova.it/wp-content/uploads/2015/06/Palco-interno_ph-Michele-DOttavio_1000x379.jpg
END:VEVENT
BEGIN:VEVENT
DTSTART;TZID=UTC:20160618T190000
DTEND;TZID=UTC:20160618T200000
DTSTAMP:20260420T205517
CREATED:20160607T125505Z
LAST-MODIFIED:20160607T125505Z
UID:19400-1466276400-1466280000@www.suqgenova.it
SUMMARY:Educare al consumo sostenibile
DESCRIPTION:Con Rosanna Massarenti Direttore di AltroConsumo e Andrea Di Stefano\, Responsabile Progetti Speciali Novamont. \nConduce Laura Guglielmi Direttora di Mentelocale.
URL:https://www.suqgenova.it/archivio-evento/educare-al-consumo-sostenibile-2/
CATEGORIES:Incontri,Suq Festival 2016
ATTACH;FMTTYPE=image/jpeg:https://www.suqgenova.it/wp-content/uploads/2015/06/Palco-interno_ph-Michele-DOttavio_1000x379.jpg
END:VEVENT
BEGIN:VEVENT
DTSTART;TZID=UTC:20160618T190000
DTEND;TZID=UTC:20160618T200000
DTSTAMP:20260420T205517
CREATED:20160607T125505Z
LAST-MODIFIED:20160607T125505Z
UID:19946-1466276400-1466280000@www.suqgenova.it
SUMMARY:Educare al consumo sostenibile
DESCRIPTION:Con Rosanna Massarenti Direttore di AltroConsumo e Andrea Di Stefano\, Responsabile Progetti Speciali Novamont. \nConduce Laura Guglielmi Direttora di Mentelocale.
URL:https://www.suqgenova.it/archivio-evento/educare-al-consumo-sostenibile-3/
CATEGORIES:Incontri,Suq Festival 2016
ATTACH;FMTTYPE=image/jpeg:https://www.suqgenova.it/wp-content/uploads/2015/06/Palco-interno_ph-Michele-DOttavio_1000x379.jpg
END:VEVENT
BEGIN:VEVENT
DTSTART;TZID=UTC:20160617T183000
DTEND;TZID=UTC:20160617T200000
DTSTAMP:20260420T205517
CREATED:20160607T105210Z
LAST-MODIFIED:20160607T105210Z
UID:19398-1466188200-1466193600@www.suqgenova.it
SUMMARY:Mimmo Cuticchio al Suq
DESCRIPTION:L’arte tramandata di generazione in generazione\, i cunti dei migranti\, il ricordo di Emanuele Luzzati. Un  maestro del teatro in dialogo con Silvana Zanovello de Il Secolo XIX.
URL:https://www.suqgenova.it/archivio-evento/mimmo-cuticchio-al-suq-2/
CATEGORIES:Incontri,Suq Festival 2016
ATTACH;FMTTYPE=image/jpeg:https://www.suqgenova.it/wp-content/uploads/2016/06/mimmo_cuticchio_orlando-e1465303878579.jpg
END:VEVENT
BEGIN:VEVENT
DTSTART;TZID=UTC:20160617T183000
DTEND;TZID=UTC:20160617T200000
DTSTAMP:20260420T205517
CREATED:20160607T105210Z
LAST-MODIFIED:20160607T105210Z
UID:19944-1466188200-1466193600@www.suqgenova.it
SUMMARY:Mimmo Cuticchio al Suq
DESCRIPTION:L’arte tramandata di generazione in generazione\, i cunti dei migranti\, il ricordo di Emanuele Luzzati. Un  maestro del teatro in dialogo con Silvana Zanovello de Il Secolo XIX.
URL:https://www.suqgenova.it/archivio-evento/mimmo-cuticchio-al-suq-3/
CATEGORIES:Incontri,Suq Festival 2016
ATTACH;FMTTYPE=image/jpeg:https://www.suqgenova.it/wp-content/uploads/2016/06/mimmo_cuticchio_orlando-e1465303878579.jpg
END:VEVENT
BEGIN:VEVENT
DTSTART;TZID=UTC:20160617T183000
DTEND;TZID=UTC:20160617T200000
DTSTAMP:20260420T205517
CREATED:20160607T105210Z
LAST-MODIFIED:20160607T105210Z
UID:3649-1466188200-1466193600@www.suqgenova.it
SUMMARY:Mimmo Cuticchio al Suq
DESCRIPTION:L’arte tramandata di generazione in generazione\, i cunti dei migranti\, il ricordo di Emanuele Luzzati. Un  maestro del teatro in dialogo con Silvana Zanovello de Il Secolo XIX.
URL:https://www.suqgenova.it/archivio-evento/mimmo-cuticchio-al-suq/
CATEGORIES:Incontri,Suq Festival 2016
ATTACH;FMTTYPE=image/jpeg:https://www.suqgenova.it/wp-content/uploads/2016/06/mimmo_cuticchio_orlando-e1465303878579.jpg
END:VEVENT
END:VCALENDAR