BEGIN:VCALENDAR
VERSION:2.0
PRODID:-//Suq Genova - ECPv6.15.20//NONSGML v1.0//EN
CALSCALE:GREGORIAN
METHOD:PUBLISH
X-ORIGINAL-URL:https://www.suqgenova.it
X-WR-CALDESC:Eventi per Suq Genova
REFRESH-INTERVAL;VALUE=DURATION:PT1H
X-Robots-Tag:noindex
X-PUBLISHED-TTL:PT1H
BEGIN:VTIMEZONE
TZID:UTC
BEGIN:STANDARD
TZOFFSETFROM:+0000
TZOFFSETTO:+0000
TZNAME:UTC
DTSTART:20150101T000000
END:STANDARD
END:VTIMEZONE
BEGIN:VEVENT
DTSTART;TZID=UTC:20160624T200000
DTEND;TZID=UTC:20160624T210000
DTSTAMP:20260420T174949
CREATED:20160608T100226Z
LAST-MODIFIED:20160608T100226Z
UID:19436-1466798400-1466802000@www.suqgenova.it
SUMMARY:Amnesty International al Suq
DESCRIPTION:La campagna Verità per Giulio Regeni\, ne parliamo con Paolo Bensi di Amnesty International.
URL:https://www.suqgenova.it/archivio-evento/amnesty-international-al-suq-2/
CATEGORIES:Incontri,Suq Festival 2016
ATTACH;FMTTYPE=image/png:https://www.suqgenova.it/wp-content/uploads/2016/06/amnesty.png
END:VEVENT
BEGIN:VEVENT
DTSTART;TZID=UTC:20160624T200000
DTEND;TZID=UTC:20160624T210000
DTSTAMP:20260420T174949
CREATED:20160608T100226Z
LAST-MODIFIED:20160608T100226Z
UID:19982-1466798400-1466802000@www.suqgenova.it
SUMMARY:Amnesty International al Suq
DESCRIPTION:La campagna Verità per Giulio Regeni\, ne parliamo con Paolo Bensi di Amnesty International.
URL:https://www.suqgenova.it/archivio-evento/amnesty-international-al-suq-3/
CATEGORIES:Incontri,Suq Festival 2016
ATTACH;FMTTYPE=image/png:https://www.suqgenova.it/wp-content/uploads/2016/06/amnesty.png
END:VEVENT
BEGIN:VEVENT
DTSTART;TZID=UTC:20160624T200000
DTEND;TZID=UTC:20160624T210000
DTSTAMP:20260420T174949
CREATED:20160608T100226Z
LAST-MODIFIED:20160608T100226Z
UID:3699-1466798400-1466802000@www.suqgenova.it
SUMMARY:Amnesty International al Suq
DESCRIPTION:La campagna Verità per Giulio Regeni\, ne parliamo con Paolo Bensi di Amnesty International.
URL:https://www.suqgenova.it/archivio-evento/amnesty-international-al-suq/
CATEGORIES:Incontri,Suq Festival 2016
ATTACH;FMTTYPE=image/png:https://www.suqgenova.it/wp-content/uploads/2016/06/amnesty.png
END:VEVENT
BEGIN:VEVENT
DTSTART;TZID=UTC:20160624T183000
DTEND;TZID=UTC:20160624T193000
DTSTAMP:20260420T174949
CREATED:20160607T105749Z
LAST-MODIFIED:20160607T105749Z
UID:19958-1466793000-1466796600@www.suqgenova.it
SUMMARY:Goffredo Fofi al Suq
DESCRIPTION:Le varie gioventù: i giovani di ieri\, quelli di oggi\, gli adulti che verranno; un grande maestro racconta. \nIn dialogo con Giacomo D’Alessandro. \nL’incontro è dedicato a Giulio Regeni.
URL:https://www.suqgenova.it/archivio-evento/goffredo-fofi-al-suq-3/
CATEGORIES:Incontri,Suq Festival 2016
ATTACH;FMTTYPE=image/jpeg:https://www.suqgenova.it/wp-content/uploads/2016/06/fofi-e1465304256382.jpg
END:VEVENT
BEGIN:VEVENT
DTSTART;TZID=UTC:20160624T183000
DTEND;TZID=UTC:20160624T193000
DTSTAMP:20260420T174949
CREATED:20160607T105749Z
LAST-MODIFIED:20160607T105749Z
UID:19412-1466793000-1466796600@www.suqgenova.it
SUMMARY:Goffredo Fofi al Suq
DESCRIPTION:Le varie gioventù: i giovani di ieri\, quelli di oggi\, gli adulti che verranno; un grande maestro racconta. \nIn dialogo con Giacomo D’Alessandro. \nL’incontro è dedicato a Giulio Regeni.
URL:https://www.suqgenova.it/archivio-evento/goffredo-fofi-al-suq-2/
CATEGORIES:Incontri,Suq Festival 2016
ATTACH;FMTTYPE=image/jpeg:https://www.suqgenova.it/wp-content/uploads/2016/06/fofi-e1465304256382.jpg
END:VEVENT
BEGIN:VEVENT
DTSTART;TZID=UTC:20160624T183000
DTEND;TZID=UTC:20160624T193000
DTSTAMP:20260420T174949
CREATED:20160607T105749Z
LAST-MODIFIED:20160607T105749Z
UID:3698-1466793000-1466796600@www.suqgenova.it
SUMMARY:Goffredo Fofi al Suq
DESCRIPTION:Le varie gioventù: i giovani di ieri\, quelli di oggi\, gli adulti che verranno; un grande maestro racconta. \nIn dialogo con Giacomo D’Alessandro. \nL’incontro è dedicato a Giulio Regeni.
URL:https://www.suqgenova.it/archivio-evento/goffredo-fofi-al-suq/
CATEGORIES:Incontri,Suq Festival 2016
ATTACH;FMTTYPE=image/jpeg:https://www.suqgenova.it/wp-content/uploads/2016/06/fofi-e1465304256382.jpg
END:VEVENT
BEGIN:VEVENT
DTSTART;TZID=UTC:20160624T170000
DTEND;TZID=UTC:20160624T180000
DTSTAMP:20260420T174949
CREATED:20160608T100439Z
LAST-MODIFIED:20160608T100439Z
UID:19435-1466787600-1466791200@www.suqgenova.it
SUMMARY:Un tè con sportello legale con Arcigay
DESCRIPTION:Il rifugiato omosessuale nella crisi dei migranti. Intervengono Damiano Fiorato e Daniele Ferrari di Arcigay Genova.
URL:https://www.suqgenova.it/archivio-evento/un-sportello-legale-arcigay-2/
CATEGORIES:Incontri,Suq Festival 2016
ATTACH;FMTTYPE=image/png:https://www.suqgenova.it/wp-content/uploads/2016/06/incontri.png
END:VEVENT
BEGIN:VEVENT
DTSTART;TZID=UTC:20160624T170000
DTEND;TZID=UTC:20160624T180000
DTSTAMP:20260420T174949
CREATED:20160608T100439Z
LAST-MODIFIED:20160608T100439Z
UID:19981-1466787600-1466791200@www.suqgenova.it
SUMMARY:Un tè con sportello legale con Arcigay
DESCRIPTION:Il rifugiato omosessuale nella crisi dei migranti. Intervengono Damiano Fiorato e Daniele Ferrari di Arcigay Genova.
URL:https://www.suqgenova.it/archivio-evento/un-sportello-legale-arcigay-3/
CATEGORIES:Incontri,Suq Festival 2016
ATTACH;FMTTYPE=image/png:https://www.suqgenova.it/wp-content/uploads/2016/06/incontri.png
END:VEVENT
BEGIN:VEVENT
DTSTART;TZID=UTC:20160624T170000
DTEND;TZID=UTC:20160624T180000
DTSTAMP:20260420T174949
CREATED:20160608T100439Z
LAST-MODIFIED:20160608T100439Z
UID:3697-1466787600-1466791200@www.suqgenova.it
SUMMARY:Un tè con sportello legale con Arcigay
DESCRIPTION:Il rifugiato omosessuale nella crisi dei migranti. Intervengono Damiano Fiorato e Daniele Ferrari di Arcigay Genova.
URL:https://www.suqgenova.it/archivio-evento/un-sportello-legale-arcigay/
CATEGORIES:Incontri,Suq Festival 2016
ATTACH;FMTTYPE=image/png:https://www.suqgenova.it/wp-content/uploads/2016/06/incontri.png
END:VEVENT
BEGIN:VEVENT
DTSTART;TZID=UTC:20160623T190000
DTEND;TZID=UTC:20160623T200000
DTSTAMP:20260420T174949
CREATED:20160608T104612Z
LAST-MODIFIED:20160608T104612Z
UID:3693-1466708400-1466712000@www.suqgenova.it
SUMMARY:L'innovazione incontra la tradizione
DESCRIPTION:Le Camere di Commercio aiutano le imprese a sbarcare sul web e i giovani a entrare in azienda. \nNe parlano  Anna Galleano\, Serena Pagliosa e Matteo Sivori.
URL:https://www.suqgenova.it/archivio-evento/linnovazione-incontra-la-tradizione/
CATEGORIES:Incontri,Suq Festival 2016
ATTACH;FMTTYPE=image/png:https://www.suqgenova.it/wp-content/uploads/2016/06/incontri.png
END:VEVENT
BEGIN:VEVENT
DTSTART;TZID=UTC:20160623T190000
DTEND;TZID=UTC:20160623T200000
DTSTAMP:20260420T174949
CREATED:20160608T104612Z
LAST-MODIFIED:20160608T104612Z
UID:19432-1466708400-1466712000@www.suqgenova.it
SUMMARY:L'innovazione incontra la tradizione
DESCRIPTION:Le Camere di Commercio aiutano le imprese a sbarcare sul web e i giovani a entrare in azienda. \nNe parlano  Anna Galleano\, Serena Pagliosa e Matteo Sivori.
URL:https://www.suqgenova.it/archivio-evento/linnovazione-incontra-la-tradizione-2/
CATEGORIES:Incontri,Suq Festival 2016
ATTACH;FMTTYPE=image/png:https://www.suqgenova.it/wp-content/uploads/2016/06/incontri.png
END:VEVENT
BEGIN:VEVENT
DTSTART;TZID=UTC:20160623T190000
DTEND;TZID=UTC:20160623T200000
DTSTAMP:20260420T174949
CREATED:20160608T104612Z
LAST-MODIFIED:20160608T104612Z
UID:19978-1466708400-1466712000@www.suqgenova.it
SUMMARY:L'innovazione incontra la tradizione
DESCRIPTION:Le Camere di Commercio aiutano le imprese a sbarcare sul web e i giovani a entrare in azienda. \nNe parlano  Anna Galleano\, Serena Pagliosa e Matteo Sivori.
URL:https://www.suqgenova.it/archivio-evento/linnovazione-incontra-la-tradizione-3/
CATEGORIES:Incontri,Suq Festival 2016
ATTACH;FMTTYPE=image/png:https://www.suqgenova.it/wp-content/uploads/2016/06/incontri.png
END:VEVENT
BEGIN:VEVENT
DTSTART;TZID=UTC:20160623T170000
DTEND;TZID=UTC:20160623T180000
DTSTAMP:20260420T174949
CREATED:20160608T105655Z
LAST-MODIFIED:20160608T105655Z
UID:19431-1466701200-1466704800@www.suqgenova.it
SUMMARY:Un tè con Emergency
DESCRIPTION:Le piante insieme alle persone migrano attraverso le frontiere. A cura di Mizio Ferraris.
URL:https://www.suqgenova.it/archivio-evento/un-te-con-emergency-2/
CATEGORIES:Incontri,Suq Festival 2016
ATTACH;FMTTYPE=image/png:https://www.suqgenova.it/wp-content/uploads/2016/06/incontri.png
END:VEVENT
BEGIN:VEVENT
DTSTART;TZID=UTC:20160623T170000
DTEND;TZID=UTC:20160623T180000
DTSTAMP:20260420T174949
CREATED:20160608T105655Z
LAST-MODIFIED:20160608T105655Z
UID:3690-1466701200-1466704800@www.suqgenova.it
SUMMARY:Un tè con Emergency
DESCRIPTION:Le piante insieme alle persone migrano attraverso le frontiere. A cura di Mizio Ferraris.
URL:https://www.suqgenova.it/archivio-evento/un-te-con-emergency/
CATEGORIES:Incontri,Suq Festival 2016
ATTACH;FMTTYPE=image/png:https://www.suqgenova.it/wp-content/uploads/2016/06/incontri.png
END:VEVENT
BEGIN:VEVENT
DTSTART;TZID=UTC:20160623T170000
DTEND;TZID=UTC:20160623T180000
DTSTAMP:20260420T174949
CREATED:20160608T105655Z
LAST-MODIFIED:20160608T105655Z
UID:19977-1466701200-1466704800@www.suqgenova.it
SUMMARY:Un tè con Emergency
DESCRIPTION:Le piante insieme alle persone migrano attraverso le frontiere. A cura di Mizio Ferraris.
URL:https://www.suqgenova.it/archivio-evento/un-te-con-emergency-3/
CATEGORIES:Incontri,Suq Festival 2016
ATTACH;FMTTYPE=image/png:https://www.suqgenova.it/wp-content/uploads/2016/06/incontri.png
END:VEVENT
BEGIN:VEVENT
DTSTART;TZID=UTC:20160622T170000
DTEND;TZID=UTC:20160622T170000
DTSTAMP:20260420T174949
CREATED:20160609T075215Z
LAST-MODIFIED:20160609T075215Z
UID:19429-1466614800-1466614800@www.suqgenova.it
SUMMARY:Un tè con Officina Letteraria
DESCRIPTION:Storie nella tenda: laboratorio di narrazione aperto a tutti. Importante portare con sé una storia famigliare\, un racconto di viaggio\, un incontro\, un sogno…
URL:https://www.suqgenova.it/archivio-evento/un-officina-letteraria-2/
CATEGORIES:Incontri,Laboratori,Suq Festival 2016
ATTACH;FMTTYPE=image/png:https://www.suqgenova.it/wp-content/uploads/2016/06/incontri.png
END:VEVENT
BEGIN:VEVENT
DTSTART;TZID=UTC:20160622T170000
DTEND;TZID=UTC:20160622T170000
DTSTAMP:20260420T174949
CREATED:20160609T075215Z
LAST-MODIFIED:20160609T075215Z
UID:19975-1466614800-1466614800@www.suqgenova.it
SUMMARY:Un tè con Officina Letteraria
DESCRIPTION:Storie nella tenda: laboratorio di narrazione aperto a tutti. Importante portare con sé una storia famigliare\, un racconto di viaggio\, un incontro\, un sogno…
URL:https://www.suqgenova.it/archivio-evento/un-officina-letteraria-3/
CATEGORIES:Incontri,Laboratori,Suq Festival 2016
ATTACH;FMTTYPE=image/png:https://www.suqgenova.it/wp-content/uploads/2016/06/incontri.png
END:VEVENT
BEGIN:VEVENT
DTSTART;TZID=UTC:20160622T170000
DTEND;TZID=UTC:20160622T170000
DTSTAMP:20260420T174949
CREATED:20160609T075215Z
LAST-MODIFIED:20160609T075215Z
UID:3685-1466614800-1466614800@www.suqgenova.it
SUMMARY:Un tè con Officina Letteraria
DESCRIPTION:Storie nella tenda: laboratorio di narrazione aperto a tutti. Importante portare con sé una storia famigliare\, un racconto di viaggio\, un incontro\, un sogno…
URL:https://www.suqgenova.it/archivio-evento/un-officina-letteraria/
CATEGORIES:Incontri,Laboratori,Suq Festival 2016
ATTACH;FMTTYPE=image/png:https://www.suqgenova.it/wp-content/uploads/2016/06/incontri.png
END:VEVENT
BEGIN:VEVENT
DTSTART;TZID=UTC:20160621T210000
DTEND;TZID=UTC:20160621T220000
DTSTAMP:20260420T174949
CREATED:20160609T075552Z
LAST-MODIFIED:20160609T075552Z
UID:19973-1466542800-1466546400@www.suqgenova.it
SUMMARY:Ecuador e I Provenzali al Suq per i terremotati
DESCRIPTION:Saluti del Console dell’Ecuador a Genova Narcisa Soria Valencia. \nPresentazione dell’iniziativa I Provenzali e Suq per i terremotati dell’Ecuador. Interviene Roberta Testa.
URL:https://www.suqgenova.it/archivio-evento/ecuador-provenzali-al-suq-3/
CATEGORIES:Incontri,Suq Festival 2016
ATTACH;FMTTYPE=image/png:https://www.suqgenova.it/wp-content/uploads/2016/06/incontri.png
END:VEVENT
BEGIN:VEVENT
DTSTART;TZID=UTC:20160621T210000
DTEND;TZID=UTC:20160621T220000
DTSTAMP:20260420T174949
CREATED:20160609T075552Z
LAST-MODIFIED:20160609T075552Z
UID:19427-1466542800-1466546400@www.suqgenova.it
SUMMARY:Ecuador e I Provenzali al Suq per i terremotati
DESCRIPTION:Saluti del Console dell’Ecuador a Genova Narcisa Soria Valencia. \nPresentazione dell’iniziativa I Provenzali e Suq per i terremotati dell’Ecuador. Interviene Roberta Testa.
URL:https://www.suqgenova.it/archivio-evento/ecuador-provenzali-al-suq-2/
CATEGORIES:Incontri,Suq Festival 2016
ATTACH;FMTTYPE=image/png:https://www.suqgenova.it/wp-content/uploads/2016/06/incontri.png
END:VEVENT
BEGIN:VEVENT
DTSTART;TZID=UTC:20160621T210000
DTEND;TZID=UTC:20160621T220000
DTSTAMP:20260420T174949
CREATED:20160609T075552Z
LAST-MODIFIED:20160609T075552Z
UID:3681-1466542800-1466546400@www.suqgenova.it
SUMMARY:Ecuador e I Provenzali al Suq per i terremotati
DESCRIPTION:Saluti del Console dell’Ecuador a Genova Narcisa Soria Valencia. \nPresentazione dell’iniziativa I Provenzali e Suq per i terremotati dell’Ecuador. Interviene Roberta Testa.
URL:https://www.suqgenova.it/archivio-evento/ecuador-provenzali-al-suq/
CATEGORIES:Incontri,Suq Festival 2016
ATTACH;FMTTYPE=image/png:https://www.suqgenova.it/wp-content/uploads/2016/06/incontri.png
END:VEVENT
BEGIN:VEVENT
DTSTART;TZID=UTC:20160621T170000
DTEND;TZID=UTC:20160621T180000
DTSTAMP:20260420T174949
CREATED:20160607T122252Z
LAST-MODIFIED:20160607T122252Z
UID:19406-1466528400-1466532000@www.suqgenova.it
SUMMARY:Un tè con Algebar\, Joumana Haddad e Paola Caridi
DESCRIPTION:Le primavere arabe\, l’emancipazione femminile\, gli sguardi di Joumana Haddad e Paola Caridi a confronto con l’Associazione Algebar. \nConducono Renato Carpi e Carlotta Stegagno.
URL:https://www.suqgenova.it/archivio-evento/un-te-con-algebar-2/
CATEGORIES:Incontri,Suq Festival 2016
ATTACH;FMTTYPE=image/jpeg:https://www.suqgenova.it/wp-content/uploads/2015/06/Piazza-delle-Feste_ph-Michele-DOttavio_1000x379.jpg
END:VEVENT
BEGIN:VEVENT
DTSTART;TZID=UTC:20160621T170000
DTEND;TZID=UTC:20160621T180000
DTSTAMP:20260420T174949
CREATED:20160607T122252Z
LAST-MODIFIED:20160607T122252Z
UID:3679-1466528400-1466532000@www.suqgenova.it
SUMMARY:Un tè con Algebar\, Joumana Haddad e Paola Caridi
DESCRIPTION:Le primavere arabe\, l’emancipazione femminile\, gli sguardi di Joumana Haddad e Paola Caridi a confronto con l’Associazione Algebar. \nConducono Renato Carpi e Carlotta Stegagno.
URL:https://www.suqgenova.it/archivio-evento/un-te-con-algebar/
CATEGORIES:Incontri,Suq Festival 2016
ATTACH;FMTTYPE=image/jpeg:https://www.suqgenova.it/wp-content/uploads/2015/06/Piazza-delle-Feste_ph-Michele-DOttavio_1000x379.jpg
END:VEVENT
BEGIN:VEVENT
DTSTART;TZID=UTC:20160621T170000
DTEND;TZID=UTC:20160621T180000
DTSTAMP:20260420T174949
CREATED:20160607T122252Z
LAST-MODIFIED:20160607T122252Z
UID:19952-1466528400-1466532000@www.suqgenova.it
SUMMARY:Un tè con Algebar\, Joumana Haddad e Paola Caridi
DESCRIPTION:Le primavere arabe\, l’emancipazione femminile\, gli sguardi di Joumana Haddad e Paola Caridi a confronto con l’Associazione Algebar. \nConducono Renato Carpi e Carlotta Stegagno.
URL:https://www.suqgenova.it/archivio-evento/un-te-con-algebar-3/
CATEGORIES:Incontri,Suq Festival 2016
ATTACH;FMTTYPE=image/jpeg:https://www.suqgenova.it/wp-content/uploads/2015/06/Piazza-delle-Feste_ph-Michele-DOttavio_1000x379.jpg
END:VEVENT
BEGIN:VEVENT
DTSTART;TZID=UTC:20160620T210000
DTEND;TZID=UTC:20160620T220000
DTSTAMP:20260420T174949
CREATED:20160607T121546Z
LAST-MODIFIED:20160607T121546Z
UID:3674-1466456400-1466460000@www.suqgenova.it
SUMMARY:Giornata Mondiale del Rifugiato: Medici Senza Frontiere al Suq
DESCRIPTION:Un tema sensibile\, alcune voci autorevoli e il ricordo di Don Gallo e del suo appello a ”restare umani”. \nCon Loris De Filippi Presidente di Medici senza Frontiere Italia\, intervengono Alessandra Ballerini\, avvocato dei migranti\, Marco Aime\, autore del recente libro Contro il razzismo (Einaudi)\, Joumana Haddad scrittrice libanese. \nConduce Paola Caridi giornalista e scrittrice. \nIn collaborazione con Comunità San Benedetto al Porto.
URL:https://www.suqgenova.it/archivio-evento/3674/
CATEGORIES:Incontri,Suq Festival 2016
ATTACH;FMTTYPE=image/jpeg:https://www.suqgenova.it/wp-content/uploads/2015/06/Palco-interno_ph-Michele-DOttavio_1000x379.jpg
END:VEVENT
BEGIN:VEVENT
DTSTART;TZID=UTC:20160620T210000
DTEND;TZID=UTC:20160620T220000
DTSTAMP:20260420T174949
CREATED:20160607T121546Z
LAST-MODIFIED:20160607T121546Z
UID:19405-1466456400-1466460000@www.suqgenova.it
SUMMARY:Giornata Mondiale del Rifugiato: Medici Senza Frontiere al Suq
DESCRIPTION:Un tema sensibile\, alcune voci autorevoli e il ricordo di Don Gallo e del suo appello a ”restare umani”. \nCon Loris De Filippi Presidente di Medici senza Frontiere Italia\, intervengono Alessandra Ballerini\, avvocato dei migranti\, Marco Aime\, autore del recente libro Contro il razzismo (Einaudi)\, Joumana Haddad scrittrice libanese. \nConduce Paola Caridi giornalista e scrittrice. \nIn collaborazione con Comunità San Benedetto al Porto.
URL:https://www.suqgenova.it/archivio-evento/3674-2/
CATEGORIES:Incontri,Suq Festival 2016
ATTACH;FMTTYPE=image/jpeg:https://www.suqgenova.it/wp-content/uploads/2015/06/Palco-interno_ph-Michele-DOttavio_1000x379.jpg
END:VEVENT
BEGIN:VEVENT
DTSTART;TZID=UTC:20160620T210000
DTEND;TZID=UTC:20160620T220000
DTSTAMP:20260420T174949
CREATED:20160607T121546Z
LAST-MODIFIED:20160607T121546Z
UID:19951-1466456400-1466460000@www.suqgenova.it
SUMMARY:Giornata Mondiale del Rifugiato: Medici Senza Frontiere al Suq
DESCRIPTION:Un tema sensibile\, alcune voci autorevoli e il ricordo di Don Gallo e del suo appello a ”restare umani”. \nCon Loris De Filippi Presidente di Medici senza Frontiere Italia\, intervengono Alessandra Ballerini\, avvocato dei migranti\, Marco Aime\, autore del recente libro Contro il razzismo (Einaudi)\, Joumana Haddad scrittrice libanese. \nConduce Paola Caridi giornalista e scrittrice. \nIn collaborazione con Comunità San Benedetto al Porto.
URL:https://www.suqgenova.it/archivio-evento/3674-3/
CATEGORIES:Incontri,Suq Festival 2016
ATTACH;FMTTYPE=image/jpeg:https://www.suqgenova.it/wp-content/uploads/2015/06/Palco-interno_ph-Michele-DOttavio_1000x379.jpg
END:VEVENT
BEGIN:VEVENT
DTSTART;TZID=UTC:20160620T183000
DTEND;TZID=UTC:20160620T193000
DTSTAMP:20260420T174949
CREATED:20160609T090553Z
LAST-MODIFIED:20160609T090553Z
UID:19424-1466447400-1466451000@www.suqgenova.it
SUMMARY:Quando i profughi eravamo noi
DESCRIPTION:E’ il 1940\, 13.000 bambini italiani partono dalla Libia per una vacanza\, ritornano dai genitori dopo 7 anni. L’odissea di quei bambini nel racconto di un testimone Ernesto Susigan. Intervista di Tarcisio Mazzeo Caporedattore RAI TgR Liguria.
URL:https://www.suqgenova.it/archivio-evento/quando-i-profughi-eravamo-noi-2/
CATEGORIES:Incontri,Suq Festival 2016
ATTACH;FMTTYPE=image/jpeg:https://www.suqgenova.it/wp-content/uploads/2015/06/Palco-interno_ph-Michele-DOttavio_1000x379.jpg
END:VEVENT
BEGIN:VEVENT
DTSTART;TZID=UTC:20160620T183000
DTEND;TZID=UTC:20160620T193000
DTSTAMP:20260420T174949
CREATED:20160609T090553Z
LAST-MODIFIED:20160609T090553Z
UID:3673-1466447400-1466451000@www.suqgenova.it
SUMMARY:Quando i profughi eravamo noi
DESCRIPTION:E’ il 1940\, 13.000 bambini italiani partono dalla Libia per una vacanza\, ritornano dai genitori dopo 7 anni. L’odissea di quei bambini nel racconto di un testimone Ernesto Susigan. Intervista di Tarcisio Mazzeo Caporedattore RAI TgR Liguria.
URL:https://www.suqgenova.it/archivio-evento/quando-i-profughi-eravamo-noi/
CATEGORIES:Incontri,Suq Festival 2016
ATTACH;FMTTYPE=image/jpeg:https://www.suqgenova.it/wp-content/uploads/2015/06/Palco-interno_ph-Michele-DOttavio_1000x379.jpg
END:VEVENT
BEGIN:VEVENT
DTSTART;TZID=UTC:20160620T183000
DTEND;TZID=UTC:20160620T193000
DTSTAMP:20260420T174949
CREATED:20160609T090553Z
LAST-MODIFIED:20160609T090553Z
UID:19970-1466447400-1466451000@www.suqgenova.it
SUMMARY:Quando i profughi eravamo noi
DESCRIPTION:E’ il 1940\, 13.000 bambini italiani partono dalla Libia per una vacanza\, ritornano dai genitori dopo 7 anni. L’odissea di quei bambini nel racconto di un testimone Ernesto Susigan. Intervista di Tarcisio Mazzeo Caporedattore RAI TgR Liguria.
URL:https://www.suqgenova.it/archivio-evento/quando-i-profughi-eravamo-noi-3/
CATEGORIES:Incontri,Suq Festival 2016
ATTACH;FMTTYPE=image/jpeg:https://www.suqgenova.it/wp-content/uploads/2015/06/Palco-interno_ph-Michele-DOttavio_1000x379.jpg
END:VEVENT
END:VCALENDAR