BEGIN:VCALENDAR
VERSION:2.0
PRODID:-//Suq Genova - ECPv6.15.20//NONSGML v1.0//EN
CALSCALE:GREGORIAN
METHOD:PUBLISH
X-ORIGINAL-URL:https://www.suqgenova.it
X-WR-CALDESC:Eventi per Suq Genova
REFRESH-INTERVAL;VALUE=DURATION:PT1H
X-Robots-Tag:noindex
X-PUBLISHED-TTL:PT1H
BEGIN:VTIMEZONE
TZID:UTC
BEGIN:STANDARD
TZOFFSETFROM:+0000
TZOFFSETTO:+0000
TZNAME:UTC
DTSTART:20160101T000000
END:STANDARD
END:VTIMEZONE
BEGIN:VEVENT
DTSTART;TZID=UTC:20170625T180000
DTEND;TZID=UTC:20170625T180000
DTSTAMP:20260420T131436
CREATED:20170608T130334Z
LAST-MODIFIED:20170608T130334Z
UID:20097-1498413600-1498413600@www.suqgenova.it
SUMMARY:Economia circolare\, sostenibilità e partecipazione dei cittadini | EcoSuq
DESCRIPTION:Incontro con Ettore Rocchi Vice Presidente IREN\, Aristide Massardo Preside Scuola Politecnica UNIGE\, Giuseppe Lanzi Senior Advisor Novamont.\nConduce Selina Xerra IREN
URL:https://www.suqgenova.it/archivio-evento/economia-circolare-sostenibilita-partecipazione-cittadini-3/
CATEGORIES:Eco Suq,Suq Festival 2017
END:VEVENT
BEGIN:VEVENT
DTSTART;TZID=UTC:20170625T180000
DTEND;TZID=UTC:20170625T180000
DTSTAMP:20260420T131436
CREATED:20170608T130334Z
LAST-MODIFIED:20170608T130334Z
UID:19551-1498413600-1498413600@www.suqgenova.it
SUMMARY:Economia circolare\, sostenibilità e partecipazione dei cittadini | EcoSuq
DESCRIPTION:Incontro con Ettore Rocchi Vice Presidente IREN\, Aristide Massardo Preside Scuola Politecnica UNIGE\, Giuseppe Lanzi Senior Advisor Novamont.\nConduce Selina Xerra IREN
URL:https://www.suqgenova.it/archivio-evento/economia-circolare-sostenibilita-partecipazione-cittadini-2/
CATEGORIES:Eco Suq,Suq Festival 2017
END:VEVENT
BEGIN:VEVENT
DTSTART;TZID=UTC:20170625T180000
DTEND;TZID=UTC:20170625T180000
DTSTAMP:20260420T131436
CREATED:20170608T130334Z
LAST-MODIFIED:20170608T130334Z
UID:5522-1498413600-1498413600@www.suqgenova.it
SUMMARY:Economia circolare\, sostenibilità e partecipazione dei cittadini | EcoSuq
DESCRIPTION:Incontro con Ettore Rocchi Vice Presidente IREN\, Aristide Massardo Preside Scuola Politecnica UNIGE\, Giuseppe Lanzi Senior Advisor Novamont.\nConduce Selina Xerra IREN
URL:https://www.suqgenova.it/archivio-evento/economia-circolare-sostenibilita-partecipazione-cittadini/
CATEGORIES:Eco Suq,Suq Festival 2017
END:VEVENT
BEGIN:VEVENT
DTSTART;TZID=UTC:20170625T150000
DTEND;TZID=UTC:20170625T150000
DTSTAMP:20260420T131436
CREATED:20170608T125337Z
LAST-MODIFIED:20170608T125337Z
UID:20095-1498402800-1498402800@www.suqgenova.it
SUMMARY:Un vaso di fiori al contrario | EcoSuq
DESCRIPTION:Laboratorio per bambini Alla scoperta del Mater-BI a cura di Marta Antonucci
URL:https://www.suqgenova.it/archivio-evento/vaso-fiori-contrario-3/
CATEGORIES:Eco Suq,Laboratori,Suq Festival 2017
END:VEVENT
BEGIN:VEVENT
DTSTART;TZID=UTC:20170625T150000
DTEND;TZID=UTC:20170625T150000
DTSTAMP:20260420T131436
CREATED:20170608T125337Z
LAST-MODIFIED:20170608T125337Z
UID:19549-1498402800-1498402800@www.suqgenova.it
SUMMARY:Un vaso di fiori al contrario | EcoSuq
DESCRIPTION:Laboratorio per bambini Alla scoperta del Mater-BI a cura di Marta Antonucci
URL:https://www.suqgenova.it/archivio-evento/vaso-fiori-contrario-2/
CATEGORIES:Eco Suq,Laboratori,Suq Festival 2017
END:VEVENT
BEGIN:VEVENT
DTSTART;TZID=UTC:20170625T150000
DTEND;TZID=UTC:20170625T150000
DTSTAMP:20260420T131436
CREATED:20170608T125337Z
LAST-MODIFIED:20170608T125337Z
UID:5516-1498402800-1498402800@www.suqgenova.it
SUMMARY:Un vaso di fiori al contrario | EcoSuq
DESCRIPTION:Laboratorio per bambini Alla scoperta del Mater-BI a cura di Marta Antonucci
URL:https://www.suqgenova.it/archivio-evento/vaso-fiori-contrario/
CATEGORIES:Eco Suq,Laboratori,Suq Festival 2017
END:VEVENT
BEGIN:VEVENT
DTSTART;TZID=UTC:20170624T213000
DTEND;TZID=UTC:20170624T213000
DTSTAMP:20260420T131436
CREATED:20170608T120936Z
LAST-MODIFIED:20170608T120936Z
UID:5503-1498339800-1498339800@www.suqgenova.it
SUMMARY:Rifiuti RAEE: viaggio illegale e seconda vita locale | EcoSuq
DESCRIPTION:Come smaltirli e rigenerarli correttamente per ostacolarne il mercato illegale. Interviene Ilaria Marzoli AMIU insieme a CdC RAEE\, Coop La Cruna e Fondazione Don Bosco
URL:https://www.suqgenova.it/archivio-evento/rigiuti-raee/
CATEGORIES:Eco Suq,Suq Festival 2017
END:VEVENT
BEGIN:VEVENT
DTSTART;TZID=UTC:20170624T213000
DTEND;TZID=UTC:20170624T213000
DTSTAMP:20260420T131436
CREATED:20170608T120936Z
LAST-MODIFIED:20170608T120936Z
UID:19544-1498339800-1498339800@www.suqgenova.it
SUMMARY:Rifiuti RAEE: viaggio illegale e seconda vita locale | EcoSuq
DESCRIPTION:Come smaltirli e rigenerarli correttamente per ostacolarne il mercato illegale. Interviene Ilaria Marzoli AMIU insieme a CdC RAEE\, Coop La Cruna e Fondazione Don Bosco
URL:https://www.suqgenova.it/archivio-evento/rigiuti-raee-2/
CATEGORIES:Eco Suq,Suq Festival 2017
END:VEVENT
BEGIN:VEVENT
DTSTART;TZID=UTC:20170624T213000
DTEND;TZID=UTC:20170624T213000
DTSTAMP:20260420T131436
CREATED:20170608T120936Z
LAST-MODIFIED:20170608T120936Z
UID:20090-1498339800-1498339800@www.suqgenova.it
SUMMARY:Rifiuti RAEE: viaggio illegale e seconda vita locale | EcoSuq
DESCRIPTION:Come smaltirli e rigenerarli correttamente per ostacolarne il mercato illegale. Interviene Ilaria Marzoli AMIU insieme a CdC RAEE\, Coop La Cruna e Fondazione Don Bosco
URL:https://www.suqgenova.it/archivio-evento/rigiuti-raee-3/
CATEGORIES:Eco Suq,Suq Festival 2017
END:VEVENT
BEGIN:VEVENT
DTSTART;TZID=UTC:20170624T203000
DTEND;TZID=UTC:20170624T203000
DTSTAMP:20260420T131436
CREATED:20170608T120401Z
LAST-MODIFIED:20170608T120401Z
UID:5500-1498336200-1498336200@www.suqgenova.it
SUMMARY:Verso il 2030: Materiali innovativi per l'Europa sostenibile | EcoSuq
DESCRIPTION:Con Renata Morbiducci Scuola Politecnica UNIGE\, Francesco Bonaccorso Istituto Italiano Tecnologia\, Alessandro Torretta Eco Nano Green Project\, Anna Cristina Pizzorno AMIU\nPartecipano esperti di Regione Liguria Settore Sviluppo Economico.\nConduce Nicoletta Piersantelli AMIU.
URL:https://www.suqgenova.it/archivio-evento/verso-2030-materiali-innovativi-leuropa-sostenibile-ecosuq/
CATEGORIES:Eco Suq,Suq Festival 2017
END:VEVENT
BEGIN:VEVENT
DTSTART;TZID=UTC:20170624T203000
DTEND;TZID=UTC:20170624T203000
DTSTAMP:20260420T131436
CREATED:20170608T120401Z
LAST-MODIFIED:20170608T120401Z
UID:20089-1498336200-1498336200@www.suqgenova.it
SUMMARY:Verso il 2030: Materiali innovativi per l'Europa sostenibile | EcoSuq
DESCRIPTION:Con Renata Morbiducci Scuola Politecnica UNIGE\, Francesco Bonaccorso Istituto Italiano Tecnologia\, Alessandro Torretta Eco Nano Green Project\, Anna Cristina Pizzorno AMIU\nPartecipano esperti di Regione Liguria Settore Sviluppo Economico.\nConduce Nicoletta Piersantelli AMIU.
URL:https://www.suqgenova.it/archivio-evento/verso-2030-materiali-innovativi-leuropa-sostenibile-ecosuq-3/
CATEGORIES:Eco Suq,Suq Festival 2017
END:VEVENT
BEGIN:VEVENT
DTSTART;TZID=UTC:20170624T203000
DTEND;TZID=UTC:20170624T203000
DTSTAMP:20260420T131436
CREATED:20170608T120401Z
LAST-MODIFIED:20170608T120401Z
UID:19543-1498336200-1498336200@www.suqgenova.it
SUMMARY:Verso il 2030: Materiali innovativi per l'Europa sostenibile | EcoSuq
DESCRIPTION:Con Renata Morbiducci Scuola Politecnica UNIGE\, Francesco Bonaccorso Istituto Italiano Tecnologia\, Alessandro Torretta Eco Nano Green Project\, Anna Cristina Pizzorno AMIU\nPartecipano esperti di Regione Liguria Settore Sviluppo Economico.\nConduce Nicoletta Piersantelli AMIU.
URL:https://www.suqgenova.it/archivio-evento/verso-2030-materiali-innovativi-leuropa-sostenibile-ecosuq-2/
CATEGORIES:Eco Suq,Suq Festival 2017
END:VEVENT
BEGIN:VEVENT
DTSTART;TZID=UTC:20170623T190000
DTEND;TZID=UTC:20170623T190000
DTSTAMP:20260420T131436
CREATED:20170607T133354Z
LAST-MODIFIED:20170607T133354Z
UID:5419-1498244400-1498244400@www.suqgenova.it
SUMMARY:La nocciola ligure. Una biodiversità da tutelare | EcoSuq
DESCRIPTION:Presentazione del libro Nocciola ligure con l’autore Sergio Rossi e Andrea Parodi Parodi Nutra Srl\nA seguire degustazione della crema spalmabile alle nocciole di Parodi Nutra.
URL:https://www.suqgenova.it/archivio-evento/nocciola-ligure/
CATEGORIES:Cucina,Eco Suq,Suq Festival 2017
END:VEVENT
BEGIN:VEVENT
DTSTART;TZID=UTC:20170623T190000
DTEND;TZID=UTC:20170623T190000
DTSTAMP:20260420T131436
CREATED:20170607T133354Z
LAST-MODIFIED:20170607T133354Z
UID:20081-1498244400-1498244400@www.suqgenova.it
SUMMARY:La nocciola ligure. Una biodiversità da tutelare | EcoSuq
DESCRIPTION:Presentazione del libro Nocciola ligure con l’autore Sergio Rossi e Andrea Parodi Parodi Nutra Srl\nA seguire degustazione della crema spalmabile alle nocciole di Parodi Nutra.
URL:https://www.suqgenova.it/archivio-evento/nocciola-ligure-3/
CATEGORIES:Cucina,Eco Suq,Suq Festival 2017
END:VEVENT
BEGIN:VEVENT
DTSTART;TZID=UTC:20170623T190000
DTEND;TZID=UTC:20170623T190000
DTSTAMP:20260420T131436
CREATED:20170607T133354Z
LAST-MODIFIED:20170607T133354Z
UID:19535-1498244400-1498244400@www.suqgenova.it
SUMMARY:La nocciola ligure. Una biodiversità da tutelare | EcoSuq
DESCRIPTION:Presentazione del libro Nocciola ligure con l’autore Sergio Rossi e Andrea Parodi Parodi Nutra Srl\nA seguire degustazione della crema spalmabile alle nocciole di Parodi Nutra.
URL:https://www.suqgenova.it/archivio-evento/nocciola-ligure-2/
CATEGORIES:Cucina,Eco Suq,Suq Festival 2017
END:VEVENT
BEGIN:VEVENT
DTSTART;TZID=UTC:20170622T160000
DTEND;TZID=UTC:20170622T160000
DTSTAMP:20260420T131436
CREATED:20170607T123653Z
LAST-MODIFIED:20170607T123653Z
UID:5393-1498147200-1498147200@www.suqgenova.it
SUMMARY:Le api e il futuro\, prima che sia tardi | EcoSuq
DESCRIPTION:Con Marina Consiglieri Alpa Miele e Laura Capini Associazione AMI.\nA seguire analisi sensoriale del miele insieme al pubblico
URL:https://www.suqgenova.it/archivio-evento/le-api-futuro-sia-tardi-ecosuq/
CATEGORIES:Eco Suq,Suq Festival 2017
END:VEVENT
BEGIN:VEVENT
DTSTART;TZID=UTC:20170622T160000
DTEND;TZID=UTC:20170622T160000
DTSTAMP:20260420T131436
CREATED:20170607T123653Z
LAST-MODIFIED:20170607T123653Z
UID:20071-1498147200-1498147200@www.suqgenova.it
SUMMARY:Le api e il futuro\, prima che sia tardi | EcoSuq
DESCRIPTION:Con Marina Consiglieri Alpa Miele e Laura Capini Associazione AMI.\nA seguire analisi sensoriale del miele insieme al pubblico
URL:https://www.suqgenova.it/archivio-evento/le-api-futuro-sia-tardi-ecosuq-3/
CATEGORIES:Eco Suq,Suq Festival 2017
END:VEVENT
BEGIN:VEVENT
DTSTART;TZID=UTC:20170622T160000
DTEND;TZID=UTC:20170622T160000
DTSTAMP:20260420T131436
CREATED:20170607T123653Z
LAST-MODIFIED:20170607T123653Z
UID:19525-1498147200-1498147200@www.suqgenova.it
SUMMARY:Le api e il futuro\, prima che sia tardi | EcoSuq
DESCRIPTION:Con Marina Consiglieri Alpa Miele e Laura Capini Associazione AMI.\nA seguire analisi sensoriale del miele insieme al pubblico
URL:https://www.suqgenova.it/archivio-evento/le-api-futuro-sia-tardi-ecosuq-2/
CATEGORIES:Eco Suq,Suq Festival 2017
END:VEVENT
BEGIN:VEVENT
DTSTART;TZID=UTC:20170622T160000
DTEND;TZID=UTC:20170622T160000
DTSTAMP:20260420T131436
CREATED:20170607T123030Z
LAST-MODIFIED:20170607T123030Z
UID:19524-1498147200-1498147200@www.suqgenova.it
SUMMARY:L'acchiappatappo | EcoSuq
DESCRIPTION:TENDA DELLA SOSTA\nLaboratorio di costruzione con materiali di riciclo a cura di Associazione Matermagna.\nIn collaborazione con AMIU
URL:https://www.suqgenova.it/archivio-evento/acchiappatappo-2/
CATEGORIES:Eco Suq,Suq Festival 2017
END:VEVENT
BEGIN:VEVENT
DTSTART;TZID=UTC:20170622T160000
DTEND;TZID=UTC:20170622T160000
DTSTAMP:20260420T131436
CREATED:20170607T123030Z
LAST-MODIFIED:20170607T123030Z
UID:20070-1498147200-1498147200@www.suqgenova.it
SUMMARY:L'acchiappatappo | EcoSuq
DESCRIPTION:TENDA DELLA SOSTA\nLaboratorio di costruzione con materiali di riciclo a cura di Associazione Matermagna.\nIn collaborazione con AMIU
URL:https://www.suqgenova.it/archivio-evento/acchiappatappo-3/
CATEGORIES:Eco Suq,Suq Festival 2017
END:VEVENT
BEGIN:VEVENT
DTSTART;TZID=UTC:20170622T160000
DTEND;TZID=UTC:20170622T160000
DTSTAMP:20260420T131436
CREATED:20170607T123030Z
LAST-MODIFIED:20170607T123030Z
UID:5390-1498147200-1498147200@www.suqgenova.it
SUMMARY:L'acchiappatappo | EcoSuq
DESCRIPTION:TENDA DELLA SOSTA\nLaboratorio di costruzione con materiali di riciclo a cura di Associazione Matermagna.\nIn collaborazione con AMIU
URL:https://www.suqgenova.it/archivio-evento/acchiappatappo/
CATEGORIES:Eco Suq,Suq Festival 2017
END:VEVENT
BEGIN:VEVENT
DTSTART;TZID=UTC:20170620T143000
DTEND;TZID=UTC:20170620T143000
DTSTAMP:20260420T131436
CREATED:20170607T111720Z
LAST-MODIFIED:20170607T111720Z
UID:19508-1497969000-1497969000@www.suqgenova.it
SUMMARY:Le Città di Remida | EcoSuq
DESCRIPTION:Costruiamo paesaggi fantastici e immaginari con i materiali di scarto. Laboratorio per bambini a cura di Centro Remida Genova Associazione “Sc’Art”. In collaborazione con AMIU
URL:https://www.suqgenova.it/archivio-evento/citta-remida-2/
CATEGORIES:Eco Suq,Suq Festival 2016
ATTACH;FMTTYPE=image/jpeg:https://www.suqgenova.it/wp-content/uploads/2015/06/Bambini-al-Suq_ph-Max-Valle.jpg
END:VEVENT
BEGIN:VEVENT
DTSTART;TZID=UTC:20170620T143000
DTEND;TZID=UTC:20170620T143000
DTSTAMP:20260420T131436
CREATED:20170607T111720Z
LAST-MODIFIED:20170607T111720Z
UID:5348-1497969000-1497969000@www.suqgenova.it
SUMMARY:Le Città di Remida | EcoSuq
DESCRIPTION:Costruiamo paesaggi fantastici e immaginari con i materiali di scarto. Laboratorio per bambini a cura di Centro Remida Genova Associazione “Sc’Art”. In collaborazione con AMIU
URL:https://www.suqgenova.it/archivio-evento/citta-remida/
CATEGORIES:Eco Suq,Suq Festival 2016
ATTACH;FMTTYPE=image/jpeg:https://www.suqgenova.it/wp-content/uploads/2015/06/Bambini-al-Suq_ph-Max-Valle.jpg
END:VEVENT
BEGIN:VEVENT
DTSTART;TZID=UTC:20170620T143000
DTEND;TZID=UTC:20170620T143000
DTSTAMP:20260420T131436
CREATED:20170607T111720Z
LAST-MODIFIED:20170607T111720Z
UID:20054-1497969000-1497969000@www.suqgenova.it
SUMMARY:Le Città di Remida | EcoSuq
DESCRIPTION:Costruiamo paesaggi fantastici e immaginari con i materiali di scarto. Laboratorio per bambini a cura di Centro Remida Genova Associazione “Sc’Art”. In collaborazione con AMIU
URL:https://www.suqgenova.it/archivio-evento/citta-remida-3/
CATEGORIES:Eco Suq,Suq Festival 2016
ATTACH;FMTTYPE=image/jpeg:https://www.suqgenova.it/wp-content/uploads/2015/06/Bambini-al-Suq_ph-Max-Valle.jpg
END:VEVENT
BEGIN:VEVENT
DTSTART;TZID=UTC:20170618T190000
DTEND;TZID=UTC:20170618T190000
DTSTAMP:20260420T131436
CREATED:20170607T074304Z
LAST-MODIFIED:20170607T074304Z
UID:19495-1497812400-1497812400@www.suqgenova.it
SUMMARY:Economia circolare casalinga: le buone pratiche in cucina | EcoSuq
DESCRIPTION:Il Suq incontra Paola Maugeri #HappyVeganLife. Intervista di Anna Scarano Donna Moderna
URL:https://www.suqgenova.it/archivio-evento/economia-circolare-casalinga-2/
CATEGORIES:Eco Suq,Suq Festival 2017
ATTACH;FMTTYPE=image/jpeg:https://www.suqgenova.it/wp-content/uploads/2015/08/Paola-Maugeri.jpg
END:VEVENT
BEGIN:VEVENT
DTSTART;TZID=UTC:20170618T190000
DTEND;TZID=UTC:20170618T190000
DTSTAMP:20260420T131436
CREATED:20170607T074304Z
LAST-MODIFIED:20170607T074304Z
UID:5281-1497812400-1497812400@www.suqgenova.it
SUMMARY:Economia circolare casalinga: le buone pratiche in cucina | EcoSuq
DESCRIPTION:Il Suq incontra Paola Maugeri #HappyVeganLife. Intervista di Anna Scarano Donna Moderna
URL:https://www.suqgenova.it/archivio-evento/economia-circolare-casalinga/
CATEGORIES:Eco Suq,Suq Festival 2017
ATTACH;FMTTYPE=image/jpeg:https://www.suqgenova.it/wp-content/uploads/2015/08/Paola-Maugeri.jpg
END:VEVENT
BEGIN:VEVENT
DTSTART;TZID=UTC:20170618T190000
DTEND;TZID=UTC:20170618T190000
DTSTAMP:20260420T131436
CREATED:20170607T074304Z
LAST-MODIFIED:20170607T074304Z
UID:20041-1497812400-1497812400@www.suqgenova.it
SUMMARY:Economia circolare casalinga: le buone pratiche in cucina | EcoSuq
DESCRIPTION:Il Suq incontra Paola Maugeri #HappyVeganLife. Intervista di Anna Scarano Donna Moderna
URL:https://www.suqgenova.it/archivio-evento/economia-circolare-casalinga-3/
CATEGORIES:Eco Suq,Suq Festival 2017
ATTACH;FMTTYPE=image/jpeg:https://www.suqgenova.it/wp-content/uploads/2015/08/Paola-Maugeri.jpg
END:VEVENT
BEGIN:VEVENT
DTSTART;TZID=UTC:20170618T150000
DTEND;TZID=UTC:20170618T150000
DTSTAMP:20260420T131436
CREATED:20170606T131654Z
LAST-MODIFIED:20170606T131654Z
UID:20037-1497798000-1497798000@www.suqgenova.it
SUMMARY:La Bioniera | EcoSuq
DESCRIPTION:Impronte positive di lombricompostaggio domestico.\nLaboratorio per bambini a cura di Associazione Al Verde. In collaborazione con AMIU
URL:https://www.suqgenova.it/archivio-evento/bioniera-3/
CATEGORIES:Eco Suq,Suq Festival 2017
END:VEVENT
BEGIN:VEVENT
DTSTART;TZID=UTC:20170618T150000
DTEND;TZID=UTC:20170618T150000
DTSTAMP:20260420T131436
CREATED:20170606T131654Z
LAST-MODIFIED:20170606T131654Z
UID:5269-1497798000-1497798000@www.suqgenova.it
SUMMARY:La Bioniera | EcoSuq
DESCRIPTION:Impronte positive di lombricompostaggio domestico.\nLaboratorio per bambini a cura di Associazione Al Verde. In collaborazione con AMIU
URL:https://www.suqgenova.it/archivio-evento/bioniera/
CATEGORIES:Eco Suq,Suq Festival 2017
END:VEVENT
BEGIN:VEVENT
DTSTART;TZID=UTC:20170618T150000
DTEND;TZID=UTC:20170618T150000
DTSTAMP:20260420T131436
CREATED:20170606T131654Z
LAST-MODIFIED:20170606T131654Z
UID:19491-1497798000-1497798000@www.suqgenova.it
SUMMARY:La Bioniera | EcoSuq
DESCRIPTION:Impronte positive di lombricompostaggio domestico.\nLaboratorio per bambini a cura di Associazione Al Verde. In collaborazione con AMIU
URL:https://www.suqgenova.it/archivio-evento/bioniera-2/
CATEGORIES:Eco Suq,Suq Festival 2017
END:VEVENT
END:VCALENDAR