BEGIN:VCALENDAR
VERSION:2.0
PRODID:-//Suq Genova - ECPv6.15.20//NONSGML v1.0//EN
CALSCALE:GREGORIAN
METHOD:PUBLISH
X-WR-CALNAME:Suq Genova
X-ORIGINAL-URL:https://www.suqgenova.it
X-WR-CALDESC:Eventi per Suq Genova
REFRESH-INTERVAL;VALUE=DURATION:PT1H
X-Robots-Tag:noindex
X-PUBLISHED-TTL:PT1H
BEGIN:VTIMEZONE
TZID:UTC
BEGIN:STANDARD
TZOFFSETFROM:+0000
TZOFFSETTO:+0000
TZNAME:UTC
DTSTART:20150101T000000
END:STANDARD
END:VTIMEZONE
BEGIN:VEVENT
DTSTART;TZID=UTC:20160616T190000
DTEND;TZID=UTC:20160616T200000
DTSTAMP:20260420T225135
CREATED:20160602T091148Z
LAST-MODIFIED:20160602T091148Z
UID:3640-1466103600-1466107200@www.suqgenova.it
SUMMARY:Inaugurazione ed ecokit
DESCRIPTION:La consegna degli Ecokit ai primi 100 visitatori con Simone Leoncini Presidente Municipio I Genova Centro Est\, Ariel Dello Strologo Presidente Porto Antico\, Carla Peirolero Direttrice Suq. Insieme ai rappresentanti dei nostri Eco Partner. \nPer Ecokit grazie a Novamont\, Amiu\, Iren\, Coop Liguria\, Favini\, Otto Chocolates\, Provenzali.
URL:https://www.suqgenova.it/archivio-evento/inaugurazione-ed-ecokit/
CATEGORIES:Eco Suq 2016,Suq Festival 2016
ATTACH;FMTTYPE=image/png:https://www.suqgenova.it/wp-content/uploads/2016/06/novamont-1.png
END:VEVENT
BEGIN:VEVENT
DTSTART;TZID=UTC:20160616T190000
DTEND;TZID=UTC:20160616T200000
DTSTAMP:20260420T225135
CREATED:20160602T091148Z
LAST-MODIFIED:20160602T091148Z
UID:19390-1466103600-1466107200@www.suqgenova.it
SUMMARY:Inaugurazione ed ecokit
DESCRIPTION:La consegna degli Ecokit ai primi 100 visitatori con Simone Leoncini Presidente Municipio I Genova Centro Est\, Ariel Dello Strologo Presidente Porto Antico\, Carla Peirolero Direttrice Suq. Insieme ai rappresentanti dei nostri Eco Partner. \nPer Ecokit grazie a Novamont\, Amiu\, Iren\, Coop Liguria\, Favini\, Otto Chocolates\, Provenzali.
URL:https://www.suqgenova.it/archivio-evento/inaugurazione-ed-ecokit-2/
CATEGORIES:Eco Suq 2016,Suq Festival 2016
ATTACH;FMTTYPE=image/png:https://www.suqgenova.it/wp-content/uploads/2016/06/novamont-1.png
END:VEVENT
BEGIN:VEVENT
DTSTART;TZID=UTC:20160616T190000
DTEND;TZID=UTC:20160616T200000
DTSTAMP:20260420T225135
CREATED:20160602T091148Z
LAST-MODIFIED:20160602T091148Z
UID:19936-1466103600-1466107200@www.suqgenova.it
SUMMARY:Inaugurazione ed ecokit
DESCRIPTION:La consegna degli Ecokit ai primi 100 visitatori con Simone Leoncini Presidente Municipio I Genova Centro Est\, Ariel Dello Strologo Presidente Porto Antico\, Carla Peirolero Direttrice Suq. Insieme ai rappresentanti dei nostri Eco Partner. \nPer Ecokit grazie a Novamont\, Amiu\, Iren\, Coop Liguria\, Favini\, Otto Chocolates\, Provenzali.
URL:https://www.suqgenova.it/archivio-evento/inaugurazione-ed-ecokit-3/
CATEGORIES:Eco Suq 2016,Suq Festival 2016
ATTACH;FMTTYPE=image/png:https://www.suqgenova.it/wp-content/uploads/2016/06/novamont-1.png
END:VEVENT
END:VCALENDAR