BEGIN:VCALENDAR
VERSION:2.0
PRODID:-//Suq Genova - ECPv6.15.20//NONSGML v1.0//EN
CALSCALE:GREGORIAN
METHOD:PUBLISH
X-WR-CALNAME:Suq Genova
X-ORIGINAL-URL:https://www.suqgenova.it
X-WR-CALDESC:Eventi per Suq Genova
REFRESH-INTERVAL;VALUE=DURATION:PT1H
X-Robots-Tag:noindex
X-PUBLISHED-TTL:PT1H
BEGIN:VTIMEZONE
TZID:UTC
BEGIN:STANDARD
TZOFFSETFROM:+0000
TZOFFSETTO:+0000
TZNAME:UTC
DTSTART:20160101T000000
END:STANDARD
END:VTIMEZONE
BEGIN:VEVENT
DTSTART;TZID=UTC:20170623T200000
DTEND;TZID=UTC:20170623T200000
DTSTAMP:20260420T191748
CREATED:20170607T134216Z
LAST-MODIFIED:20170607T134216Z
UID:20082-1498248000-1498248000@www.suqgenova.it
SUMMARY:Il lungo viaggio delle patate
DESCRIPTION:Showcooking con il cucinosofo Sergio Rossi sulle diverse varietà e i diversi usi in cucina
URL:https://www.suqgenova.it/archivio-evento/lungo-viaggio-delle-patate-3/
CATEGORIES:Cucina,Suq Festival 2017
END:VEVENT
BEGIN:VEVENT
DTSTART;TZID=UTC:20170623T200000
DTEND;TZID=UTC:20170623T200000
DTSTAMP:20260420T191748
CREATED:20170607T134216Z
LAST-MODIFIED:20170607T134216Z
UID:5422-1498248000-1498248000@www.suqgenova.it
SUMMARY:Il lungo viaggio delle patate
DESCRIPTION:Showcooking con il cucinosofo Sergio Rossi sulle diverse varietà e i diversi usi in cucina
URL:https://www.suqgenova.it/archivio-evento/lungo-viaggio-delle-patate/
CATEGORIES:Cucina,Suq Festival 2017
END:VEVENT
BEGIN:VEVENT
DTSTART;TZID=UTC:20170623T200000
DTEND;TZID=UTC:20170623T200000
DTSTAMP:20260420T191748
CREATED:20170607T134216Z
LAST-MODIFIED:20170607T134216Z
UID:19536-1498248000-1498248000@www.suqgenova.it
SUMMARY:Il lungo viaggio delle patate
DESCRIPTION:Showcooking con il cucinosofo Sergio Rossi sulle diverse varietà e i diversi usi in cucina
URL:https://www.suqgenova.it/archivio-evento/lungo-viaggio-delle-patate-2/
CATEGORIES:Cucina,Suq Festival 2017
END:VEVENT
BEGIN:VEVENT
DTSTART;TZID=UTC:20170623T190000
DTEND;TZID=UTC:20170623T190000
DTSTAMP:20260420T191748
CREATED:20170607T133354Z
LAST-MODIFIED:20170607T133354Z
UID:20081-1498244400-1498244400@www.suqgenova.it
SUMMARY:La nocciola ligure. Una biodiversità da tutelare | EcoSuq
DESCRIPTION:Presentazione del libro Nocciola ligure con l’autore Sergio Rossi e Andrea Parodi Parodi Nutra Srl\nA seguire degustazione della crema spalmabile alle nocciole di Parodi Nutra.
URL:https://www.suqgenova.it/archivio-evento/nocciola-ligure-3/
CATEGORIES:Cucina,Eco Suq,Suq Festival 2017
END:VEVENT
BEGIN:VEVENT
DTSTART;TZID=UTC:20170623T190000
DTEND;TZID=UTC:20170623T190000
DTSTAMP:20260420T191748
CREATED:20170607T133354Z
LAST-MODIFIED:20170607T133354Z
UID:5419-1498244400-1498244400@www.suqgenova.it
SUMMARY:La nocciola ligure. Una biodiversità da tutelare | EcoSuq
DESCRIPTION:Presentazione del libro Nocciola ligure con l’autore Sergio Rossi e Andrea Parodi Parodi Nutra Srl\nA seguire degustazione della crema spalmabile alle nocciole di Parodi Nutra.
URL:https://www.suqgenova.it/archivio-evento/nocciola-ligure/
CATEGORIES:Cucina,Eco Suq,Suq Festival 2017
END:VEVENT
BEGIN:VEVENT
DTSTART;TZID=UTC:20170623T190000
DTEND;TZID=UTC:20170623T190000
DTSTAMP:20260420T191748
CREATED:20170607T133354Z
LAST-MODIFIED:20170607T133354Z
UID:19535-1498244400-1498244400@www.suqgenova.it
SUMMARY:La nocciola ligure. Una biodiversità da tutelare | EcoSuq
DESCRIPTION:Presentazione del libro Nocciola ligure con l’autore Sergio Rossi e Andrea Parodi Parodi Nutra Srl\nA seguire degustazione della crema spalmabile alle nocciole di Parodi Nutra.
URL:https://www.suqgenova.it/archivio-evento/nocciola-ligure-2/
CATEGORIES:Cucina,Eco Suq,Suq Festival 2017
END:VEVENT
BEGIN:VEVENT
DTSTART;TZID=UTC:20170620T200000
DTEND;TZID=UTC:20170620T200000
DTSTAMP:20260420T191748
CREATED:20170607T113341Z
LAST-MODIFIED:20170607T113341Z
UID:20059-1497988800-1497988800@www.suqgenova.it
SUMMARY:Aperitivo solidal
DESCRIPTION:Assaggi di prodotti e bevande offerti da COOP Liguria
URL:https://www.suqgenova.it/archivio-evento/aperitivo-solidal-3-3/
CATEGORIES:Cucina
ATTACH;FMTTYPE=image/jpeg:https://www.suqgenova.it/wp-content/uploads/2015/06/Cibo-al-Suq_ph-Michele-DOttavio-1000x379-1.jpg
END:VEVENT
BEGIN:VEVENT
DTSTART;TZID=UTC:20170620T200000
DTEND;TZID=UTC:20170620T200000
DTSTAMP:20260420T191748
CREATED:20170607T113341Z
LAST-MODIFIED:20170607T113341Z
UID:5362-1497988800-1497988800@www.suqgenova.it
SUMMARY:Aperitivo solidal
DESCRIPTION:Assaggi di prodotti e bevande offerti da COOP Liguria
URL:https://www.suqgenova.it/archivio-evento/aperitivo-solidal-3/
CATEGORIES:Cucina
ATTACH;FMTTYPE=image/jpeg:https://www.suqgenova.it/wp-content/uploads/2015/06/Cibo-al-Suq_ph-Michele-DOttavio-1000x379-1.jpg
END:VEVENT
BEGIN:VEVENT
DTSTART;TZID=UTC:20170620T200000
DTEND;TZID=UTC:20170620T200000
DTSTAMP:20260420T191748
CREATED:20170607T113341Z
LAST-MODIFIED:20170607T113341Z
UID:19513-1497988800-1497988800@www.suqgenova.it
SUMMARY:Aperitivo solidal
DESCRIPTION:Assaggi di prodotti e bevande offerti da COOP Liguria
URL:https://www.suqgenova.it/archivio-evento/aperitivo-solidal-3-2/
CATEGORIES:Cucina
ATTACH;FMTTYPE=image/jpeg:https://www.suqgenova.it/wp-content/uploads/2015/06/Cibo-al-Suq_ph-Michele-DOttavio-1000x379-1.jpg
END:VEVENT
BEGIN:VEVENT
DTSTART;TZID=UTC:20170620T193000
DTEND;TZID=UTC:20170620T193000
DTSTAMP:20260420T191748
CREATED:20170607T113149Z
LAST-MODIFIED:20170607T113149Z
UID:19512-1497987000-1497987000@www.suqgenova.it
SUMMARY:Kamba Food
DESCRIPTION:Showcooking di cucina afro a cura dell’Associazione Kamba che con i suoi progetti di inclusione di richiedenti asilo e migranti ha ottenuto riconoscimenti e premi. A cura di Emanuela Vita\, Carla Guerra\, Valentino Efoghe\, Adama Camara
URL:https://www.suqgenova.it/archivio-evento/kamba-food-2/
CATEGORIES:Cucina,Suq Festival 2017
ATTACH;FMTTYPE=image/jpeg:https://www.suqgenova.it/wp-content/uploads/2015/08/Kamba-Food-Showcooking.jpg
END:VEVENT
BEGIN:VEVENT
DTSTART;TZID=UTC:20170620T193000
DTEND;TZID=UTC:20170620T193000
DTSTAMP:20260420T191748
CREATED:20170607T113149Z
LAST-MODIFIED:20170607T113149Z
UID:20058-1497987000-1497987000@www.suqgenova.it
SUMMARY:Kamba Food
DESCRIPTION:Showcooking di cucina afro a cura dell’Associazione Kamba che con i suoi progetti di inclusione di richiedenti asilo e migranti ha ottenuto riconoscimenti e premi. A cura di Emanuela Vita\, Carla Guerra\, Valentino Efoghe\, Adama Camara
URL:https://www.suqgenova.it/archivio-evento/kamba-food-3/
CATEGORIES:Cucina,Suq Festival 2017
ATTACH;FMTTYPE=image/jpeg:https://www.suqgenova.it/wp-content/uploads/2015/08/Kamba-Food-Showcooking.jpg
END:VEVENT
BEGIN:VEVENT
DTSTART;TZID=UTC:20170620T193000
DTEND;TZID=UTC:20170620T193000
DTSTAMP:20260420T191748
CREATED:20170607T113149Z
LAST-MODIFIED:20170607T113149Z
UID:5360-1497987000-1497987000@www.suqgenova.it
SUMMARY:Kamba Food
DESCRIPTION:Showcooking di cucina afro a cura dell’Associazione Kamba che con i suoi progetti di inclusione di richiedenti asilo e migranti ha ottenuto riconoscimenti e premi. A cura di Emanuela Vita\, Carla Guerra\, Valentino Efoghe\, Adama Camara
URL:https://www.suqgenova.it/archivio-evento/kamba-food/
CATEGORIES:Cucina,Suq Festival 2017
ATTACH;FMTTYPE=image/jpeg:https://www.suqgenova.it/wp-content/uploads/2015/08/Kamba-Food-Showcooking.jpg
END:VEVENT
BEGIN:VEVENT
DTSTART;TZID=UTC:20170619T200000
DTEND;TZID=UTC:20170619T200000
DTSTAMP:20260420T191748
CREATED:20170607T105221Z
LAST-MODIFIED:20170607T105221Z
UID:19504-1497902400-1497902400@www.suqgenova.it
SUMMARY:La consolazione degli Appennini
DESCRIPTION:A cura di Maurizio Sentieri\nStorie di genti e di cibi.\nA seguire degustazione di pecorino\, distillato della montagna.
URL:https://www.suqgenova.it/archivio-evento/consolazione-degli-appennini-2/
CATEGORIES:Cucina,Suq Festival 2017
END:VEVENT
BEGIN:VEVENT
DTSTART;TZID=UTC:20170619T200000
DTEND;TZID=UTC:20170619T200000
DTSTAMP:20260420T191748
CREATED:20170607T105221Z
LAST-MODIFIED:20170607T105221Z
UID:20050-1497902400-1497902400@www.suqgenova.it
SUMMARY:La consolazione degli Appennini
DESCRIPTION:A cura di Maurizio Sentieri\nStorie di genti e di cibi.\nA seguire degustazione di pecorino\, distillato della montagna.
URL:https://www.suqgenova.it/archivio-evento/consolazione-degli-appennini-3/
CATEGORIES:Cucina,Suq Festival 2017
END:VEVENT
BEGIN:VEVENT
DTSTART;TZID=UTC:20170619T200000
DTEND;TZID=UTC:20170619T200000
DTSTAMP:20260420T191748
CREATED:20170607T105221Z
LAST-MODIFIED:20170607T105221Z
UID:5334-1497902400-1497902400@www.suqgenova.it
SUMMARY:La consolazione degli Appennini
DESCRIPTION:A cura di Maurizio Sentieri\nStorie di genti e di cibi.\nA seguire degustazione di pecorino\, distillato della montagna.
URL:https://www.suqgenova.it/archivio-evento/consolazione-degli-appennini/
CATEGORIES:Cucina,Suq Festival 2017
END:VEVENT
BEGIN:VEVENT
DTSTART;TZID=UTC:20170618T180000
DTEND;TZID=UTC:20170618T180000
DTSTAMP:20260420T191748
CREATED:20170606T134834Z
LAST-MODIFIED:20170606T134834Z
UID:19494-1497808800-1497808800@www.suqgenova.it
SUMMARY:L'innovazione in cucina con ingredienti ritrovati
DESCRIPTION:Showcooking condotto da Marco Visciola chef di EATALY e da Andrea Parodi Parodi Nutra srl.\nIl ritorno della nocciola ligure\, del lentisco e del loro olio
URL:https://www.suqgenova.it/archivio-evento/cucina-ingredienti-ritrovati-2/
CATEGORIES:Cucina,Suq Festival 2017
END:VEVENT
BEGIN:VEVENT
DTSTART;TZID=UTC:20170618T180000
DTEND;TZID=UTC:20170618T180000
DTSTAMP:20260420T191748
CREATED:20170606T134834Z
LAST-MODIFIED:20170606T134834Z
UID:20040-1497808800-1497808800@www.suqgenova.it
SUMMARY:L'innovazione in cucina con ingredienti ritrovati
DESCRIPTION:Showcooking condotto da Marco Visciola chef di EATALY e da Andrea Parodi Parodi Nutra srl.\nIl ritorno della nocciola ligure\, del lentisco e del loro olio
URL:https://www.suqgenova.it/archivio-evento/cucina-ingredienti-ritrovati-3/
CATEGORIES:Cucina,Suq Festival 2017
END:VEVENT
BEGIN:VEVENT
DTSTART;TZID=UTC:20170618T180000
DTEND;TZID=UTC:20170618T180000
DTSTAMP:20260420T191748
CREATED:20170606T134834Z
LAST-MODIFIED:20170606T134834Z
UID:5275-1497808800-1497808800@www.suqgenova.it
SUMMARY:L'innovazione in cucina con ingredienti ritrovati
DESCRIPTION:Showcooking condotto da Marco Visciola chef di EATALY e da Andrea Parodi Parodi Nutra srl.\nIl ritorno della nocciola ligure\, del lentisco e del loro olio
URL:https://www.suqgenova.it/archivio-evento/cucina-ingredienti-ritrovati/
CATEGORIES:Cucina,Suq Festival 2017
END:VEVENT
BEGIN:VEVENT
DTSTART;TZID=UTC:20170616T173000
DTEND;TZID=UTC:20170616T173000
DTSTAMP:20260420T191748
CREATED:20170606T110552Z
LAST-MODIFIED:20170606T110552Z
UID:5236-1497634200-1497634200@www.suqgenova.it
SUMMARY:Giro botteghe e giro Suq
DESCRIPTION:Tour gastronomade con Chef Kumalé\nUn viaggio tra alcune botteghe storiche di Genova\, drogherie e non solo\, partendo dal Suq per poi tornare ai sapori del Suq. In collaborazione con Camera di Commercio di Genova\nPartecipazione gratuita. È necessaria la prenotazione: 010 5702715
URL:https://www.suqgenova.it/archivio-evento/giro-botteghe-giro-suq/
CATEGORIES:Cucina,Suq Festival 2017
ATTACH;FMTTYPE=image/jpeg:https://www.suqgenova.it/wp-content/uploads/2017/06/Angolo-spezie-al-Suq-scaled.jpg
END:VEVENT
BEGIN:VEVENT
DTSTART;TZID=UTC:20170616T173000
DTEND;TZID=UTC:20170616T173000
DTSTAMP:20260420T191748
CREATED:20170606T110552Z
LAST-MODIFIED:20170606T110552Z
UID:20028-1497634200-1497634200@www.suqgenova.it
SUMMARY:Giro botteghe e giro Suq
DESCRIPTION:Tour gastronomade con Chef Kumalé\nUn viaggio tra alcune botteghe storiche di Genova\, drogherie e non solo\, partendo dal Suq per poi tornare ai sapori del Suq. In collaborazione con Camera di Commercio di Genova\nPartecipazione gratuita. È necessaria la prenotazione: 010 5702715
URL:https://www.suqgenova.it/archivio-evento/giro-botteghe-giro-suq-3/
CATEGORIES:Cucina,Suq Festival 2017
ATTACH;FMTTYPE=image/jpeg:https://www.suqgenova.it/wp-content/uploads/2017/06/Angolo-spezie-al-Suq-scaled.jpg
END:VEVENT
BEGIN:VEVENT
DTSTART;TZID=UTC:20170616T173000
DTEND;TZID=UTC:20170616T173000
DTSTAMP:20260420T191748
CREATED:20170606T110552Z
LAST-MODIFIED:20170606T110552Z
UID:19482-1497634200-1497634200@www.suqgenova.it
SUMMARY:Giro botteghe e giro Suq
DESCRIPTION:Tour gastronomade con Chef Kumalé\nUn viaggio tra alcune botteghe storiche di Genova\, drogherie e non solo\, partendo dal Suq per poi tornare ai sapori del Suq. In collaborazione con Camera di Commercio di Genova\nPartecipazione gratuita. È necessaria la prenotazione: 010 5702715
URL:https://www.suqgenova.it/archivio-evento/giro-botteghe-giro-suq-2/
CATEGORIES:Cucina,Suq Festival 2017
ATTACH;FMTTYPE=image/jpeg:https://www.suqgenova.it/wp-content/uploads/2017/06/Angolo-spezie-al-Suq-scaled.jpg
END:VEVENT
END:VCALENDAR