BEGIN:VCALENDAR
VERSION:2.0
PRODID:-//Suq Genova - ECPv6.15.20//NONSGML v1.0//EN
CALSCALE:GREGORIAN
METHOD:PUBLISH
X-ORIGINAL-URL:https://www.suqgenova.it
X-WR-CALDESC:Eventi per Suq Genova
REFRESH-INTERVAL;VALUE=DURATION:PT1H
X-Robots-Tag:noindex
X-PUBLISHED-TTL:PT1H
BEGIN:VTIMEZONE
TZID:UTC
BEGIN:STANDARD
TZOFFSETFROM:+0000
TZOFFSETTO:+0000
TZNAME:UTC
DTSTART:20180101T000000
END:STANDARD
END:VTIMEZONE
BEGIN:VEVENT
DTSTART;TZID=UTC:20191130T170000
DTEND;TZID=UTC:20191130T190000
DTSTAMP:20260420T143153
CREATED:20191126T195734Z
LAST-MODIFIED:20191126T195734Z
UID:10575-1575133200-1575140400@www.suqgenova.it
SUMMARY:CertOSA in rOSA
DESCRIPTION:Nell’ambito del progetto CertOSA Quartiere Condiviso\, continuano gli appuntamenti culturali con la cittadinanza.\nSabato 30 novembre alle ore 17 al Mercato Comunale si terrà un Tea time\, con thè alla cannella e biscotti\, insieme alle associazioni e alle donne della Valpolcevera\, per scambiarci idee e progetti\, per promuovere il no alla violenza e i diritti delle donne\, ricordando la Giornata internazionale contro la violenza sulle donne #25novembre. \nParteciperanno Associazione Sc’Art!\, UDI Unione Donne Italiane\, COLIDOLAT Coordinamento Donne Latino Americane\n\nSarà presentato il progetto “Creazioni al fresco” di inclusione sociale e lavorativa a cura dell’Associazione Sc’Art! \nSi ringrazia Comunità di San Benedetto al Porto \nL’ ingresso è  libero \nA questo link il volantino \nIl Progetto CertOSA Quartiere Condiviso è un progetto di cultura e innovazione civica\, sostenuto per il 65% da Compagnia di San Paolo attraverso il Bando Civica. Buona parte delle iniziative sono a ingresso gratuito\, per le altre sono previsti prezzi contenuti o raccolte fondi occasionali. \nPer saperne di più: tel. 329 20 54579  mail certosa@suqgenova.it \nSeguici su facebook @certosaquartierecondiviso \n\nwww.suqgenova.it
URL:https://www.suqgenova.it/archivio-evento/certosa-in-rosa/
CATEGORIES:CertOSA
ATTACH;FMTTYPE=image/jpeg:https://www.suqgenova.it/wp-content/uploads/2019/11/tea-3-min-e1574801843529.jpg
END:VEVENT
BEGIN:VEVENT
DTSTART;TZID=UTC:20191130T170000
DTEND;TZID=UTC:20191130T190000
DTSTAMP:20260420T143153
CREATED:20191126T195734Z
LAST-MODIFIED:20191126T195734Z
UID:20185-1575133200-1575140400@www.suqgenova.it
SUMMARY:CertOSA in rOSA
DESCRIPTION:Nell’ambito del progetto CertOSA Quartiere Condiviso\, continuano gli appuntamenti culturali con la cittadinanza.\nSabato 30 novembre alle ore 17 al Mercato Comunale si terrà un Tea time\, con thè alla cannella e biscotti\, insieme alle associazioni e alle donne della Valpolcevera\, per scambiarci idee e progetti\, per promuovere il no alla violenza e i diritti delle donne\, ricordando la Giornata internazionale contro la violenza sulle donne #25novembre. \nParteciperanno Associazione Sc’Art!\, UDI Unione Donne Italiane\, COLIDOLAT Coordinamento Donne Latino Americane\n\nSarà presentato il progetto “Creazioni al fresco” di inclusione sociale e lavorativa a cura dell’Associazione Sc’Art! \nSi ringrazia Comunità di San Benedetto al Porto \nL’ ingresso è  libero \nA questo link il volantino \nIl Progetto CertOSA Quartiere Condiviso è un progetto di cultura e innovazione civica\, sostenuto per il 65% da Compagnia di San Paolo attraverso il Bando Civica. Buona parte delle iniziative sono a ingresso gratuito\, per le altre sono previsti prezzi contenuti o raccolte fondi occasionali. \nPer saperne di più: tel. 329 20 54579  mail certosa@suqgenova.it \nSeguici su facebook @certosaquartierecondiviso \n\nwww.suqgenova.it
URL:https://www.suqgenova.it/archivio-evento/certosa-in-rosa-3/
CATEGORIES:CertOSA
ATTACH;FMTTYPE=image/jpeg:https://www.suqgenova.it/wp-content/uploads/2019/11/tea-3-min-e1574801843529.jpg
END:VEVENT
BEGIN:VEVENT
DTSTART;TZID=UTC:20191130T170000
DTEND;TZID=UTC:20191130T190000
DTSTAMP:20260420T143153
CREATED:20191126T195734Z
LAST-MODIFIED:20191126T195734Z
UID:19639-1575133200-1575140400@www.suqgenova.it
SUMMARY:CertOSA in rOSA
DESCRIPTION:Nell’ambito del progetto CertOSA Quartiere Condiviso\, continuano gli appuntamenti culturali con la cittadinanza.\nSabato 30 novembre alle ore 17 al Mercato Comunale si terrà un Tea time\, con thè alla cannella e biscotti\, insieme alle associazioni e alle donne della Valpolcevera\, per scambiarci idee e progetti\, per promuovere il no alla violenza e i diritti delle donne\, ricordando la Giornata internazionale contro la violenza sulle donne #25novembre. \nParteciperanno Associazione Sc’Art!\, UDI Unione Donne Italiane\, COLIDOLAT Coordinamento Donne Latino Americane\n\nSarà presentato il progetto “Creazioni al fresco” di inclusione sociale e lavorativa a cura dell’Associazione Sc’Art! \nSi ringrazia Comunità di San Benedetto al Porto \nL’ ingresso è  libero \nA questo link il volantino \nIl Progetto CertOSA Quartiere Condiviso è un progetto di cultura e innovazione civica\, sostenuto per il 65% da Compagnia di San Paolo attraverso il Bando Civica. Buona parte delle iniziative sono a ingresso gratuito\, per le altre sono previsti prezzi contenuti o raccolte fondi occasionali. \nPer saperne di più: tel. 329 20 54579  mail certosa@suqgenova.it \nSeguici su facebook @certosaquartierecondiviso \n\nwww.suqgenova.it
URL:https://www.suqgenova.it/archivio-evento/certosa-in-rosa-2/
CATEGORIES:CertOSA
ATTACH;FMTTYPE=image/jpeg:https://www.suqgenova.it/wp-content/uploads/2019/11/tea-3-min-e1574801843529.jpg
END:VEVENT
BEGIN:VEVENT
DTSTART;TZID=UTC:20191031T180000
DTEND;TZID=UTC:20191031T213000
DTSTAMP:20260420T143153
CREATED:20191029T140726Z
LAST-MODIFIED:20191029T140726Z
UID:20182-1572544800-1572557400@www.suqgenova.it
SUMMARY:Inaugurazione CertOSA Quartiere Condiviso
DESCRIPTION:Prende il via giovedì 31 alle ore 18 a #Genova #MercatoComunaleCertosa il progetto #CertOSAQuartiereCondiviso\, realizzato con il sostegno della Compagnia di San Paolo nell’ambito del “Bando CivICa”\, progetti di Cultura e Innovazione Civica.\nObiettivo principale è quello di riscoprire il senso di comunità e rigenerare culturalmente un luogo simbolo della vita del quartiere\, il Mercato\, e i suoi dintorni\, con iniziative continuativa da ottobre 2019 a novembre 2020. Capofila è Suq Genova; ne sono Partner il Comune di Genova – Genoa Municipality – Assessorato al Commercio\, Artigianato\, Tutela e Sviluppo Vallate\, Grandi Eventi; il Municipio V Valpolcevera ; la #CooperativaSocialeASCUR; l’ Associazione Meglio Insieme Onlus la Casa del migrante ecuadoriano in Liguria e il #ConsorzioMercatoComunaleCertosa. \nGiovedì 31 a partire dalle 18.00 e sino alle 21.30\, grazie all’apertura straordinaria del Mercato\, ci sarà il lancio con brindisi\, showcooking\, attività e merenda per bambini\, cena conviviale\, canti e danze\nQuesto il programma nel dettaglio:\nore 18 Inaugurazione Progetto CertOSA\nBrindisi con vino e focaccia\nShowcooking Da Halloween al Dia de Muertos a cura di Vittorio Castellani Chef Kumalé\nTradizioni della festa dei morti nel mondo e in Messico\nDegustazioni di mole poblano: pollo al cacao e spezie\nMerenda e laboratori per bambini\nFacciamo insieme lanterne luminose e bamboline Guaguas de pan \nore 19.30 Cena conviviale\nLa cucina genovese e la cucina ecuadoriana si incontrano\nLasagne al pesto; Empanadas\, corviche\, muchines e riso con i gamberetti; Canestrelli\, pandolce e colada morada \nore 20.30 Canti e danze\nCon il Gruppo Spontaneo Trallalero Fans Club e la Casa del migrante ecuadoriano \nTutte le attività sono a ingresso gratuito\, escluso la cena\, che prevede un Prezzo di 10 Euro; 8 Euro per i bambini. \ninfo e prenotazioni tel. 329 2054579 certosa@suqgenova.it\nSi ringrazia Bar Ristorante Tropical Panificio Rivera Ristorante Mamacita’s\n—————————————————————————————–\nOltre al partenariato\, il Progetto comprende un’ampia rete di collaborazioni con realtà territoriali\, sociali e culturali\, come: #ParrocchiaSOCSMariaeSBartolomeodellaCertosa; il #ComitatoLibericittadinidiCertosa; #CentroServiziFamiglia; il #ComitatoQuellidelPonteMorandi; il #CIVCertosa; la #CoopSocialeAgorà; gli Scout Valpolcevera; sul piano artistico l’ #AssociazioneForevergreenFM\, la #ReteItalianadiCulturaPopolare\, l’ #AssociazioneGruppoSpontaneoTrallalero. \n#CertOSAQuartiereCondiviso #CSP_innovazionecivica #InclusioneCSP\n#Certosaèvicina A 10 minuti dal centro con la #Metro #DirezioneBrin aperta anche di sera sino alle 23.40 #passateparola \nLeggi qui il Comunicato stampa\nGuarda il volantino
URL:https://www.suqgenova.it/archivio-evento/inaugurazione-certosa-quartiere-condiviso-3/
CATEGORIES:CertOSA
ATTACH;FMTTYPE=image/jpeg:https://www.suqgenova.it/wp-content/uploads/2019/10/CertOSA_QuartiereCondivisoFoto.jpg
END:VEVENT
BEGIN:VEVENT
DTSTART;TZID=UTC:20191031T180000
DTEND;TZID=UTC:20191031T213000
DTSTAMP:20260420T143153
CREATED:20191029T140726Z
LAST-MODIFIED:20191029T140726Z
UID:19636-1572544800-1572557400@www.suqgenova.it
SUMMARY:Inaugurazione CertOSA Quartiere Condiviso
DESCRIPTION:Prende il via giovedì 31 alle ore 18 a #Genova #MercatoComunaleCertosa il progetto #CertOSAQuartiereCondiviso\, realizzato con il sostegno della Compagnia di San Paolo nell’ambito del “Bando CivICa”\, progetti di Cultura e Innovazione Civica.\nObiettivo principale è quello di riscoprire il senso di comunità e rigenerare culturalmente un luogo simbolo della vita del quartiere\, il Mercato\, e i suoi dintorni\, con iniziative continuativa da ottobre 2019 a novembre 2020. Capofila è Suq Genova; ne sono Partner il Comune di Genova – Genoa Municipality – Assessorato al Commercio\, Artigianato\, Tutela e Sviluppo Vallate\, Grandi Eventi; il Municipio V Valpolcevera ; la #CooperativaSocialeASCUR; l’ Associazione Meglio Insieme Onlus la Casa del migrante ecuadoriano in Liguria e il #ConsorzioMercatoComunaleCertosa. \nGiovedì 31 a partire dalle 18.00 e sino alle 21.30\, grazie all’apertura straordinaria del Mercato\, ci sarà il lancio con brindisi\, showcooking\, attività e merenda per bambini\, cena conviviale\, canti e danze\nQuesto il programma nel dettaglio:\nore 18 Inaugurazione Progetto CertOSA\nBrindisi con vino e focaccia\nShowcooking Da Halloween al Dia de Muertos a cura di Vittorio Castellani Chef Kumalé\nTradizioni della festa dei morti nel mondo e in Messico\nDegustazioni di mole poblano: pollo al cacao e spezie\nMerenda e laboratori per bambini\nFacciamo insieme lanterne luminose e bamboline Guaguas de pan \nore 19.30 Cena conviviale\nLa cucina genovese e la cucina ecuadoriana si incontrano\nLasagne al pesto; Empanadas\, corviche\, muchines e riso con i gamberetti; Canestrelli\, pandolce e colada morada \nore 20.30 Canti e danze\nCon il Gruppo Spontaneo Trallalero Fans Club e la Casa del migrante ecuadoriano \nTutte le attività sono a ingresso gratuito\, escluso la cena\, che prevede un Prezzo di 10 Euro; 8 Euro per i bambini. \ninfo e prenotazioni tel. 329 2054579 certosa@suqgenova.it\nSi ringrazia Bar Ristorante Tropical Panificio Rivera Ristorante Mamacita’s\n—————————————————————————————–\nOltre al partenariato\, il Progetto comprende un’ampia rete di collaborazioni con realtà territoriali\, sociali e culturali\, come: #ParrocchiaSOCSMariaeSBartolomeodellaCertosa; il #ComitatoLibericittadinidiCertosa; #CentroServiziFamiglia; il #ComitatoQuellidelPonteMorandi; il #CIVCertosa; la #CoopSocialeAgorà; gli Scout Valpolcevera; sul piano artistico l’ #AssociazioneForevergreenFM\, la #ReteItalianadiCulturaPopolare\, l’ #AssociazioneGruppoSpontaneoTrallalero. \n#CertOSAQuartiereCondiviso #CSP_innovazionecivica #InclusioneCSP\n#Certosaèvicina A 10 minuti dal centro con la #Metro #DirezioneBrin aperta anche di sera sino alle 23.40 #passateparola \nLeggi qui il Comunicato stampa\nGuarda il volantino
URL:https://www.suqgenova.it/archivio-evento/inaugurazione-certosa-quartiere-condiviso-2/
CATEGORIES:CertOSA
ATTACH;FMTTYPE=image/jpeg:https://www.suqgenova.it/wp-content/uploads/2019/10/CertOSA_QuartiereCondivisoFoto.jpg
END:VEVENT
BEGIN:VEVENT
DTSTART;TZID=UTC:20191031T180000
DTEND;TZID=UTC:20191031T213000
DTSTAMP:20260420T143153
CREATED:20191029T140726Z
LAST-MODIFIED:20191029T140726Z
UID:10461-1572544800-1572557400@www.suqgenova.it
SUMMARY:Inaugurazione CertOSA Quartiere Condiviso
DESCRIPTION:Prende il via giovedì 31 alle ore 18 a #Genova #MercatoComunaleCertosa il progetto #CertOSAQuartiereCondiviso\, realizzato con il sostegno della Compagnia di San Paolo nell’ambito del “Bando CivICa”\, progetti di Cultura e Innovazione Civica.\nObiettivo principale è quello di riscoprire il senso di comunità e rigenerare culturalmente un luogo simbolo della vita del quartiere\, il Mercato\, e i suoi dintorni\, con iniziative continuativa da ottobre 2019 a novembre 2020. Capofila è Suq Genova; ne sono Partner il Comune di Genova – Genoa Municipality – Assessorato al Commercio\, Artigianato\, Tutela e Sviluppo Vallate\, Grandi Eventi; il Municipio V Valpolcevera ; la #CooperativaSocialeASCUR; l’ Associazione Meglio Insieme Onlus la Casa del migrante ecuadoriano in Liguria e il #ConsorzioMercatoComunaleCertosa. \nGiovedì 31 a partire dalle 18.00 e sino alle 21.30\, grazie all’apertura straordinaria del Mercato\, ci sarà il lancio con brindisi\, showcooking\, attività e merenda per bambini\, cena conviviale\, canti e danze\nQuesto il programma nel dettaglio:\nore 18 Inaugurazione Progetto CertOSA\nBrindisi con vino e focaccia\nShowcooking Da Halloween al Dia de Muertos a cura di Vittorio Castellani Chef Kumalé\nTradizioni della festa dei morti nel mondo e in Messico\nDegustazioni di mole poblano: pollo al cacao e spezie\nMerenda e laboratori per bambini\nFacciamo insieme lanterne luminose e bamboline Guaguas de pan \nore 19.30 Cena conviviale\nLa cucina genovese e la cucina ecuadoriana si incontrano\nLasagne al pesto; Empanadas\, corviche\, muchines e riso con i gamberetti; Canestrelli\, pandolce e colada morada \nore 20.30 Canti e danze\nCon il Gruppo Spontaneo Trallalero Fans Club e la Casa del migrante ecuadoriano \nTutte le attività sono a ingresso gratuito\, escluso la cena\, che prevede un Prezzo di 10 Euro; 8 Euro per i bambini. \ninfo e prenotazioni tel. 329 2054579 certosa@suqgenova.it\nSi ringrazia Bar Ristorante Tropical Panificio Rivera Ristorante Mamacita’s\n—————————————————————————————–\nOltre al partenariato\, il Progetto comprende un’ampia rete di collaborazioni con realtà territoriali\, sociali e culturali\, come: #ParrocchiaSOCSMariaeSBartolomeodellaCertosa; il #ComitatoLibericittadinidiCertosa; #CentroServiziFamiglia; il #ComitatoQuellidelPonteMorandi; il #CIVCertosa; la #CoopSocialeAgorà; gli Scout Valpolcevera; sul piano artistico l’ #AssociazioneForevergreenFM\, la #ReteItalianadiCulturaPopolare\, l’ #AssociazioneGruppoSpontaneoTrallalero. \n#CertOSAQuartiereCondiviso #CSP_innovazionecivica #InclusioneCSP\n#Certosaèvicina A 10 minuti dal centro con la #Metro #DirezioneBrin aperta anche di sera sino alle 23.40 #passateparola \nLeggi qui il Comunicato stampa\nGuarda il volantino
URL:https://www.suqgenova.it/archivio-evento/inaugurazione-certosa-quartiere-condiviso/
CATEGORIES:CertOSA
ATTACH;FMTTYPE=image/jpeg:https://www.suqgenova.it/wp-content/uploads/2019/10/CertOSA_QuartiereCondivisoFoto.jpg
END:VEVENT
END:VCALENDAR